BEGIN:VCALENDAR
VERSION:2.0
PRODID:https://www.kufer.de/kuferweb / DE
METHOD:PUBLISH
CALSCALE:GREGORIAN
X-WR-TIMEZONE:Europe/Berlin
BEGIN:VTIMEZONE
TZID:Europe/Berlin
X-LIC-LOCATION:Europe/Berlin
BEGIN:DAYLIGHT
TZOFFSETFROM:+0100
TZOFFSETTO:+0200
TZNAME:CEST
DTSTART:19700329T020000
RRULE:FREQ=YEARLY;INTERVAL=1;BYDAY=-1SU;BYMONTH=3
END:DAYLIGHT
BEGIN:STANDARD
TZOFFSETFROM:+0200
TZOFFSETTO:+0100
TZNAME:CET
DTSTART:19701025T030000
RRULE:FREQ=YEARLY;INTERVAL=1;BYDAY=-1SU;BYMONTH=10
END:STANDARD
END:VTIMEZONE
BEGIN:VEVENT
DTSTAMP:20260422T125419
DTSTART;TZID=Europe/Berlin:20260610T181500
DTEND;TZID=Europe/Berlin:20260610T193000
UID:XSH30121-20260610T181500@VHSCALW
SUMMARY:Vinyasa Yoga Flow Yoga in der Kleingruppe (XSH30121) 
LOCATION:Simmozheim, Kindertagesstätte Max und Moritz, Mörikestr. 1, Mörikestr. 1, 75397 Simmozheim
END:VEVENT
BEGIN:VEVENT
DTSTAMP:20260422T125419
DTSTART;TZID=Europe/Berlin:20260617T181500
DTEND;TZID=Europe/Berlin:20260617T193000
UID:XSH30121-20260617T181500@VHSCALW
SUMMARY:Vinyasa Yoga Flow Yoga in der Kleingruppe (XSH30121) 
LOCATION:Simmozheim, Kindertagesstätte Max und Moritz, Mörikestr. 1, Mörikestr. 1, 75397 Simmozheim
END:VEVENT
BEGIN:VEVENT
DTSTAMP:20260422T125419
DTSTART;TZID=Europe/Berlin:20260624T181500
DTEND;TZID=Europe/Berlin:20260624T193000
UID:XSH30121-20260624T181500@VHSCALW
SUMMARY:Vinyasa Yoga Flow Yoga in der Kleingruppe (XSH30121) 
LOCATION:Simmozheim, Kindertagesstätte Max und Moritz, Mörikestr. 1, Mörikestr. 1, 75397 Simmozheim
END:VEVENT
BEGIN:VEVENT
DTSTAMP:20260422T125419
DTSTART;TZID=Europe/Berlin:20260701T181500
DTEND;TZID=Europe/Berlin:20260701T193000
UID:XSH30121-20260701T181500@VHSCALW
SUMMARY:Vinyasa Yoga Flow Yoga in der Kleingruppe (XSH30121) 
LOCATION:Simmozheim, Kindertagesstätte Max und Moritz, Mörikestr. 1, Mörikestr. 1, 75397 Simmozheim
END:VEVENT
BEGIN:VEVENT
DTSTAMP:20260422T125419
DTSTART;TZID=Europe/Berlin:20260708T181500
DTEND;TZID=Europe/Berlin:20260708T193000
UID:XSH30121-20260708T181500@VHSCALW
SUMMARY:Vinyasa Yoga Flow Yoga in der Kleingruppe (XSH30121) 
LOCATION:Simmozheim, Kindertagesstätte Max und Moritz, Mörikestr. 1, Mörikestr. 1, 75397 Simmozheim
END:VEVENT
BEGIN:VEVENT
DTSTAMP:20260422T125419
DTSTART;TZID=Europe/Berlin:20260715T181500
DTEND;TZID=Europe/Berlin:20260715T193000
UID:XSH30121-20260715T181500@VHSCALW
SUMMARY:Vinyasa Yoga Flow Yoga in der Kleingruppe (XSH30121) 
LOCATION:Simmozheim, Kindertagesstätte Max und Moritz, Mörikestr. 1, Mörikestr. 1, 75397 Simmozheim
END:VEVENT
BEGIN:VEVENT
DTSTAMP:20260422T125419
DTSTART;TZID=Europe/Berlin:20260722T181500
DTEND;TZID=Europe/Berlin:20260722T193000
UID:XSH30121-20260722T181500@VHSCALW
SUMMARY:Vinyasa Yoga Flow Yoga in der Kleingruppe (XSH30121) 
LOCATION:Simmozheim, Kindertagesstätte Max und Moritz, Mörikestr. 1, Mörikestr. 1, 75397 Simmozheim
END:VEVENT
BEGIN:VEVENT
DTSTAMP:20260422T125419
DTSTART;TZID=Europe/Berlin:20260729T181500
DTEND;TZID=Europe/Berlin:20260729T193000
UID:XSH30121-20260729T181500@VHSCALW
SUMMARY:Vinyasa Yoga Flow Yoga in der Kleingruppe (XSH30121) 
LOCATION:Simmozheim, Kindertagesstätte Max und Moritz, Mörikestr. 1, Mörikestr. 1, 75397 Simmozheim
END:VEVENT
END:VCALENDAR