BEGIN:VCALENDAR
VERSION:2.0
PRODID:https://www.kufer.de/kuferweb / DE
METHOD:PUBLISH
CALSCALE:GREGORIAN
X-WR-TIMEZONE:Europe/Berlin
BEGIN:VTIMEZONE
TZID:Europe/Berlin
X-LIC-LOCATION:Europe/Berlin
BEGIN:DAYLIGHT
TZOFFSETFROM:+0100
TZOFFSETTO:+0200
TZNAME:CEST
DTSTART:19700329T020000
RRULE:FREQ=YEARLY;INTERVAL=1;BYDAY=-1SU;BYMONTH=3
END:DAYLIGHT
BEGIN:STANDARD
TZOFFSETFROM:+0200
TZOFFSETTO:+0100
TZNAME:CET
DTSTART:19701025T030000
RRULE:FREQ=YEARLY;INTERVAL=1;BYDAY=-1SU;BYMONTH=10
END:STANDARD
END:VTIMEZONE
BEGIN:VEVENT
DTSTAMP:20260421T142050
DTSTART;TZID=Europe/Berlin:20260429T130000
DTEND;TZID=Europe/Berlin:20260429T143000
UID:XON54544-20260429T130000@VHSCALW
SUMMARY:Job-BSK Bürokommunikation Fachspezifischer Berufssprachkurs Ziel B2+/C1 für Büromitarbeitende (Verwaltung, Buchhaltung, Sachbearbeitung) (XON54544) 
LOCATION:In Zoom von Ihrem Rechner aus
END:VEVENT
BEGIN:VEVENT
DTSTAMP:20260421T142050
DTSTART;TZID=Europe/Berlin:20260504T130000
DTEND;TZID=Europe/Berlin:20260504T143000
UID:XON54544-20260504T130000@VHSCALW
SUMMARY:Job-BSK Bürokommunikation Fachspezifischer Berufssprachkurs Ziel B2+/C1 für Büromitarbeitende (Verwaltung, Buchhaltung, Sachbearbeitung) (XON54544) 
LOCATION:In Zoom von Ihrem Rechner aus
END:VEVENT
BEGIN:VEVENT
DTSTAMP:20260421T142050
DTSTART;TZID=Europe/Berlin:20260506T130000
DTEND;TZID=Europe/Berlin:20260506T143000
UID:XON54544-20260506T130000@VHSCALW
SUMMARY:Job-BSK Bürokommunikation Fachspezifischer Berufssprachkurs Ziel B2+/C1 für Büromitarbeitende (Verwaltung, Buchhaltung, Sachbearbeitung) (XON54544) 
LOCATION:In Zoom von Ihrem Rechner aus
END:VEVENT
BEGIN:VEVENT
DTSTAMP:20260421T142050
DTSTART;TZID=Europe/Berlin:20260511T130000
DTEND;TZID=Europe/Berlin:20260511T143000
UID:XON54544-20260511T130000@VHSCALW
SUMMARY:Job-BSK Bürokommunikation Fachspezifischer Berufssprachkurs Ziel B2+/C1 für Büromitarbeitende (Verwaltung, Buchhaltung, Sachbearbeitung) (XON54544) 
LOCATION:In Zoom von Ihrem Rechner aus
END:VEVENT
BEGIN:VEVENT
DTSTAMP:20260421T142050
DTSTART;TZID=Europe/Berlin:20260513T130000
DTEND;TZID=Europe/Berlin:20260513T143000
UID:XON54544-20260513T130000@VHSCALW
SUMMARY:Job-BSK Bürokommunikation Fachspezifischer Berufssprachkurs Ziel B2+/C1 für Büromitarbeitende (Verwaltung, Buchhaltung, Sachbearbeitung) (XON54544) 
LOCATION:In Zoom von Ihrem Rechner aus
END:VEVENT
BEGIN:VEVENT
DTSTAMP:20260421T142050
DTSTART;TZID=Europe/Berlin:20260518T130000
DTEND;TZID=Europe/Berlin:20260518T143000
UID:XON54544-20260518T130000@VHSCALW
SUMMARY:Job-BSK Bürokommunikation Fachspezifischer Berufssprachkurs Ziel B2+/C1 für Büromitarbeitende (Verwaltung, Buchhaltung, Sachbearbeitung) (XON54544) 
LOCATION:In Zoom von Ihrem Rechner aus
END:VEVENT
BEGIN:VEVENT
DTSTAMP:20260421T142050
DTSTART;TZID=Europe/Berlin:20260520T130000
DTEND;TZID=Europe/Berlin:20260520T143000
UID:XON54544-20260520T130000@VHSCALW
SUMMARY:Job-BSK Bürokommunikation Fachspezifischer Berufssprachkurs Ziel B2+/C1 für Büromitarbeitende (Verwaltung, Buchhaltung, Sachbearbeitung) (XON54544) 
LOCATION:In Zoom von Ihrem Rechner aus
END:VEVENT
BEGIN:VEVENT
DTSTAMP:20260421T142050
DTSTART;TZID=Europe/Berlin:20260527T130000
DTEND;TZID=Europe/Berlin:20260527T143000
UID:XON54544-20260527T130000@VHSCALW
SUMMARY:Job-BSK Bürokommunikation Fachspezifischer Berufssprachkurs Ziel B2+/C1 für Büromitarbeitende (Verwaltung, Buchhaltung, Sachbearbeitung) (XON54544) 
LOCATION:In Zoom von Ihrem Rechner aus
END:VEVENT
BEGIN:VEVENT
DTSTAMP:20260421T142050
DTSTART;TZID=Europe/Berlin:20260601T130000
DTEND;TZID=Europe/Berlin:20260601T143000
UID:XON54544-20260601T130000@VHSCALW
SUMMARY:Job-BSK Bürokommunikation Fachspezifischer Berufssprachkurs Ziel B2+/C1 für Büromitarbeitende (Verwaltung, Buchhaltung, Sachbearbeitung) (XON54544) 
LOCATION:In Zoom von Ihrem Rechner aus
END:VEVENT
BEGIN:VEVENT
DTSTAMP:20260421T142050
DTSTART;TZID=Europe/Berlin:20260603T130000
DTEND;TZID=Europe/Berlin:20260603T143000
UID:XON54544-20260603T130000@VHSCALW
SUMMARY:Job-BSK Bürokommunikation Fachspezifischer Berufssprachkurs Ziel B2+/C1 für Büromitarbeitende (Verwaltung, Buchhaltung, Sachbearbeitung) (XON54544) 
LOCATION:In Zoom von Ihrem Rechner aus
END:VEVENT
BEGIN:VEVENT
DTSTAMP:20260421T142050
DTSTART;TZID=Europe/Berlin:20260608T130000
DTEND;TZID=Europe/Berlin:20260608T143000
UID:XON54544-20260608T130000@VHSCALW
SUMMARY:Job-BSK Bürokommunikation Fachspezifischer Berufssprachkurs Ziel B2+/C1 für Büromitarbeitende (Verwaltung, Buchhaltung, Sachbearbeitung) (XON54544) 
LOCATION:In Zoom von Ihrem Rechner aus
END:VEVENT
BEGIN:VEVENT
DTSTAMP:20260421T142050
DTSTART;TZID=Europe/Berlin:20260610T130000
DTEND;TZID=Europe/Berlin:20260610T143000
UID:XON54544-20260610T130000@VHSCALW
SUMMARY:Job-BSK Bürokommunikation Fachspezifischer Berufssprachkurs Ziel B2+/C1 für Büromitarbeitende (Verwaltung, Buchhaltung, Sachbearbeitung) (XON54544) 
LOCATION:In Zoom von Ihrem Rechner aus
END:VEVENT
BEGIN:VEVENT
DTSTAMP:20260421T142050
DTSTART;TZID=Europe/Berlin:20260615T130000
DTEND;TZID=Europe/Berlin:20260615T143000
UID:XON54544-20260615T130000@VHSCALW
SUMMARY:Job-BSK Bürokommunikation Fachspezifischer Berufssprachkurs Ziel B2+/C1 für Büromitarbeitende (Verwaltung, Buchhaltung, Sachbearbeitung) (XON54544) 
LOCATION:In Zoom von Ihrem Rechner aus
END:VEVENT
BEGIN:VEVENT
DTSTAMP:20260421T142050
DTSTART;TZID=Europe/Berlin:20260617T130000
DTEND;TZID=Europe/Berlin:20260617T143000
UID:XON54544-20260617T130000@VHSCALW
SUMMARY:Job-BSK Bürokommunikation Fachspezifischer Berufssprachkurs Ziel B2+/C1 für Büromitarbeitende (Verwaltung, Buchhaltung, Sachbearbeitung) (XON54544) 
LOCATION:In Zoom von Ihrem Rechner aus
END:VEVENT
BEGIN:VEVENT
DTSTAMP:20260421T142050
DTSTART;TZID=Europe/Berlin:20260622T130000
DTEND;TZID=Europe/Berlin:20260622T143000
UID:XON54544-20260622T130000@VHSCALW
SUMMARY:Job-BSK Bürokommunikation Fachspezifischer Berufssprachkurs Ziel B2+/C1 für Büromitarbeitende (Verwaltung, Buchhaltung, Sachbearbeitung) (XON54544) 
LOCATION:In Zoom von Ihrem Rechner aus
END:VEVENT
BEGIN:VEVENT
DTSTAMP:20260421T142050
DTSTART;TZID=Europe/Berlin:20260624T130000
DTEND;TZID=Europe/Berlin:20260624T143000
UID:XON54544-20260624T130000@VHSCALW
SUMMARY:Job-BSK Bürokommunikation Fachspezifischer Berufssprachkurs Ziel B2+/C1 für Büromitarbeitende (Verwaltung, Buchhaltung, Sachbearbeitung) (XON54544) 
LOCATION:In Zoom von Ihrem Rechner aus
END:VEVENT
BEGIN:VEVENT
DTSTAMP:20260421T142050
DTSTART;TZID=Europe/Berlin:20260629T130000
DTEND;TZID=Europe/Berlin:20260629T143000
UID:XON54544-20260629T130000@VHSCALW
SUMMARY:Job-BSK Bürokommunikation Fachspezifischer Berufssprachkurs Ziel B2+/C1 für Büromitarbeitende (Verwaltung, Buchhaltung, Sachbearbeitung) (XON54544) 
LOCATION:In Zoom von Ihrem Rechner aus
END:VEVENT
BEGIN:VEVENT
DTSTAMP:20260421T142050
DTSTART;TZID=Europe/Berlin:20260701T130000
DTEND;TZID=Europe/Berlin:20260701T143000
UID:XON54544-20260701T130000@VHSCALW
SUMMARY:Job-BSK Bürokommunikation Fachspezifischer Berufssprachkurs Ziel B2+/C1 für Büromitarbeitende (Verwaltung, Buchhaltung, Sachbearbeitung) (XON54544) 
LOCATION:In Zoom von Ihrem Rechner aus
END:VEVENT
BEGIN:VEVENT
DTSTAMP:20260421T142050
DTSTART;TZID=Europe/Berlin:20260706T130000
DTEND;TZID=Europe/Berlin:20260706T143000
UID:XON54544-20260706T130000@VHSCALW
SUMMARY:Job-BSK Bürokommunikation Fachspezifischer Berufssprachkurs Ziel B2+/C1 für Büromitarbeitende (Verwaltung, Buchhaltung, Sachbearbeitung) (XON54544) 
LOCATION:In Zoom von Ihrem Rechner aus
END:VEVENT
BEGIN:VEVENT
DTSTAMP:20260421T142050
DTSTART;TZID=Europe/Berlin:20260708T130000
DTEND;TZID=Europe/Berlin:20260708T143000
UID:XON54544-20260708T130000@VHSCALW
SUMMARY:Job-BSK Bürokommunikation Fachspezifischer Berufssprachkurs Ziel B2+/C1 für Büromitarbeitende (Verwaltung, Buchhaltung, Sachbearbeitung) (XON54544) 
LOCATION:In Zoom von Ihrem Rechner aus
END:VEVENT
BEGIN:VEVENT
DTSTAMP:20260421T142050
DTSTART;TZID=Europe/Berlin:20260713T130000
DTEND;TZID=Europe/Berlin:20260713T143000
UID:XON54544-20260713T130000@VHSCALW
SUMMARY:Job-BSK Bürokommunikation Fachspezifischer Berufssprachkurs Ziel B2+/C1 für Büromitarbeitende (Verwaltung, Buchhaltung, Sachbearbeitung) (XON54544) 
LOCATION:In Zoom von Ihrem Rechner aus
END:VEVENT
BEGIN:VEVENT
DTSTAMP:20260421T142050
DTSTART;TZID=Europe/Berlin:20260715T130000
DTEND;TZID=Europe/Berlin:20260715T143000
UID:XON54544-20260715T130000@VHSCALW
SUMMARY:Job-BSK Bürokommunikation Fachspezifischer Berufssprachkurs Ziel B2+/C1 für Büromitarbeitende (Verwaltung, Buchhaltung, Sachbearbeitung) (XON54544) 
LOCATION:In Zoom von Ihrem Rechner aus
END:VEVENT
BEGIN:VEVENT
DTSTAMP:20260421T142050
DTSTART;TZID=Europe/Berlin:20260720T130000
DTEND;TZID=Europe/Berlin:20260720T143000
UID:XON54544-20260720T130000@VHSCALW
SUMMARY:Job-BSK Bürokommunikation Fachspezifischer Berufssprachkurs Ziel B2+/C1 für Büromitarbeitende (Verwaltung, Buchhaltung, Sachbearbeitung) (XON54544) 
LOCATION:In Zoom von Ihrem Rechner aus
END:VEVENT
BEGIN:VEVENT
DTSTAMP:20260421T142050
DTSTART;TZID=Europe/Berlin:20260722T130000
DTEND;TZID=Europe/Berlin:20260722T143000
UID:XON54544-20260722T130000@VHSCALW
SUMMARY:Job-BSK Bürokommunikation Fachspezifischer Berufssprachkurs Ziel B2+/C1 für Büromitarbeitende (Verwaltung, Buchhaltung, Sachbearbeitung) (XON54544) 
LOCATION:In Zoom von Ihrem Rechner aus
END:VEVENT
BEGIN:VEVENT
DTSTAMP:20260421T142050
DTSTART;TZID=Europe/Berlin:20260727T130000
DTEND;TZID=Europe/Berlin:20260727T143000
UID:XON54544-20260727T130000@VHSCALW
SUMMARY:Job-BSK Bürokommunikation Fachspezifischer Berufssprachkurs Ziel B2+/C1 für Büromitarbeitende (Verwaltung, Buchhaltung, Sachbearbeitung) (XON54544) 
LOCATION:In Zoom von Ihrem Rechner aus
END:VEVENT
BEGIN:VEVENT
DTSTAMP:20260421T142050
DTSTART;TZID=Europe/Berlin:20260729T130000
DTEND;TZID=Europe/Berlin:20260729T143000
UID:XON54544-20260729T130000@VHSCALW
SUMMARY:Job-BSK Bürokommunikation Fachspezifischer Berufssprachkurs Ziel B2+/C1 für Büromitarbeitende (Verwaltung, Buchhaltung, Sachbearbeitung) (XON54544) 
LOCATION:In Zoom von Ihrem Rechner aus
END:VEVENT
BEGIN:VEVENT
DTSTAMP:20260421T142050
DTSTART;TZID=Europe/Berlin:20260902T130000
DTEND;TZID=Europe/Berlin:20260902T143000
UID:XON54544-20260902T130000@VHSCALW
SUMMARY:Job-BSK Bürokommunikation Fachspezifischer Berufssprachkurs Ziel B2+/C1 für Büromitarbeitende (Verwaltung, Buchhaltung, Sachbearbeitung) (XON54544) 
LOCATION:In Zoom von Ihrem Rechner aus
END:VEVENT
BEGIN:VEVENT
DTSTAMP:20260421T142050
DTSTART;TZID=Europe/Berlin:20260907T130000
DTEND;TZID=Europe/Berlin:20260907T143000
UID:XON54544-20260907T130000@VHSCALW
SUMMARY:Job-BSK Bürokommunikation Fachspezifischer Berufssprachkurs Ziel B2+/C1 für Büromitarbeitende (Verwaltung, Buchhaltung, Sachbearbeitung) (XON54544) 
LOCATION:In Zoom von Ihrem Rechner aus
END:VEVENT
BEGIN:VEVENT
DTSTAMP:20260421T142050
DTSTART;TZID=Europe/Berlin:20260909T130000
DTEND;TZID=Europe/Berlin:20260909T143000
UID:XON54544-20260909T130000@VHSCALW
SUMMARY:Job-BSK Bürokommunikation Fachspezifischer Berufssprachkurs Ziel B2+/C1 für Büromitarbeitende (Verwaltung, Buchhaltung, Sachbearbeitung) (XON54544) 
LOCATION:In Zoom von Ihrem Rechner aus
END:VEVENT
BEGIN:VEVENT
DTSTAMP:20260421T142050
DTSTART;TZID=Europe/Berlin:20260914T130000
DTEND;TZID=Europe/Berlin:20260914T143000
UID:XON54544-20260914T130000@VHSCALW
SUMMARY:Job-BSK Bürokommunikation Fachspezifischer Berufssprachkurs Ziel B2+/C1 für Büromitarbeitende (Verwaltung, Buchhaltung, Sachbearbeitung) (XON54544) 
LOCATION:In Zoom von Ihrem Rechner aus
END:VEVENT
BEGIN:VEVENT
DTSTAMP:20260421T142050
DTSTART;TZID=Europe/Berlin:20260916T130000
DTEND;TZID=Europe/Berlin:20260916T143000
UID:XON54544-20260916T130000@VHSCALW
SUMMARY:Job-BSK Bürokommunikation Fachspezifischer Berufssprachkurs Ziel B2+/C1 für Büromitarbeitende (Verwaltung, Buchhaltung, Sachbearbeitung) (XON54544) 
LOCATION:In Zoom von Ihrem Rechner aus
END:VEVENT
BEGIN:VEVENT
DTSTAMP:20260421T142050
DTSTART;TZID=Europe/Berlin:20260921T130000
DTEND;TZID=Europe/Berlin:20260921T143000
UID:XON54544-20260921T130000@VHSCALW
SUMMARY:Job-BSK Bürokommunikation Fachspezifischer Berufssprachkurs Ziel B2+/C1 für Büromitarbeitende (Verwaltung, Buchhaltung, Sachbearbeitung) (XON54544) 
LOCATION:In Zoom von Ihrem Rechner aus
END:VEVENT
BEGIN:VEVENT
DTSTAMP:20260421T142050
DTSTART;TZID=Europe/Berlin:20260923T130000
DTEND;TZID=Europe/Berlin:20260923T143000
UID:XON54544-20260923T130000@VHSCALW
SUMMARY:Job-BSK Bürokommunikation Fachspezifischer Berufssprachkurs Ziel B2+/C1 für Büromitarbeitende (Verwaltung, Buchhaltung, Sachbearbeitung) (XON54544) 
LOCATION:In Zoom von Ihrem Rechner aus
END:VEVENT
BEGIN:VEVENT
DTSTAMP:20260421T142050
DTSTART;TZID=Europe/Berlin:20260928T130000
DTEND;TZID=Europe/Berlin:20260928T143000
UID:XON54544-20260928T130000@VHSCALW
SUMMARY:Job-BSK Bürokommunikation Fachspezifischer Berufssprachkurs Ziel B2+/C1 für Büromitarbeitende (Verwaltung, Buchhaltung, Sachbearbeitung) (XON54544) 
LOCATION:In Zoom von Ihrem Rechner aus
END:VEVENT
BEGIN:VEVENT
DTSTAMP:20260421T142050
DTSTART;TZID=Europe/Berlin:20260930T130000
DTEND;TZID=Europe/Berlin:20260930T143000
UID:XON54544-20260930T130000@VHSCALW
SUMMARY:Job-BSK Bürokommunikation Fachspezifischer Berufssprachkurs Ziel B2+/C1 für Büromitarbeitende (Verwaltung, Buchhaltung, Sachbearbeitung) (XON54544) 
LOCATION:In Zoom von Ihrem Rechner aus
END:VEVENT
BEGIN:VEVENT
DTSTAMP:20260421T142050
DTSTART;TZID=Europe/Berlin:20261005T130000
DTEND;TZID=Europe/Berlin:20261005T143000
UID:XON54544-20261005T130000@VHSCALW
SUMMARY:Job-BSK Bürokommunikation Fachspezifischer Berufssprachkurs Ziel B2+/C1 für Büromitarbeitende (Verwaltung, Buchhaltung, Sachbearbeitung) (XON54544) 
LOCATION:In Zoom von Ihrem Rechner aus
END:VEVENT
BEGIN:VEVENT
DTSTAMP:20260421T142050
DTSTART;TZID=Europe/Berlin:20261007T130000
DTEND;TZID=Europe/Berlin:20261007T143000
UID:XON54544-20261007T130000@VHSCALW
SUMMARY:Job-BSK Bürokommunikation Fachspezifischer Berufssprachkurs Ziel B2+/C1 für Büromitarbeitende (Verwaltung, Buchhaltung, Sachbearbeitung) (XON54544) 
LOCATION:In Zoom von Ihrem Rechner aus
END:VEVENT
BEGIN:VEVENT
DTSTAMP:20260421T142050
DTSTART;TZID=Europe/Berlin:20261012T130000
DTEND;TZID=Europe/Berlin:20261012T143000
UID:XON54544-20261012T130000@VHSCALW
SUMMARY:Job-BSK Bürokommunikation Fachspezifischer Berufssprachkurs Ziel B2+/C1 für Büromitarbeitende (Verwaltung, Buchhaltung, Sachbearbeitung) (XON54544) 
LOCATION:In Zoom von Ihrem Rechner aus
END:VEVENT
BEGIN:VEVENT
DTSTAMP:20260421T142050
DTSTART;TZID=Europe/Berlin:20261014T130000
DTEND;TZID=Europe/Berlin:20261014T143000
UID:XON54544-20261014T130000@VHSCALW
SUMMARY:Job-BSK Bürokommunikation Fachspezifischer Berufssprachkurs Ziel B2+/C1 für Büromitarbeitende (Verwaltung, Buchhaltung, Sachbearbeitung) (XON54544) 
LOCATION:In Zoom von Ihrem Rechner aus
END:VEVENT
BEGIN:VEVENT
DTSTAMP:20260421T142050
DTSTART;TZID=Europe/Berlin:20261019T130000
DTEND;TZID=Europe/Berlin:20261019T143000
UID:XON54544-20261019T130000@VHSCALW
SUMMARY:Job-BSK Bürokommunikation Fachspezifischer Berufssprachkurs Ziel B2+/C1 für Büromitarbeitende (Verwaltung, Buchhaltung, Sachbearbeitung) (XON54544) 
LOCATION:In Zoom von Ihrem Rechner aus
END:VEVENT
BEGIN:VEVENT
DTSTAMP:20260421T142050
DTSTART;TZID=Europe/Berlin:20261021T130000
DTEND;TZID=Europe/Berlin:20261021T143000
UID:XON54544-20261021T130000@VHSCALW
SUMMARY:Job-BSK Bürokommunikation Fachspezifischer Berufssprachkurs Ziel B2+/C1 für Büromitarbeitende (Verwaltung, Buchhaltung, Sachbearbeitung) (XON54544) 
LOCATION:In Zoom von Ihrem Rechner aus
END:VEVENT
BEGIN:VEVENT
DTSTAMP:20260421T142050
DTSTART;TZID=Europe/Berlin:20261026T130000
DTEND;TZID=Europe/Berlin:20261026T143000
UID:XON54544-20261026T130000@VHSCALW
SUMMARY:Job-BSK Bürokommunikation Fachspezifischer Berufssprachkurs Ziel B2+/C1 für Büromitarbeitende (Verwaltung, Buchhaltung, Sachbearbeitung) (XON54544) 
LOCATION:In Zoom von Ihrem Rechner aus
END:VEVENT
BEGIN:VEVENT
DTSTAMP:20260421T142050
DTSTART;TZID=Europe/Berlin:20261028T130000
DTEND;TZID=Europe/Berlin:20261028T143000
UID:XON54544-20261028T130000@VHSCALW
SUMMARY:Job-BSK Bürokommunikation Fachspezifischer Berufssprachkurs Ziel B2+/C1 für Büromitarbeitende (Verwaltung, Buchhaltung, Sachbearbeitung) (XON54544) 
LOCATION:In Zoom von Ihrem Rechner aus
END:VEVENT
BEGIN:VEVENT
DTSTAMP:20260421T142050
DTSTART;TZID=Europe/Berlin:20261102T130000
DTEND;TZID=Europe/Berlin:20261102T143000
UID:XON54544-20261102T130000@VHSCALW
SUMMARY:Job-BSK Bürokommunikation Fachspezifischer Berufssprachkurs Ziel B2+/C1 für Büromitarbeitende (Verwaltung, Buchhaltung, Sachbearbeitung) (XON54544) 
LOCATION:In Zoom von Ihrem Rechner aus
END:VEVENT
BEGIN:VEVENT
DTSTAMP:20260421T142050
DTSTART;TZID=Europe/Berlin:20261104T130000
DTEND;TZID=Europe/Berlin:20261104T143000
UID:XON54544-20261104T130000@VHSCALW
SUMMARY:Job-BSK Bürokommunikation Fachspezifischer Berufssprachkurs Ziel B2+/C1 für Büromitarbeitende (Verwaltung, Buchhaltung, Sachbearbeitung) (XON54544) 
LOCATION:In Zoom von Ihrem Rechner aus
END:VEVENT
BEGIN:VEVENT
DTSTAMP:20260421T142050
DTSTART;TZID=Europe/Berlin:20261109T130000
DTEND;TZID=Europe/Berlin:20261109T143000
UID:XON54544-20261109T130000@VHSCALW
SUMMARY:Job-BSK Bürokommunikation Fachspezifischer Berufssprachkurs Ziel B2+/C1 für Büromitarbeitende (Verwaltung, Buchhaltung, Sachbearbeitung) (XON54544) 
LOCATION:In Zoom von Ihrem Rechner aus
END:VEVENT
BEGIN:VEVENT
DTSTAMP:20260421T142050
DTSTART;TZID=Europe/Berlin:20261111T130000
DTEND;TZID=Europe/Berlin:20261111T143000
UID:XON54544-20261111T130000@VHSCALW
SUMMARY:Job-BSK Bürokommunikation Fachspezifischer Berufssprachkurs Ziel B2+/C1 für Büromitarbeitende (Verwaltung, Buchhaltung, Sachbearbeitung) (XON54544) 
LOCATION:In Zoom von Ihrem Rechner aus
END:VEVENT
BEGIN:VEVENT
DTSTAMP:20260421T142050
DTSTART;TZID=Europe/Berlin:20261116T130000
DTEND;TZID=Europe/Berlin:20261116T143000
UID:XON54544-20261116T130000@VHSCALW
SUMMARY:Job-BSK Bürokommunikation Fachspezifischer Berufssprachkurs Ziel B2+/C1 für Büromitarbeitende (Verwaltung, Buchhaltung, Sachbearbeitung) (XON54544) 
LOCATION:In Zoom von Ihrem Rechner aus
END:VEVENT
BEGIN:VEVENT
DTSTAMP:20260421T142050
DTSTART;TZID=Europe/Berlin:20261118T130000
DTEND;TZID=Europe/Berlin:20261118T143000
UID:XON54544-20261118T130000@VHSCALW
SUMMARY:Job-BSK Bürokommunikation Fachspezifischer Berufssprachkurs Ziel B2+/C1 für Büromitarbeitende (Verwaltung, Buchhaltung, Sachbearbeitung) (XON54544) 
LOCATION:In Zoom von Ihrem Rechner aus
END:VEVENT
BEGIN:VEVENT
DTSTAMP:20260421T142050
DTSTART;TZID=Europe/Berlin:20261123T130000
DTEND;TZID=Europe/Berlin:20261123T143000
UID:XON54544-20261123T130000@VHSCALW
SUMMARY:Job-BSK Bürokommunikation Fachspezifischer Berufssprachkurs Ziel B2+/C1 für Büromitarbeitende (Verwaltung, Buchhaltung, Sachbearbeitung) (XON54544) 
LOCATION:In Zoom von Ihrem Rechner aus
END:VEVENT
BEGIN:VEVENT
DTSTAMP:20260421T142050
DTSTART;TZID=Europe/Berlin:20261125T130000
DTEND;TZID=Europe/Berlin:20261125T143000
UID:XON54544-20261125T130000@VHSCALW
SUMMARY:Job-BSK Bürokommunikation Fachspezifischer Berufssprachkurs Ziel B2+/C1 für Büromitarbeitende (Verwaltung, Buchhaltung, Sachbearbeitung) (XON54544) 
LOCATION:In Zoom von Ihrem Rechner aus
END:VEVENT
BEGIN:VEVENT
DTSTAMP:20260421T142050
DTSTART;TZID=Europe/Berlin:20261130T130000
DTEND;TZID=Europe/Berlin:20261130T143000
UID:XON54544-20261130T130000@VHSCALW
SUMMARY:Job-BSK Bürokommunikation Fachspezifischer Berufssprachkurs Ziel B2+/C1 für Büromitarbeitende (Verwaltung, Buchhaltung, Sachbearbeitung) (XON54544) 
LOCATION:In Zoom von Ihrem Rechner aus
END:VEVENT
BEGIN:VEVENT
DTSTAMP:20260421T142050
DTSTART;TZID=Europe/Berlin:20261202T130000
DTEND;TZID=Europe/Berlin:20261202T143000
UID:XON54544-20261202T130000@VHSCALW
SUMMARY:Job-BSK Bürokommunikation Fachspezifischer Berufssprachkurs Ziel B2+/C1 für Büromitarbeitende (Verwaltung, Buchhaltung, Sachbearbeitung) (XON54544) 
LOCATION:In Zoom von Ihrem Rechner aus
END:VEVENT
BEGIN:VEVENT
DTSTAMP:20260421T142050
DTSTART;TZID=Europe/Berlin:20261207T130000
DTEND;TZID=Europe/Berlin:20261207T143000
UID:XON54544-20261207T130000@VHSCALW
SUMMARY:Job-BSK Bürokommunikation Fachspezifischer Berufssprachkurs Ziel B2+/C1 für Büromitarbeitende (Verwaltung, Buchhaltung, Sachbearbeitung) (XON54544) 
LOCATION:In Zoom von Ihrem Rechner aus
END:VEVENT
BEGIN:VEVENT
DTSTAMP:20260421T142050
DTSTART;TZID=Europe/Berlin:20261209T130000
DTEND;TZID=Europe/Berlin:20261209T143000
UID:XON54544-20261209T130000@VHSCALW
SUMMARY:Job-BSK Bürokommunikation Fachspezifischer Berufssprachkurs Ziel B2+/C1 für Büromitarbeitende (Verwaltung, Buchhaltung, Sachbearbeitung) (XON54544) 
LOCATION:In Zoom von Ihrem Rechner aus
END:VEVENT
BEGIN:VEVENT
DTSTAMP:20260421T142050
DTSTART;TZID=Europe/Berlin:20261214T130000
DTEND;TZID=Europe/Berlin:20261214T143000
UID:XON54544-20261214T130000@VHSCALW
SUMMARY:Job-BSK Bürokommunikation Fachspezifischer Berufssprachkurs Ziel B2+/C1 für Büromitarbeitende (Verwaltung, Buchhaltung, Sachbearbeitung) (XON54544) 
LOCATION:In Zoom von Ihrem Rechner aus
END:VEVENT
BEGIN:VEVENT
DTSTAMP:20260421T142050
DTSTART;TZID=Europe/Berlin:20261216T130000
DTEND;TZID=Europe/Berlin:20261216T143000
UID:XON54544-20261216T130000@VHSCALW
SUMMARY:Job-BSK Bürokommunikation Fachspezifischer Berufssprachkurs Ziel B2+/C1 für Büromitarbeitende (Verwaltung, Buchhaltung, Sachbearbeitung) (XON54544) 
LOCATION:In Zoom von Ihrem Rechner aus
END:VEVENT
BEGIN:VEVENT
DTSTAMP:20260421T142050
DTSTART;TZID=Europe/Berlin:20261221T130000
DTEND;TZID=Europe/Berlin:20261221T143000
UID:XON54544-20261221T130000@VHSCALW
SUMMARY:Job-BSK Bürokommunikation Fachspezifischer Berufssprachkurs Ziel B2+/C1 für Büromitarbeitende (Verwaltung, Buchhaltung, Sachbearbeitung) (XON54544) 
LOCATION:In Zoom von Ihrem Rechner aus
END:VEVENT
BEGIN:VEVENT
DTSTAMP:20260421T142050
DTSTART;TZID=Europe/Berlin:20261223T130000
DTEND;TZID=Europe/Berlin:20261223T143000
UID:XON54544-20261223T130000@VHSCALW
SUMMARY:Job-BSK Bürokommunikation Fachspezifischer Berufssprachkurs Ziel B2+/C1 für Büromitarbeitende (Verwaltung, Buchhaltung, Sachbearbeitung) (XON54544) 
LOCATION:In Zoom von Ihrem Rechner aus
END:VEVENT
BEGIN:VEVENT
DTSTAMP:20260421T142050
DTSTART;TZID=Europe/Berlin:20270111T130000
DTEND;TZID=Europe/Berlin:20270111T143000
UID:XON54544-20270111T130000@VHSCALW
SUMMARY:Job-BSK Bürokommunikation Fachspezifischer Berufssprachkurs Ziel B2+/C1 für Büromitarbeitende (Verwaltung, Buchhaltung, Sachbearbeitung) (XON54544) 
LOCATION:In Zoom von Ihrem Rechner aus
END:VEVENT
BEGIN:VEVENT
DTSTAMP:20260421T142050
DTSTART;TZID=Europe/Berlin:20270113T130000
DTEND;TZID=Europe/Berlin:20270113T143000
UID:XON54544-20270113T130000@VHSCALW
SUMMARY:Job-BSK Bürokommunikation Fachspezifischer Berufssprachkurs Ziel B2+/C1 für Büromitarbeitende (Verwaltung, Buchhaltung, Sachbearbeitung) (XON54544) 
LOCATION:In Zoom von Ihrem Rechner aus
END:VEVENT
BEGIN:VEVENT
DTSTAMP:20260421T142050
DTSTART;TZID=Europe/Berlin:20270118T130000
DTEND;TZID=Europe/Berlin:20270118T143000
UID:XON54544-20270118T130000@VHSCALW
SUMMARY:Job-BSK Bürokommunikation Fachspezifischer Berufssprachkurs Ziel B2+/C1 für Büromitarbeitende (Verwaltung, Buchhaltung, Sachbearbeitung) (XON54544) 
LOCATION:In Zoom von Ihrem Rechner aus
END:VEVENT
BEGIN:VEVENT
DTSTAMP:20260421T142050
DTSTART;TZID=Europe/Berlin:20270120T130000
DTEND;TZID=Europe/Berlin:20270120T143000
UID:XON54544-20270120T130000@VHSCALW
SUMMARY:Job-BSK Bürokommunikation Fachspezifischer Berufssprachkurs Ziel B2+/C1 für Büromitarbeitende (Verwaltung, Buchhaltung, Sachbearbeitung) (XON54544) 
LOCATION:In Zoom von Ihrem Rechner aus
END:VEVENT
BEGIN:VEVENT
DTSTAMP:20260421T142050
DTSTART;TZID=Europe/Berlin:20270125T130000
DTEND;TZID=Europe/Berlin:20270125T143000
UID:XON54544-20270125T130000@VHSCALW
SUMMARY:Job-BSK Bürokommunikation Fachspezifischer Berufssprachkurs Ziel B2+/C1 für Büromitarbeitende (Verwaltung, Buchhaltung, Sachbearbeitung) (XON54544) 
LOCATION:In Zoom von Ihrem Rechner aus
END:VEVENT
BEGIN:VEVENT
DTSTAMP:20260421T142050
DTSTART;TZID=Europe/Berlin:20270127T130000
DTEND;TZID=Europe/Berlin:20270127T143000
UID:XON54544-20270127T130000@VHSCALW
SUMMARY:Job-BSK Bürokommunikation Fachspezifischer Berufssprachkurs Ziel B2+/C1 für Büromitarbeitende (Verwaltung, Buchhaltung, Sachbearbeitung) (XON54544) 
LOCATION:In Zoom von Ihrem Rechner aus
END:VEVENT
BEGIN:VEVENT
DTSTAMP:20260421T142050
DTSTART;TZID=Europe/Berlin:20270201T130000
DTEND;TZID=Europe/Berlin:20270201T143000
UID:XON54544-20270201T130000@VHSCALW
SUMMARY:Job-BSK Bürokommunikation Fachspezifischer Berufssprachkurs Ziel B2+/C1 für Büromitarbeitende (Verwaltung, Buchhaltung, Sachbearbeitung) (XON54544) 
LOCATION:In Zoom von Ihrem Rechner aus
END:VEVENT
BEGIN:VEVENT
DTSTAMP:20260421T142050
DTSTART;TZID=Europe/Berlin:20270203T130000
DTEND;TZID=Europe/Berlin:20270203T143000
UID:XON54544-20270203T130000@VHSCALW
SUMMARY:Job-BSK Bürokommunikation Fachspezifischer Berufssprachkurs Ziel B2+/C1 für Büromitarbeitende (Verwaltung, Buchhaltung, Sachbearbeitung) (XON54544) 
LOCATION:In Zoom von Ihrem Rechner aus
END:VEVENT
BEGIN:VEVENT
DTSTAMP:20260421T142050
DTSTART;TZID=Europe/Berlin:20270208T130000
DTEND;TZID=Europe/Berlin:20270208T143000
UID:XON54544-20270208T130000@VHSCALW
SUMMARY:Job-BSK Bürokommunikation Fachspezifischer Berufssprachkurs Ziel B2+/C1 für Büromitarbeitende (Verwaltung, Buchhaltung, Sachbearbeitung) (XON54544) 
LOCATION:In Zoom von Ihrem Rechner aus
END:VEVENT
BEGIN:VEVENT
DTSTAMP:20260421T142050
DTSTART;TZID=Europe/Berlin:20270210T130000
DTEND;TZID=Europe/Berlin:20270210T143000
UID:XON54544-20270210T130000@VHSCALW
SUMMARY:Job-BSK Bürokommunikation Fachspezifischer Berufssprachkurs Ziel B2+/C1 für Büromitarbeitende (Verwaltung, Buchhaltung, Sachbearbeitung) (XON54544) 
LOCATION:In Zoom von Ihrem Rechner aus
END:VEVENT
BEGIN:VEVENT
DTSTAMP:20260421T142050
DTSTART;TZID=Europe/Berlin:20270215T130000
DTEND;TZID=Europe/Berlin:20270215T143000
UID:XON54544-20270215T130000@VHSCALW
SUMMARY:Job-BSK Bürokommunikation Fachspezifischer Berufssprachkurs Ziel B2+/C1 für Büromitarbeitende (Verwaltung, Buchhaltung, Sachbearbeitung) (XON54544) 
LOCATION:In Zoom von Ihrem Rechner aus
END:VEVENT
BEGIN:VEVENT
DTSTAMP:20260421T142050
DTSTART;TZID=Europe/Berlin:20270217T130000
DTEND;TZID=Europe/Berlin:20270217T143000
UID:XON54544-20270217T130000@VHSCALW
SUMMARY:Job-BSK Bürokommunikation Fachspezifischer Berufssprachkurs Ziel B2+/C1 für Büromitarbeitende (Verwaltung, Buchhaltung, Sachbearbeitung) (XON54544) 
LOCATION:In Zoom von Ihrem Rechner aus
END:VEVENT
BEGIN:VEVENT
DTSTAMP:20260421T142050
DTSTART;TZID=Europe/Berlin:20270222T130000
DTEND;TZID=Europe/Berlin:20270222T143000
UID:XON54544-20270222T130000@VHSCALW
SUMMARY:Job-BSK Bürokommunikation Fachspezifischer Berufssprachkurs Ziel B2+/C1 für Büromitarbeitende (Verwaltung, Buchhaltung, Sachbearbeitung) (XON54544) 
LOCATION:In Zoom von Ihrem Rechner aus
END:VEVENT
BEGIN:VEVENT
DTSTAMP:20260421T142050
DTSTART;TZID=Europe/Berlin:20270224T130000
DTEND;TZID=Europe/Berlin:20270224T143000
UID:XON54544-20270224T130000@VHSCALW
SUMMARY:Job-BSK Bürokommunikation Fachspezifischer Berufssprachkurs Ziel B2+/C1 für Büromitarbeitende (Verwaltung, Buchhaltung, Sachbearbeitung) (XON54544) 
LOCATION:In Zoom von Ihrem Rechner aus
END:VEVENT
BEGIN:VEVENT
DTSTAMP:20260421T142050
DTSTART;TZID=Europe/Berlin:20270301T130000
DTEND;TZID=Europe/Berlin:20270301T143000
UID:XON54544-20270301T130000@VHSCALW
SUMMARY:Job-BSK Bürokommunikation Fachspezifischer Berufssprachkurs Ziel B2+/C1 für Büromitarbeitende (Verwaltung, Buchhaltung, Sachbearbeitung) (XON54544) 
LOCATION:In Zoom von Ihrem Rechner aus
END:VEVENT
BEGIN:VEVENT
DTSTAMP:20260421T142050
DTSTART;TZID=Europe/Berlin:20270303T130000
DTEND;TZID=Europe/Berlin:20270303T143000
UID:XON54544-20270303T130000@VHSCALW
SUMMARY:Job-BSK Bürokommunikation Fachspezifischer Berufssprachkurs Ziel B2+/C1 für Büromitarbeitende (Verwaltung, Buchhaltung, Sachbearbeitung) (XON54544) 
LOCATION:In Zoom von Ihrem Rechner aus
END:VEVENT
END:VCALENDAR