BEGIN:VCALENDAR
VERSION:2.0
PRODID:https://www.kufer.de/kuferweb / DE
METHOD:PUBLISH
CALSCALE:GREGORIAN
X-WR-TIMEZONE:Europe/Berlin
BEGIN:VTIMEZONE
TZID:Europe/Berlin
X-LIC-LOCATION:Europe/Berlin
BEGIN:DAYLIGHT
TZOFFSETFROM:+0100
TZOFFSETTO:+0200
TZNAME:CEST
DTSTART:19700329T020000
RRULE:FREQ=YEARLY;INTERVAL=1;BYDAY=-1SU;BYMONTH=3
END:DAYLIGHT
BEGIN:STANDARD
TZOFFSETFROM:+0200
TZOFFSETTO:+0100
TZNAME:CET
DTSTART:19701025T030000
RRULE:FREQ=YEARLY;INTERVAL=1;BYDAY=-1SU;BYMONTH=10
END:STANDARD
END:VTIMEZONE
BEGIN:VEVENT
DTSTAMP:20260421T201927
DTSTART;TZID=Europe/Berlin:20260326T183000
DTEND;TZID=Europe/Berlin:20260326T193000
UID:XON30121-20260326T183000@VHSCALW
SUMMARY:Yin Yoga – für mehr Beweglichkeit, Entspannung und innere Ruhe (XON30121) 
LOCATION:Online, bequem von Ihrem Rechner aus
END:VEVENT
BEGIN:VEVENT
DTSTAMP:20260421T201927
DTSTART;TZID=Europe/Berlin:20260416T183000
DTEND;TZID=Europe/Berlin:20260416T193000
UID:XON30121-20260416T183000@VHSCALW
SUMMARY:Yin Yoga – für mehr Beweglichkeit, Entspannung und innere Ruhe (XON30121) 
LOCATION:Online, bequem von Ihrem Rechner aus
END:VEVENT
BEGIN:VEVENT
DTSTAMP:20260421T201927
DTSTART;TZID=Europe/Berlin:20260423T183000
DTEND;TZID=Europe/Berlin:20260423T193000
UID:XON30121-20260423T183000@VHSCALW
SUMMARY:Yin Yoga – für mehr Beweglichkeit, Entspannung und innere Ruhe (XON30121) 
LOCATION:Online, bequem von Ihrem Rechner aus
END:VEVENT
BEGIN:VEVENT
DTSTAMP:20260421T201927
DTSTART;TZID=Europe/Berlin:20260430T183000
DTEND;TZID=Europe/Berlin:20260430T193000
UID:XON30121-20260430T183000@VHSCALW
SUMMARY:Yin Yoga – für mehr Beweglichkeit, Entspannung und innere Ruhe (XON30121) 
LOCATION:Online, bequem von Ihrem Rechner aus
END:VEVENT
BEGIN:VEVENT
DTSTAMP:20260421T201927
DTSTART;TZID=Europe/Berlin:20260507T183000
DTEND;TZID=Europe/Berlin:20260507T193000
UID:XON30121-20260507T183000@VHSCALW
SUMMARY:Yin Yoga – für mehr Beweglichkeit, Entspannung und innere Ruhe (XON30121) 
LOCATION:Online, bequem von Ihrem Rechner aus
END:VEVENT
BEGIN:VEVENT
DTSTAMP:20260421T201927
DTSTART;TZID=Europe/Berlin:20260521T183000
DTEND;TZID=Europe/Berlin:20260521T193000
UID:XON30121-20260521T183000@VHSCALW
SUMMARY:Yin Yoga – für mehr Beweglichkeit, Entspannung und innere Ruhe (XON30121) 
LOCATION:Online, bequem von Ihrem Rechner aus
END:VEVENT
BEGIN:VEVENT
DTSTAMP:20260421T201927
DTSTART;TZID=Europe/Berlin:20260611T183000
DTEND;TZID=Europe/Berlin:20260611T193000
UID:XON30121-20260611T183000@VHSCALW
SUMMARY:Yin Yoga – für mehr Beweglichkeit, Entspannung und innere Ruhe (XON30121) 
LOCATION:Online, bequem von Ihrem Rechner aus
END:VEVENT
BEGIN:VEVENT
DTSTAMP:20260421T201927
DTSTART;TZID=Europe/Berlin:20260618T183000
DTEND;TZID=Europe/Berlin:20260618T193000
UID:XON30121-20260618T183000@VHSCALW
SUMMARY:Yin Yoga – für mehr Beweglichkeit, Entspannung und innere Ruhe (XON30121) 
LOCATION:Online, bequem von Ihrem Rechner aus
END:VEVENT
END:VCALENDAR