BEGIN:VCALENDAR
VERSION:2.0
PRODID:https://www.kufer.de/kuferweb / DE
METHOD:PUBLISH
CALSCALE:GREGORIAN
X-WR-TIMEZONE:Europe/Berlin
BEGIN:VTIMEZONE
TZID:Europe/Berlin
X-LIC-LOCATION:Europe/Berlin
BEGIN:DAYLIGHT
TZOFFSETFROM:+0100
TZOFFSETTO:+0200
TZNAME:CEST
DTSTART:19700329T020000
RRULE:FREQ=YEARLY;INTERVAL=1;BYDAY=-1SU;BYMONTH=3
END:DAYLIGHT
BEGIN:STANDARD
TZOFFSETFROM:+0200
TZOFFSETTO:+0100
TZNAME:CET
DTSTART:19701025T030000
RRULE:FREQ=YEARLY;INTERVAL=1;BYDAY=-1SU;BYMONTH=10
END:STANDARD
END:VTIMEZONE
BEGIN:VEVENT
DTSTAMP:20260421T160105
DTSTART;TZID=Europe/Berlin:20260520T180000
DTEND;TZID=Europe/Berlin:20260520T193000
UID:XON30003-20260520T180000@VHSCALW
SUMMARY:Lebenslanges Lernen und Wohlbefinden im Alter Warum Lernen nie aufhört – und wie Routinen dabei helfen können (XON30003) 
LOCATION:Online, bequem von Ihrem Rechner aus
END:VEVENT
END:VCALENDAR