BEGIN:VCALENDAR
VERSION:2.0
PRODID:https://www.kufer.de/kuferweb / DE
METHOD:PUBLISH
CALSCALE:GREGORIAN
X-WR-TIMEZONE:Europe/Berlin
BEGIN:VTIMEZONE
TZID:Europe/Berlin
X-LIC-LOCATION:Europe/Berlin
BEGIN:DAYLIGHT
TZOFFSETFROM:+0100
TZOFFSETTO:+0200
TZNAME:CEST
DTSTART:19700329T020000
RRULE:FREQ=YEARLY;INTERVAL=1;BYDAY=-1SU;BYMONTH=3
END:DAYLIGHT
BEGIN:STANDARD
TZOFFSETFROM:+0200
TZOFFSETTO:+0100
TZNAME:CET
DTSTART:19701025T030000
RRULE:FREQ=YEARLY;INTERVAL=1;BYDAY=-1SU;BYMONTH=10
END:STANDARD
END:VTIMEZONE
BEGIN:VEVENT
DTSTAMP:20260421T201932
DTSTART;TZID=Europe/Berlin:20260511T193000
DTEND;TZID=Europe/Berlin:20260511T210000
UID:XON30000-20260511T193000@VHSCALW
SUMMARY:Müde bin ich, geh zur Ruh, mach aber kein Äuglein zu  Online-Vortrag für Eltern, Tagesmütter und Tagesväter, Erziehende (XON30000) 
LOCATION:In Zoom von Ihrem Rechner aus
END:VEVENT
END:VCALENDAR