BEGIN:VCALENDAR
VERSION:2.0
PRODID:https://www.kufer.de/kuferweb / DE
METHOD:PUBLISH
CALSCALE:GREGORIAN
X-WR-TIMEZONE:Europe/Berlin
BEGIN:VTIMEZONE
TZID:Europe/Berlin
X-LIC-LOCATION:Europe/Berlin
BEGIN:DAYLIGHT
TZOFFSETFROM:+0100
TZOFFSETTO:+0200
TZNAME:CEST
DTSTART:19700329T020000
RRULE:FREQ=YEARLY;INTERVAL=1;BYDAY=-1SU;BYMONTH=3
END:DAYLIGHT
BEGIN:STANDARD
TZOFFSETFROM:+0200
TZOFFSETTO:+0100
TZNAME:CET
DTSTART:19701025T030000
RRULE:FREQ=YEARLY;INTERVAL=1;BYDAY=-1SU;BYMONTH=10
END:STANDARD
END:VTIMEZONE
BEGIN:VEVENT
DTSTAMP:20260421T172942
DTSTART;TZID=Europe/Berlin:20260610T173000
DTEND;TZID=Europe/Berlin:20260610T183000
UID:XOH30221-20260610T173000@VHSCALW
SUMMARY:Pilates Basics  In der Kleingruppe (XOH30221) 
LOCATION:Ostelsheim, Grundschule, Gymnastikraum (Zugang über Schutzstraße), Zugang über Schutzstraße, 75395 Ostelsheim
END:VEVENT
BEGIN:VEVENT
DTSTAMP:20260421T172942
DTSTART;TZID=Europe/Berlin:20260617T173000
DTEND;TZID=Europe/Berlin:20260617T183000
UID:XOH30221-20260617T173000@VHSCALW
SUMMARY:Pilates Basics  In der Kleingruppe (XOH30221) 
LOCATION:Ostelsheim, Grundschule, Gymnastikraum (Zugang über Schutzstraße), Zugang über Schutzstraße, 75395 Ostelsheim
END:VEVENT
BEGIN:VEVENT
DTSTAMP:20260421T172942
DTSTART;TZID=Europe/Berlin:20260624T173000
DTEND;TZID=Europe/Berlin:20260624T183000
UID:XOH30221-20260624T173000@VHSCALW
SUMMARY:Pilates Basics  In der Kleingruppe (XOH30221) 
LOCATION:Ostelsheim, Grundschule, Gymnastikraum (Zugang über Schutzstraße), Zugang über Schutzstraße, 75395 Ostelsheim
END:VEVENT
BEGIN:VEVENT
DTSTAMP:20260421T172942
DTSTART;TZID=Europe/Berlin:20260701T173000
DTEND;TZID=Europe/Berlin:20260701T183000
UID:XOH30221-20260701T173000@VHSCALW
SUMMARY:Pilates Basics  In der Kleingruppe (XOH30221) 
LOCATION:Ostelsheim, Grundschule, Gymnastikraum (Zugang über Schutzstraße), Zugang über Schutzstraße, 75395 Ostelsheim
END:VEVENT
BEGIN:VEVENT
DTSTAMP:20260421T172942
DTSTART;TZID=Europe/Berlin:20260708T173000
DTEND;TZID=Europe/Berlin:20260708T183000
UID:XOH30221-20260708T173000@VHSCALW
SUMMARY:Pilates Basics  In der Kleingruppe (XOH30221) 
LOCATION:Ostelsheim, Grundschule, Gymnastikraum (Zugang über Schutzstraße), Zugang über Schutzstraße, 75395 Ostelsheim
END:VEVENT
BEGIN:VEVENT
DTSTAMP:20260421T172942
DTSTART;TZID=Europe/Berlin:20260715T173000
DTEND;TZID=Europe/Berlin:20260715T183000
UID:XOH30221-20260715T173000@VHSCALW
SUMMARY:Pilates Basics  In der Kleingruppe (XOH30221) 
LOCATION:Ostelsheim, Grundschule, Gymnastikraum (Zugang über Schutzstraße), Zugang über Schutzstraße, 75395 Ostelsheim
END:VEVENT
BEGIN:VEVENT
DTSTAMP:20260421T172942
DTSTART;TZID=Europe/Berlin:20260722T173000
DTEND;TZID=Europe/Berlin:20260722T183000
UID:XOH30221-20260722T173000@VHSCALW
SUMMARY:Pilates Basics  In der Kleingruppe (XOH30221) 
LOCATION:Ostelsheim, Grundschule, Gymnastikraum (Zugang über Schutzstraße), Zugang über Schutzstraße, 75395 Ostelsheim
END:VEVENT
BEGIN:VEVENT
DTSTAMP:20260421T172942
DTSTART;TZID=Europe/Berlin:20260729T173000
DTEND;TZID=Europe/Berlin:20260729T183000
UID:XOH30221-20260729T173000@VHSCALW
SUMMARY:Pilates Basics  In der Kleingruppe (XOH30221) 
LOCATION:Ostelsheim, Grundschule, Gymnastikraum (Zugang über Schutzstraße), Zugang über Schutzstraße, 75395 Ostelsheim
END:VEVENT
END:VCALENDAR