BEGIN:VCALENDAR
VERSION:2.0
PRODID:https://www.kufer.de/kuferweb / DE
METHOD:PUBLISH
CALSCALE:GREGORIAN
X-WR-TIMEZONE:Europe/Berlin
BEGIN:VTIMEZONE
TZID:Europe/Berlin
X-LIC-LOCATION:Europe/Berlin
BEGIN:DAYLIGHT
TZOFFSETFROM:+0100
TZOFFSETTO:+0200
TZNAME:CEST
DTSTART:19700329T020000
RRULE:FREQ=YEARLY;INTERVAL=1;BYDAY=-1SU;BYMONTH=3
END:DAYLIGHT
BEGIN:STANDARD
TZOFFSETFROM:+0200
TZOFFSETTO:+0100
TZNAME:CET
DTSTART:19701025T030000
RRULE:FREQ=YEARLY;INTERVAL=1;BYDAY=-1SU;BYMONTH=10
END:STANDARD
END:VTIMEZONE
BEGIN:VEVENT
DTSTAMP:20260421T141952
DTSTART;TZID=Europe/Berlin:20260504T180000
DTEND;TZID=Europe/Berlin:20260504T193000
UID:XNB40407-20260504T180000@VHSCALW
SUMMARY:Deutsch Abendkurs A1.2 (Fortsetzung) Mit Vorkenntnissen - Kleingruppe (XNB40407) 
LOCATION:Neubulach, Gemeinschaftsschule, Friedrich-Duss-Str. 8, Friedrich-Duss-Str. 8, 75387 Neubulach
END:VEVENT
BEGIN:VEVENT
DTSTAMP:20260421T141952
DTSTART;TZID=Europe/Berlin:20260506T180000
DTEND;TZID=Europe/Berlin:20260506T193000
UID:XNB40407-20260506T180000@VHSCALW
SUMMARY:Deutsch Abendkurs A1.2 (Fortsetzung) Mit Vorkenntnissen - Kleingruppe (XNB40407) 
LOCATION:Neubulach, Gemeinschaftsschule, Friedrich-Duss-Str. 8, Friedrich-Duss-Str. 8, 75387 Neubulach
END:VEVENT
BEGIN:VEVENT
DTSTAMP:20260421T141952
DTSTART;TZID=Europe/Berlin:20260511T180000
DTEND;TZID=Europe/Berlin:20260511T193000
UID:XNB40407-20260511T180000@VHSCALW
SUMMARY:Deutsch Abendkurs A1.2 (Fortsetzung) Mit Vorkenntnissen - Kleingruppe (XNB40407) 
LOCATION:Neubulach, Gemeinschaftsschule, Friedrich-Duss-Str. 8, Friedrich-Duss-Str. 8, 75387 Neubulach
END:VEVENT
BEGIN:VEVENT
DTSTAMP:20260421T141952
DTSTART;TZID=Europe/Berlin:20260513T180000
DTEND;TZID=Europe/Berlin:20260513T193000
UID:XNB40407-20260513T180000@VHSCALW
SUMMARY:Deutsch Abendkurs A1.2 (Fortsetzung) Mit Vorkenntnissen - Kleingruppe (XNB40407) 
LOCATION:Neubulach, Gemeinschaftsschule, Friedrich-Duss-Str. 8, Friedrich-Duss-Str. 8, 75387 Neubulach
END:VEVENT
BEGIN:VEVENT
DTSTAMP:20260421T141952
DTSTART;TZID=Europe/Berlin:20260518T180000
DTEND;TZID=Europe/Berlin:20260518T193000
UID:XNB40407-20260518T180000@VHSCALW
SUMMARY:Deutsch Abendkurs A1.2 (Fortsetzung) Mit Vorkenntnissen - Kleingruppe (XNB40407) 
LOCATION:Neubulach, Gemeinschaftsschule, Friedrich-Duss-Str. 8, Friedrich-Duss-Str. 8, 75387 Neubulach
END:VEVENT
BEGIN:VEVENT
DTSTAMP:20260421T141952
DTSTART;TZID=Europe/Berlin:20260520T180000
DTEND;TZID=Europe/Berlin:20260520T193000
UID:XNB40407-20260520T180000@VHSCALW
SUMMARY:Deutsch Abendkurs A1.2 (Fortsetzung) Mit Vorkenntnissen - Kleingruppe (XNB40407) 
LOCATION:Neubulach, Gemeinschaftsschule, Friedrich-Duss-Str. 8, Friedrich-Duss-Str. 8, 75387 Neubulach
END:VEVENT
BEGIN:VEVENT
DTSTAMP:20260421T141952
DTSTART;TZID=Europe/Berlin:20260608T180000
DTEND;TZID=Europe/Berlin:20260608T193000
UID:XNB40407-20260608T180000@VHSCALW
SUMMARY:Deutsch Abendkurs A1.2 (Fortsetzung) Mit Vorkenntnissen - Kleingruppe (XNB40407) 
LOCATION:Neubulach, Gemeinschaftsschule, Friedrich-Duss-Str. 8, Friedrich-Duss-Str. 8, 75387 Neubulach
END:VEVENT
BEGIN:VEVENT
DTSTAMP:20260421T141952
DTSTART;TZID=Europe/Berlin:20260610T180000
DTEND;TZID=Europe/Berlin:20260610T193000
UID:XNB40407-20260610T180000@VHSCALW
SUMMARY:Deutsch Abendkurs A1.2 (Fortsetzung) Mit Vorkenntnissen - Kleingruppe (XNB40407) 
LOCATION:Neubulach, Gemeinschaftsschule, Friedrich-Duss-Str. 8, Friedrich-Duss-Str. 8, 75387 Neubulach
END:VEVENT
BEGIN:VEVENT
DTSTAMP:20260421T141952
DTSTART;TZID=Europe/Berlin:20260615T180000
DTEND;TZID=Europe/Berlin:20260615T193000
UID:XNB40407-20260615T180000@VHSCALW
SUMMARY:Deutsch Abendkurs A1.2 (Fortsetzung) Mit Vorkenntnissen - Kleingruppe (XNB40407) 
LOCATION:Neubulach, Gemeinschaftsschule, Friedrich-Duss-Str. 8, Friedrich-Duss-Str. 8, 75387 Neubulach
END:VEVENT
BEGIN:VEVENT
DTSTAMP:20260421T141952
DTSTART;TZID=Europe/Berlin:20260617T180000
DTEND;TZID=Europe/Berlin:20260617T193000
UID:XNB40407-20260617T180000@VHSCALW
SUMMARY:Deutsch Abendkurs A1.2 (Fortsetzung) Mit Vorkenntnissen - Kleingruppe (XNB40407) 
LOCATION:Neubulach, Gemeinschaftsschule, Friedrich-Duss-Str. 8, Friedrich-Duss-Str. 8, 75387 Neubulach
END:VEVENT
BEGIN:VEVENT
DTSTAMP:20260421T141952
DTSTART;TZID=Europe/Berlin:20260622T180000
DTEND;TZID=Europe/Berlin:20260622T193000
UID:XNB40407-20260622T180000@VHSCALW
SUMMARY:Deutsch Abendkurs A1.2 (Fortsetzung) Mit Vorkenntnissen - Kleingruppe (XNB40407) 
LOCATION:Neubulach, Gemeinschaftsschule, Friedrich-Duss-Str. 8, Friedrich-Duss-Str. 8, 75387 Neubulach
END:VEVENT
BEGIN:VEVENT
DTSTAMP:20260421T141952
DTSTART;TZID=Europe/Berlin:20260624T180000
DTEND;TZID=Europe/Berlin:20260624T193000
UID:XNB40407-20260624T180000@VHSCALW
SUMMARY:Deutsch Abendkurs A1.2 (Fortsetzung) Mit Vorkenntnissen - Kleingruppe (XNB40407) 
LOCATION:Neubulach, Gemeinschaftsschule, Friedrich-Duss-Str. 8, Friedrich-Duss-Str. 8, 75387 Neubulach
END:VEVENT
BEGIN:VEVENT
DTSTAMP:20260421T141952
DTSTART;TZID=Europe/Berlin:20260629T180000
DTEND;TZID=Europe/Berlin:20260629T193000
UID:XNB40407-20260629T180000@VHSCALW
SUMMARY:Deutsch Abendkurs A1.2 (Fortsetzung) Mit Vorkenntnissen - Kleingruppe (XNB40407) 
LOCATION:Neubulach, Gemeinschaftsschule, Friedrich-Duss-Str. 8, Friedrich-Duss-Str. 8, 75387 Neubulach
END:VEVENT
BEGIN:VEVENT
DTSTAMP:20260421T141952
DTSTART;TZID=Europe/Berlin:20260701T180000
DTEND;TZID=Europe/Berlin:20260701T193000
UID:XNB40407-20260701T180000@VHSCALW
SUMMARY:Deutsch Abendkurs A1.2 (Fortsetzung) Mit Vorkenntnissen - Kleingruppe (XNB40407) 
LOCATION:Neubulach, Gemeinschaftsschule, Friedrich-Duss-Str. 8, Friedrich-Duss-Str. 8, 75387 Neubulach
END:VEVENT
BEGIN:VEVENT
DTSTAMP:20260421T141952
DTSTART;TZID=Europe/Berlin:20260706T180000
DTEND;TZID=Europe/Berlin:20260706T193000
UID:XNB40407-20260706T180000@VHSCALW
SUMMARY:Deutsch Abendkurs A1.2 (Fortsetzung) Mit Vorkenntnissen - Kleingruppe (XNB40407) 
LOCATION:Neubulach, Gemeinschaftsschule, Friedrich-Duss-Str. 8, Friedrich-Duss-Str. 8, 75387 Neubulach
END:VEVENT
END:VCALENDAR