BEGIN:VCALENDAR
VERSION:2.0
PRODID:https://www.kufer.de/kuferweb / DE
METHOD:PUBLISH
CALSCALE:GREGORIAN
X-WR-TIMEZONE:Europe/Berlin
BEGIN:VTIMEZONE
TZID:Europe/Berlin
X-LIC-LOCATION:Europe/Berlin
BEGIN:DAYLIGHT
TZOFFSETFROM:+0100
TZOFFSETTO:+0200
TZNAME:CEST
DTSTART:19700329T020000
RRULE:FREQ=YEARLY;INTERVAL=1;BYDAY=-1SU;BYMONTH=3
END:DAYLIGHT
BEGIN:STANDARD
TZOFFSETFROM:+0200
TZOFFSETTO:+0100
TZNAME:CET
DTSTART:19701025T030000
RRULE:FREQ=YEARLY;INTERVAL=1;BYDAY=-1SU;BYMONTH=10
END:STANDARD
END:VTIMEZONE
BEGIN:VEVENT
DTSTAMP:20260421T152517
DTSTART;TZID=Europe/Berlin:20260226T143000
DTEND;TZID=Europe/Berlin:20260226T154500
UID:XNB30222-20260226T143000@VHSCALW
SUMMARY:Stuhl-Pilates für Bewegungseingeschränkte In der Minigruppe (XNB30222) 
LOCATION:Liebelsberg, Bürgerzentrum, Saal, Hindenburgstr. 23, Hindenburgstr. 23, 75387 Neubulach
END:VEVENT
BEGIN:VEVENT
DTSTAMP:20260421T152517
DTSTART;TZID=Europe/Berlin:20260305T143000
DTEND;TZID=Europe/Berlin:20260305T154500
UID:XNB30222-20260305T143000@VHSCALW
SUMMARY:Stuhl-Pilates für Bewegungseingeschränkte In der Minigruppe (XNB30222) 
LOCATION:Liebelsberg, Bürgerzentrum, Saal, Hindenburgstr. 23, Hindenburgstr. 23, 75387 Neubulach
END:VEVENT
BEGIN:VEVENT
DTSTAMP:20260421T152517
DTSTART;TZID=Europe/Berlin:20260312T143000
DTEND;TZID=Europe/Berlin:20260312T154500
UID:XNB30222-20260312T143000@VHSCALW
SUMMARY:Stuhl-Pilates für Bewegungseingeschränkte In der Minigruppe (XNB30222) 
LOCATION:Liebelsberg, Bürgerzentrum, Saal, Hindenburgstr. 23, Hindenburgstr. 23, 75387 Neubulach
END:VEVENT
BEGIN:VEVENT
DTSTAMP:20260421T152517
DTSTART;TZID=Europe/Berlin:20260319T143000
DTEND;TZID=Europe/Berlin:20260319T154500
UID:XNB30222-20260319T143000@VHSCALW
SUMMARY:Stuhl-Pilates für Bewegungseingeschränkte In der Minigruppe (XNB30222) 
LOCATION:Liebelsberg, Bürgerzentrum, Saal, Hindenburgstr. 23, Hindenburgstr. 23, 75387 Neubulach
END:VEVENT
BEGIN:VEVENT
DTSTAMP:20260421T152517
DTSTART;TZID=Europe/Berlin:20260326T143000
DTEND;TZID=Europe/Berlin:20260326T154500
UID:XNB30222-20260326T143000@VHSCALW
SUMMARY:Stuhl-Pilates für Bewegungseingeschränkte In der Minigruppe (XNB30222) 
LOCATION:Liebelsberg, Bürgerzentrum, Saal, Hindenburgstr. 23, Hindenburgstr. 23, 75387 Neubulach
END:VEVENT
BEGIN:VEVENT
DTSTAMP:20260421T152517
DTSTART;TZID=Europe/Berlin:20260416T143000
DTEND;TZID=Europe/Berlin:20260416T154500
UID:XNB30222-20260416T143000@VHSCALW
SUMMARY:Stuhl-Pilates für Bewegungseingeschränkte In der Minigruppe (XNB30222) 
LOCATION:Liebelsberg, Bürgerzentrum, Saal, Hindenburgstr. 23, Hindenburgstr. 23, 75387 Neubulach
END:VEVENT
BEGIN:VEVENT
DTSTAMP:20260421T152517
DTSTART;TZID=Europe/Berlin:20260423T143000
DTEND;TZID=Europe/Berlin:20260423T154500
UID:XNB30222-20260423T143000@VHSCALW
SUMMARY:Stuhl-Pilates für Bewegungseingeschränkte In der Minigruppe (XNB30222) 
LOCATION:Liebelsberg, Bürgerzentrum, Saal, Hindenburgstr. 23, Hindenburgstr. 23, 75387 Neubulach
END:VEVENT
BEGIN:VEVENT
DTSTAMP:20260421T152517
DTSTART;TZID=Europe/Berlin:20260430T143000
DTEND;TZID=Europe/Berlin:20260430T154500
UID:XNB30222-20260430T143000@VHSCALW
SUMMARY:Stuhl-Pilates für Bewegungseingeschränkte In der Minigruppe (XNB30222) 
LOCATION:Liebelsberg, Bürgerzentrum, Saal, Hindenburgstr. 23, Hindenburgstr. 23, 75387 Neubulach
END:VEVENT
END:VCALENDAR