BEGIN:VCALENDAR
VERSION:2.0
PRODID:https://www.kufer.de/kuferweb / DE
METHOD:PUBLISH
CALSCALE:GREGORIAN
X-WR-TIMEZONE:Europe/Berlin
BEGIN:VTIMEZONE
TZID:Europe/Berlin
X-LIC-LOCATION:Europe/Berlin
BEGIN:DAYLIGHT
TZOFFSETFROM:+0100
TZOFFSETTO:+0200
TZNAME:CEST
DTSTART:19700329T020000
RRULE:FREQ=YEARLY;INTERVAL=1;BYDAY=-1SU;BYMONTH=3
END:DAYLIGHT
BEGIN:STANDARD
TZOFFSETFROM:+0200
TZOFFSETTO:+0100
TZNAME:CET
DTSTART:19701025T030000
RRULE:FREQ=YEARLY;INTERVAL=1;BYDAY=-1SU;BYMONTH=10
END:STANDARD
END:VTIMEZONE
BEGIN:VEVENT
DTSTAMP:20260421T194044
DTSTART;TZID=Europe/Berlin:20260521T160000
DTEND;TZID=Europe/Berlin:20260521T173000
UID:XNB30221-20260521T160000@VHSCALW
SUMMARY:Pilates (XNB30221) 
LOCATION:Liebelsberg, Bürgerzentrum, Saal, Hindenburgstr. 23, Hindenburgstr. 23, 75387 Neubulach
END:VEVENT
BEGIN:VEVENT
DTSTAMP:20260421T194044
DTSTART;TZID=Europe/Berlin:20260611T160000
DTEND;TZID=Europe/Berlin:20260611T173000
UID:XNB30221-20260611T160000@VHSCALW
SUMMARY:Pilates (XNB30221) 
LOCATION:Liebelsberg, Bürgerzentrum, Saal, Hindenburgstr. 23, Hindenburgstr. 23, 75387 Neubulach
END:VEVENT
BEGIN:VEVENT
DTSTAMP:20260421T194044
DTSTART;TZID=Europe/Berlin:20260618T160000
DTEND;TZID=Europe/Berlin:20260618T173000
UID:XNB30221-20260618T160000@VHSCALW
SUMMARY:Pilates (XNB30221) 
LOCATION:Liebelsberg, Bürgerzentrum, Saal, Hindenburgstr. 23, Hindenburgstr. 23, 75387 Neubulach
END:VEVENT
BEGIN:VEVENT
DTSTAMP:20260421T194044
DTSTART;TZID=Europe/Berlin:20260625T160000
DTEND;TZID=Europe/Berlin:20260625T173000
UID:XNB30221-20260625T160000@VHSCALW
SUMMARY:Pilates (XNB30221) 
LOCATION:Liebelsberg, Bürgerzentrum, Saal, Hindenburgstr. 23, Hindenburgstr. 23, 75387 Neubulach
END:VEVENT
BEGIN:VEVENT
DTSTAMP:20260421T194044
DTSTART;TZID=Europe/Berlin:20260702T160000
DTEND;TZID=Europe/Berlin:20260702T173000
UID:XNB30221-20260702T160000@VHSCALW
SUMMARY:Pilates (XNB30221) 
LOCATION:Liebelsberg, Bürgerzentrum, Saal, Hindenburgstr. 23, Hindenburgstr. 23, 75387 Neubulach
END:VEVENT
END:VCALENDAR