BEGIN:VCALENDAR
VERSION:2.0
PRODID:https://www.kufer.de/kuferweb / DE
METHOD:PUBLISH
CALSCALE:GREGORIAN
X-WR-TIMEZONE:Europe/Berlin
BEGIN:VTIMEZONE
TZID:Europe/Berlin
X-LIC-LOCATION:Europe/Berlin
BEGIN:DAYLIGHT
TZOFFSETFROM:+0100
TZOFFSETTO:+0200
TZNAME:CEST
DTSTART:19700329T020000
RRULE:FREQ=YEARLY;INTERVAL=1;BYDAY=-1SU;BYMONTH=3
END:DAYLIGHT
BEGIN:STANDARD
TZOFFSETFROM:+0200
TZOFFSETTO:+0100
TZNAME:CET
DTSTART:19701025T030000
RRULE:FREQ=YEARLY;INTERVAL=1;BYDAY=-1SU;BYMONTH=10
END:STANDARD
END:VTIMEZONE
BEGIN:VEVENT
DTSTAMP:20260421T152605
DTSTART;TZID=Europe/Berlin:20260224T083000
DTEND;TZID=Europe/Berlin:20260224T091500
UID:XGE30280-20260224T083000@VHSCALW
SUMMARY:Aqua-Jogging (XGE30280) 
LOCATION:Gechingen, Hallenschwimmbad, Schillerstr. 8, Schillerstr. 8, 75391 Gechingen
END:VEVENT
BEGIN:VEVENT
DTSTAMP:20260421T152605
DTSTART;TZID=Europe/Berlin:20260303T083000
DTEND;TZID=Europe/Berlin:20260303T091500
UID:XGE30280-20260303T083000@VHSCALW
SUMMARY:Aqua-Jogging (XGE30280) 
LOCATION:Gechingen, Hallenschwimmbad, Schillerstr. 8, Schillerstr. 8, 75391 Gechingen
END:VEVENT
BEGIN:VEVENT
DTSTAMP:20260421T152605
DTSTART;TZID=Europe/Berlin:20260310T083000
DTEND;TZID=Europe/Berlin:20260310T091500
UID:XGE30280-20260310T083000@VHSCALW
SUMMARY:Aqua-Jogging (XGE30280) 
LOCATION:Gechingen, Hallenschwimmbad, Schillerstr. 8, Schillerstr. 8, 75391 Gechingen
END:VEVENT
BEGIN:VEVENT
DTSTAMP:20260421T152605
DTSTART;TZID=Europe/Berlin:20260317T083000
DTEND;TZID=Europe/Berlin:20260317T091500
UID:XGE30280-20260317T083000@VHSCALW
SUMMARY:Aqua-Jogging (XGE30280) 
LOCATION:Gechingen, Hallenschwimmbad, Schillerstr. 8, Schillerstr. 8, 75391 Gechingen
END:VEVENT
BEGIN:VEVENT
DTSTAMP:20260421T152605
DTSTART;TZID=Europe/Berlin:20260324T083000
DTEND;TZID=Europe/Berlin:20260324T091500
UID:XGE30280-20260324T083000@VHSCALW
SUMMARY:Aqua-Jogging (XGE30280) 
LOCATION:Gechingen, Hallenschwimmbad, Schillerstr. 8, Schillerstr. 8, 75391 Gechingen
END:VEVENT
BEGIN:VEVENT
DTSTAMP:20260421T152605
DTSTART;TZID=Europe/Berlin:20260414T083000
DTEND;TZID=Europe/Berlin:20260414T091500
UID:XGE30280-20260414T083000@VHSCALW
SUMMARY:Aqua-Jogging (XGE30280) 
LOCATION:Gechingen, Hallenschwimmbad, Schillerstr. 8, Schillerstr. 8, 75391 Gechingen
END:VEVENT
BEGIN:VEVENT
DTSTAMP:20260421T152605
DTSTART;TZID=Europe/Berlin:20260421T083000
DTEND;TZID=Europe/Berlin:20260421T091500
UID:XGE30280-20260421T083000@VHSCALW
SUMMARY:Aqua-Jogging (XGE30280) 
LOCATION:Gechingen, Hallenschwimmbad, Schillerstr. 8, Schillerstr. 8, 75391 Gechingen
END:VEVENT
BEGIN:VEVENT
DTSTAMP:20260421T152605
DTSTART;TZID=Europe/Berlin:20260428T083000
DTEND;TZID=Europe/Berlin:20260428T091500
UID:XGE30280-20260428T083000@VHSCALW
SUMMARY:Aqua-Jogging (XGE30280) 
LOCATION:Gechingen, Hallenschwimmbad, Schillerstr. 8, Schillerstr. 8, 75391 Gechingen
END:VEVENT
BEGIN:VEVENT
DTSTAMP:20260421T152605
DTSTART;TZID=Europe/Berlin:20260505T083000
DTEND;TZID=Europe/Berlin:20260505T091500
UID:XGE30280-20260505T083000@VHSCALW
SUMMARY:Aqua-Jogging (XGE30280) 
LOCATION:Gechingen, Hallenschwimmbad, Schillerstr. 8, Schillerstr. 8, 75391 Gechingen
END:VEVENT
BEGIN:VEVENT
DTSTAMP:20260421T152605
DTSTART;TZID=Europe/Berlin:20260519T083000
DTEND;TZID=Europe/Berlin:20260519T091500
UID:XGE30280-20260519T083000@VHSCALW
SUMMARY:Aqua-Jogging (XGE30280) 
LOCATION:Gechingen, Hallenschwimmbad, Schillerstr. 8, Schillerstr. 8, 75391 Gechingen
END:VEVENT
BEGIN:VEVENT
DTSTAMP:20260421T152605
DTSTART;TZID=Europe/Berlin:20260609T083000
DTEND;TZID=Europe/Berlin:20260609T091500
UID:XGE30280-20260609T083000@VHSCALW
SUMMARY:Aqua-Jogging (XGE30280) 
LOCATION:Gechingen, Hallenschwimmbad, Schillerstr. 8, Schillerstr. 8, 75391 Gechingen
END:VEVENT
BEGIN:VEVENT
DTSTAMP:20260421T152605
DTSTART;TZID=Europe/Berlin:20260616T083000
DTEND;TZID=Europe/Berlin:20260616T091500
UID:XGE30280-20260616T083000@VHSCALW
SUMMARY:Aqua-Jogging (XGE30280) 
LOCATION:Gechingen, Hallenschwimmbad, Schillerstr. 8, Schillerstr. 8, 75391 Gechingen
END:VEVENT
BEGIN:VEVENT
DTSTAMP:20260421T152605
DTSTART;TZID=Europe/Berlin:20260623T083000
DTEND;TZID=Europe/Berlin:20260623T091500
UID:XGE30280-20260623T083000@VHSCALW
SUMMARY:Aqua-Jogging (XGE30280) 
LOCATION:Gechingen, Hallenschwimmbad, Schillerstr. 8, Schillerstr. 8, 75391 Gechingen
END:VEVENT
BEGIN:VEVENT
DTSTAMP:20260421T152605
DTSTART;TZID=Europe/Berlin:20260630T083000
DTEND;TZID=Europe/Berlin:20260630T091500
UID:XGE30280-20260630T083000@VHSCALW
SUMMARY:Aqua-Jogging (XGE30280) 
LOCATION:Gechingen, Hallenschwimmbad, Schillerstr. 8, Schillerstr. 8, 75391 Gechingen
END:VEVENT
BEGIN:VEVENT
DTSTAMP:20260421T152605
DTSTART;TZID=Europe/Berlin:20260707T083000
DTEND;TZID=Europe/Berlin:20260707T091500
UID:XGE30280-20260707T083000@VHSCALW
SUMMARY:Aqua-Jogging (XGE30280) 
LOCATION:Gechingen, Hallenschwimmbad, Schillerstr. 8, Schillerstr. 8, 75391 Gechingen
END:VEVENT
END:VCALENDAR