BEGIN:VCALENDAR
VERSION:2.0
PRODID:https://www.kufer.de/kuferweb / DE
METHOD:PUBLISH
CALSCALE:GREGORIAN
X-WR-TIMEZONE:Europe/Berlin
BEGIN:VTIMEZONE
TZID:Europe/Berlin
X-LIC-LOCATION:Europe/Berlin
BEGIN:DAYLIGHT
TZOFFSETFROM:+0100
TZOFFSETTO:+0200
TZNAME:CEST
DTSTART:19700329T020000
RRULE:FREQ=YEARLY;INTERVAL=1;BYDAY=-1SU;BYMONTH=3
END:DAYLIGHT
BEGIN:STANDARD
TZOFFSETFROM:+0200
TZOFFSETTO:+0100
TZNAME:CET
DTSTART:19701025T030000
RRULE:FREQ=YEARLY;INTERVAL=1;BYDAY=-1SU;BYMONTH=10
END:STANDARD
END:VTIMEZONE
BEGIN:VEVENT
DTSTAMP:20260421T152540
DTSTART;TZID=Europe/Berlin:20260223T170000
DTEND;TZID=Europe/Berlin:20260223T174500
UID:XGE30241-20260223T170000@VHSCALW
SUMMARY:Wirbelsäulengymnastik In der Kleingruppe (XGE30241) 
LOCATION:Gechingen, Altes Rathaus, Hauptstr. 2, Chorstube, Haupstr. 2, 75391 Gechingen
END:VEVENT
BEGIN:VEVENT
DTSTAMP:20260421T152540
DTSTART;TZID=Europe/Berlin:20260302T170000
DTEND;TZID=Europe/Berlin:20260302T174500
UID:XGE30241-20260302T170000@VHSCALW
SUMMARY:Wirbelsäulengymnastik In der Kleingruppe (XGE30241) 
LOCATION:Gechingen, Altes Rathaus, Hauptstr. 2, Chorstube, Haupstr. 2, 75391 Gechingen
END:VEVENT
BEGIN:VEVENT
DTSTAMP:20260421T152540
DTSTART;TZID=Europe/Berlin:20260309T170000
DTEND;TZID=Europe/Berlin:20260309T174500
UID:XGE30241-20260309T170000@VHSCALW
SUMMARY:Wirbelsäulengymnastik In der Kleingruppe (XGE30241) 
LOCATION:Gechingen, Altes Rathaus, Hauptstr. 2, Chorstube, Haupstr. 2, 75391 Gechingen
END:VEVENT
BEGIN:VEVENT
DTSTAMP:20260421T152540
DTSTART;TZID=Europe/Berlin:20260316T170000
DTEND;TZID=Europe/Berlin:20260316T174500
UID:XGE30241-20260316T170000@VHSCALW
SUMMARY:Wirbelsäulengymnastik In der Kleingruppe (XGE30241) 
LOCATION:Gechingen, Altes Rathaus, Hauptstr. 2, Chorstube, Haupstr. 2, 75391 Gechingen
END:VEVENT
BEGIN:VEVENT
DTSTAMP:20260421T152540
DTSTART;TZID=Europe/Berlin:20260323T170000
DTEND;TZID=Europe/Berlin:20260323T174500
UID:XGE30241-20260323T170000@VHSCALW
SUMMARY:Wirbelsäulengymnastik In der Kleingruppe (XGE30241) 
LOCATION:Gechingen, Altes Rathaus, Hauptstr. 2, Chorstube, Haupstr. 2, 75391 Gechingen
END:VEVENT
BEGIN:VEVENT
DTSTAMP:20260421T152540
DTSTART;TZID=Europe/Berlin:20260413T170000
DTEND;TZID=Europe/Berlin:20260413T174500
UID:XGE30241-20260413T170000@VHSCALW
SUMMARY:Wirbelsäulengymnastik In der Kleingruppe (XGE30241) 
LOCATION:Gechingen, Altes Rathaus, Hauptstr. 2, Chorstube, Haupstr. 2, 75391 Gechingen
END:VEVENT
BEGIN:VEVENT
DTSTAMP:20260421T152540
DTSTART;TZID=Europe/Berlin:20260420T170000
DTEND;TZID=Europe/Berlin:20260420T174500
UID:XGE30241-20260420T170000@VHSCALW
SUMMARY:Wirbelsäulengymnastik In der Kleingruppe (XGE30241) 
LOCATION:Gechingen, Altes Rathaus, Hauptstr. 2, Chorstube, Haupstr. 2, 75391 Gechingen
END:VEVENT
BEGIN:VEVENT
DTSTAMP:20260421T152540
DTSTART;TZID=Europe/Berlin:20260427T170000
DTEND;TZID=Europe/Berlin:20260427T174500
UID:XGE30241-20260427T170000@VHSCALW
SUMMARY:Wirbelsäulengymnastik In der Kleingruppe (XGE30241) 
LOCATION:Gechingen, Altes Rathaus, Hauptstr. 2, Chorstube, Haupstr. 2, 75391 Gechingen
END:VEVENT
BEGIN:VEVENT
DTSTAMP:20260421T152540
DTSTART;TZID=Europe/Berlin:20260504T170000
DTEND;TZID=Europe/Berlin:20260504T174500
UID:XGE30241-20260504T170000@VHSCALW
SUMMARY:Wirbelsäulengymnastik In der Kleingruppe (XGE30241) 
LOCATION:Gechingen, Altes Rathaus, Hauptstr. 2, Chorstube, Haupstr. 2, 75391 Gechingen
END:VEVENT
BEGIN:VEVENT
DTSTAMP:20260421T152540
DTSTART;TZID=Europe/Berlin:20260511T170000
DTEND;TZID=Europe/Berlin:20260511T174500
UID:XGE30241-20260511T170000@VHSCALW
SUMMARY:Wirbelsäulengymnastik In der Kleingruppe (XGE30241) 
LOCATION:Gechingen, Altes Rathaus, Hauptstr. 2, Chorstube, Haupstr. 2, 75391 Gechingen
END:VEVENT
END:VCALENDAR