BEGIN:VCALENDAR
VERSION:2.0
PRODID:https://www.kufer.de/kuferweb / DE
METHOD:PUBLISH
CALSCALE:GREGORIAN
X-WR-TIMEZONE:Europe/Berlin
BEGIN:VTIMEZONE
TZID:Europe/Berlin
X-LIC-LOCATION:Europe/Berlin
BEGIN:DAYLIGHT
TZOFFSETFROM:+0100
TZOFFSETTO:+0200
TZNAME:CEST
DTSTART:19700329T020000
RRULE:FREQ=YEARLY;INTERVAL=1;BYDAY=-1SU;BYMONTH=3
END:DAYLIGHT
BEGIN:STANDARD
TZOFFSETFROM:+0200
TZOFFSETTO:+0100
TZNAME:CET
DTSTART:19701025T030000
RRULE:FREQ=YEARLY;INTERVAL=1;BYDAY=-1SU;BYMONTH=10
END:STANDARD
END:VTIMEZONE
BEGIN:VEVENT
DTSTAMP:20260421T152550
DTSTART;TZID=Europe/Berlin:20260319T093000
DTEND;TZID=Europe/Berlin:20260319T104500
UID:XGE30120-20260319T093000@VHSCALW
SUMMARY:Hatha Yoga In der Kleingruppe (XGE30120) 
LOCATION:Gechingen, Altes Rathaus, Hauptstr. 2, Chorstube, Haupstr. 2, 75391 Gechingen
END:VEVENT
BEGIN:VEVENT
DTSTAMP:20260421T152550
DTSTART;TZID=Europe/Berlin:20260326T093000
DTEND;TZID=Europe/Berlin:20260326T104500
UID:XGE30120-20260326T093000@VHSCALW
SUMMARY:Hatha Yoga In der Kleingruppe (XGE30120) 
LOCATION:Gechingen, Altes Rathaus, Hauptstr. 2, Chorstube, Haupstr. 2, 75391 Gechingen
END:VEVENT
BEGIN:VEVENT
DTSTAMP:20260421T152550
DTSTART;TZID=Europe/Berlin:20260416T093000
DTEND;TZID=Europe/Berlin:20260416T104500
UID:XGE30120-20260416T093000@VHSCALW
SUMMARY:Hatha Yoga In der Kleingruppe (XGE30120) 
LOCATION:Gechingen, Altes Rathaus, Hauptstr. 2, Chorstube, Haupstr. 2, 75391 Gechingen
END:VEVENT
BEGIN:VEVENT
DTSTAMP:20260421T152550
DTSTART;TZID=Europe/Berlin:20260423T093000
DTEND;TZID=Europe/Berlin:20260423T104500
UID:XGE30120-20260423T093000@VHSCALW
SUMMARY:Hatha Yoga In der Kleingruppe (XGE30120) 
LOCATION:Gechingen, Altes Rathaus, Hauptstr. 2, Chorstube, Haupstr. 2, 75391 Gechingen
END:VEVENT
BEGIN:VEVENT
DTSTAMP:20260421T152550
DTSTART;TZID=Europe/Berlin:20260430T093000
DTEND;TZID=Europe/Berlin:20260430T104500
UID:XGE30120-20260430T093000@VHSCALW
SUMMARY:Hatha Yoga In der Kleingruppe (XGE30120) 
LOCATION:Gechingen, Altes Rathaus, Hauptstr. 2, Chorstube, Haupstr. 2, 75391 Gechingen
END:VEVENT
BEGIN:VEVENT
DTSTAMP:20260421T152550
DTSTART;TZID=Europe/Berlin:20260507T093000
DTEND;TZID=Europe/Berlin:20260507T104500
UID:XGE30120-20260507T093000@VHSCALW
SUMMARY:Hatha Yoga In der Kleingruppe (XGE30120) 
LOCATION:Gechingen, Altes Rathaus, Hauptstr. 2, Chorstube, Haupstr. 2, 75391 Gechingen
END:VEVENT
BEGIN:VEVENT
DTSTAMP:20260421T152550
DTSTART;TZID=Europe/Berlin:20260521T093000
DTEND;TZID=Europe/Berlin:20260521T104500
UID:XGE30120-20260521T093000@VHSCALW
SUMMARY:Hatha Yoga In der Kleingruppe (XGE30120) 
LOCATION:Gechingen, Altes Rathaus, Hauptstr. 2, Chorstube, Haupstr. 2, 75391 Gechingen
END:VEVENT
BEGIN:VEVENT
DTSTAMP:20260421T152550
DTSTART;TZID=Europe/Berlin:20260611T093000
DTEND;TZID=Europe/Berlin:20260611T104500
UID:XGE30120-20260611T093000@VHSCALW
SUMMARY:Hatha Yoga In der Kleingruppe (XGE30120) 
LOCATION:Gechingen, Altes Rathaus, Hauptstr. 2, Chorstube, Haupstr. 2, 75391 Gechingen
END:VEVENT
BEGIN:VEVENT
DTSTAMP:20260421T152550
DTSTART;TZID=Europe/Berlin:20260618T093000
DTEND;TZID=Europe/Berlin:20260618T104500
UID:XGE30120-20260618T093000@VHSCALW
SUMMARY:Hatha Yoga In der Kleingruppe (XGE30120) 
LOCATION:Gechingen, Altes Rathaus, Hauptstr. 2, Chorstube, Haupstr. 2, 75391 Gechingen
END:VEVENT
BEGIN:VEVENT
DTSTAMP:20260421T152550
DTSTART;TZID=Europe/Berlin:20260625T093000
DTEND;TZID=Europe/Berlin:20260625T104500
UID:XGE30120-20260625T093000@VHSCALW
SUMMARY:Hatha Yoga In der Kleingruppe (XGE30120) 
LOCATION:Gechingen, Altes Rathaus, Hauptstr. 2, Chorstube, Haupstr. 2, 75391 Gechingen
END:VEVENT
BEGIN:VEVENT
DTSTAMP:20260421T152550
DTSTART;TZID=Europe/Berlin:20260702T093000
DTEND;TZID=Europe/Berlin:20260702T104500
UID:XGE30120-20260702T093000@VHSCALW
SUMMARY:Hatha Yoga In der Kleingruppe (XGE30120) 
LOCATION:Gechingen, Altes Rathaus, Hauptstr. 2, Chorstube, Haupstr. 2, 75391 Gechingen
END:VEVENT
BEGIN:VEVENT
DTSTAMP:20260421T152550
DTSTART;TZID=Europe/Berlin:20260709T093000
DTEND;TZID=Europe/Berlin:20260709T104500
UID:XGE30120-20260709T093000@VHSCALW
SUMMARY:Hatha Yoga In der Kleingruppe (XGE30120) 
LOCATION:Gechingen, Altes Rathaus, Hauptstr. 2, Chorstube, Haupstr. 2, 75391 Gechingen
END:VEVENT
END:VCALENDAR