BEGIN:VCALENDAR
VERSION:2.0
PRODID:https://www.kufer.de/kuferweb / DE
METHOD:PUBLISH
CALSCALE:GREGORIAN
X-WR-TIMEZONE:Europe/Berlin
BEGIN:VTIMEZONE
TZID:Europe/Berlin
X-LIC-LOCATION:Europe/Berlin
BEGIN:DAYLIGHT
TZOFFSETFROM:+0100
TZOFFSETTO:+0200
TZNAME:CEST
DTSTART:19700329T020000
RRULE:FREQ=YEARLY;INTERVAL=1;BYDAY=-1SU;BYMONTH=3
END:DAYLIGHT
BEGIN:STANDARD
TZOFFSETFROM:+0200
TZOFFSETTO:+0100
TZNAME:CET
DTSTART:19701025T030000
RRULE:FREQ=YEARLY;INTERVAL=1;BYDAY=-1SU;BYMONTH=10
END:STANDARD
END:VTIMEZONE
BEGIN:VEVENT
DTSTAMP:20260421T142039
DTSTART;TZID=Europe/Berlin:20260507T183000
DTEND;TZID=Europe/Berlin:20260507T200000
UID:XEX50100-20260507T183000@VHSCALW
SUMMARY:KI in Microsoft 365 für Einsteiger - Copilot in Excel, Word, Powerpoint & Co. (XEX50100) 
LOCATION:vhs Herrenberg
END:VEVENT
BEGIN:VEVENT
DTSTAMP:20260421T142039
DTSTART;TZID=Europe/Berlin:20260521T183000
DTEND;TZID=Europe/Berlin:20260521T200000
UID:XEX50100-20260521T183000@VHSCALW
SUMMARY:KI in Microsoft 365 für Einsteiger - Copilot in Excel, Word, Powerpoint & Co. (XEX50100) 
LOCATION:vhs Herrenberg
END:VEVENT
END:VCALENDAR