BEGIN:VCALENDAR
VERSION:2.0
PRODID:https://www.kufer.de/kuferweb / DE
METHOD:PUBLISH
CALSCALE:GREGORIAN
X-WR-TIMEZONE:Europe/Berlin
BEGIN:VTIMEZONE
TZID:Europe/Berlin
X-LIC-LOCATION:Europe/Berlin
BEGIN:DAYLIGHT
TZOFFSETFROM:+0100
TZOFFSETTO:+0200
TZNAME:CEST
DTSTART:19700329T020000
RRULE:FREQ=YEARLY;INTERVAL=1;BYDAY=-1SU;BYMONTH=3
END:DAYLIGHT
BEGIN:STANDARD
TZOFFSETFROM:+0200
TZOFFSETTO:+0100
TZNAME:CET
DTSTART:19701025T030000
RRULE:FREQ=YEARLY;INTERVAL=1;BYDAY=-1SU;BYMONTH=10
END:STANDARD
END:VTIMEZONE
BEGIN:VEVENT
DTSTAMP:20260421T174220
DTSTART;TZID=Europe/Berlin:20261005T000000
DTEND;TZID=Europe/Berlin:20261005T000000
UID:XET10953-20261005T000000@VHSCALW
SUMMARY:Sizilien Monti Iblei – Süden & Westen (XET10953) 
LOCATION:Reise
END:VEVENT
BEGIN:VEVENT
DTSTAMP:20260421T174220
DTSTART;TZID=Europe/Berlin:20261006T000000
DTEND;TZID=Europe/Berlin:20261006T000000
UID:XET10953-20261006T000000@VHSCALW
SUMMARY:Sizilien Monti Iblei – Süden & Westen (XET10953) 
LOCATION:Reise
END:VEVENT
BEGIN:VEVENT
DTSTAMP:20260421T174220
DTSTART;TZID=Europe/Berlin:20261007T000000
DTEND;TZID=Europe/Berlin:20261007T000000
UID:XET10953-20261007T000000@VHSCALW
SUMMARY:Sizilien Monti Iblei – Süden & Westen (XET10953) 
LOCATION:Reise
END:VEVENT
BEGIN:VEVENT
DTSTAMP:20260421T174220
DTSTART;TZID=Europe/Berlin:20261008T000000
DTEND;TZID=Europe/Berlin:20261008T000000
UID:XET10953-20261008T000000@VHSCALW
SUMMARY:Sizilien Monti Iblei – Süden & Westen (XET10953) 
LOCATION:Reise
END:VEVENT
BEGIN:VEVENT
DTSTAMP:20260421T174220
DTSTART;TZID=Europe/Berlin:20261009T000000
DTEND;TZID=Europe/Berlin:20261009T000000
UID:XET10953-20261009T000000@VHSCALW
SUMMARY:Sizilien Monti Iblei – Süden & Westen (XET10953) 
LOCATION:Reise
END:VEVENT
BEGIN:VEVENT
DTSTAMP:20260421T174220
DTSTART;TZID=Europe/Berlin:20261010T000000
DTEND;TZID=Europe/Berlin:20261010T000000
UID:XET10953-20261010T000000@VHSCALW
SUMMARY:Sizilien Monti Iblei – Süden & Westen (XET10953) 
LOCATION:Reise
END:VEVENT
BEGIN:VEVENT
DTSTAMP:20260421T174220
DTSTART;TZID=Europe/Berlin:20261011T000000
DTEND;TZID=Europe/Berlin:20261011T000000
UID:XET10953-20261011T000000@VHSCALW
SUMMARY:Sizilien Monti Iblei – Süden & Westen (XET10953) 
LOCATION:Reise
END:VEVENT
BEGIN:VEVENT
DTSTAMP:20260421T174220
DTSTART;TZID=Europe/Berlin:20261012T000000
DTEND;TZID=Europe/Berlin:20261012T000000
UID:XET10953-20261012T000000@VHSCALW
SUMMARY:Sizilien Monti Iblei – Süden & Westen (XET10953) 
LOCATION:Reise
END:VEVENT
BEGIN:VEVENT
DTSTAMP:20260421T174220
DTSTART;TZID=Europe/Berlin:20261013T000000
DTEND;TZID=Europe/Berlin:20261013T000000
UID:XET10953-20261013T000000@VHSCALW
SUMMARY:Sizilien Monti Iblei – Süden & Westen (XET10953) 
LOCATION:Reise
END:VEVENT
BEGIN:VEVENT
DTSTAMP:20260421T174220
DTSTART;TZID=Europe/Berlin:20261014T000000
DTEND;TZID=Europe/Berlin:20261014T000000
UID:XET10953-20261014T000000@VHSCALW
SUMMARY:Sizilien Monti Iblei – Süden & Westen (XET10953) 
LOCATION:Reise
END:VEVENT
BEGIN:VEVENT
DTSTAMP:20260421T174220
DTSTART;TZID=Europe/Berlin:20261015T000000
DTEND;TZID=Europe/Berlin:20261015T000000
UID:XET10953-20261015T000000@VHSCALW
SUMMARY:Sizilien Monti Iblei – Süden & Westen (XET10953) 
LOCATION:Reise
END:VEVENT
BEGIN:VEVENT
DTSTAMP:20260421T174220
DTSTART;TZID=Europe/Berlin:20261016T000000
DTEND;TZID=Europe/Berlin:20261016T000000
UID:XET10953-20261016T000000@VHSCALW
SUMMARY:Sizilien Monti Iblei – Süden & Westen (XET10953) 
LOCATION:Reise
END:VEVENT
BEGIN:VEVENT
DTSTAMP:20260421T174220
DTSTART;TZID=Europe/Berlin:20261017T000000
DTEND;TZID=Europe/Berlin:20261017T000000
UID:XET10953-20261017T000000@VHSCALW
SUMMARY:Sizilien Monti Iblei – Süden & Westen (XET10953) 
LOCATION:Reise
END:VEVENT
BEGIN:VEVENT
DTSTAMP:20260421T174220
DTSTART;TZID=Europe/Berlin:20261018T000000
DTEND;TZID=Europe/Berlin:20261018T000000
UID:XET10953-20261018T000000@VHSCALW
SUMMARY:Sizilien Monti Iblei – Süden & Westen (XET10953) 
LOCATION:Reise
END:VEVENT
BEGIN:VEVENT
DTSTAMP:20260421T174220
DTSTART;TZID=Europe/Berlin:20261019T000000
DTEND;TZID=Europe/Berlin:20261019T000000
UID:XET10953-20261019T000000@VHSCALW
SUMMARY:Sizilien Monti Iblei – Süden & Westen (XET10953) 
LOCATION:Reise
END:VEVENT
END:VCALENDAR