BEGIN:VCALENDAR
VERSION:2.0
PRODID:https://www.kufer.de/kuferweb / DE
METHOD:PUBLISH
CALSCALE:GREGORIAN
X-WR-TIMEZONE:Europe/Berlin
BEGIN:VTIMEZONE
TZID:Europe/Berlin
X-LIC-LOCATION:Europe/Berlin
BEGIN:DAYLIGHT
TZOFFSETFROM:+0100
TZOFFSETTO:+0200
TZNAME:CEST
DTSTART:19700329T020000
RRULE:FREQ=YEARLY;INTERVAL=1;BYDAY=-1SU;BYMONTH=3
END:DAYLIGHT
BEGIN:STANDARD
TZOFFSETFROM:+0200
TZOFFSETTO:+0100
TZNAME:CET
DTSTART:19701025T030000
RRULE:FREQ=YEARLY;INTERVAL=1;BYDAY=-1SU;BYMONTH=10
END:STANDARD
END:VTIMEZONE
BEGIN:VEVENT
DTSTAMP:20260421T160300
DTSTART;TZID=Europe/Berlin:20261121T000000
DTEND;TZID=Europe/Berlin:20261121T000000
UID:XET10950-20261121T000000@VHSCALW
SUMMARY:Sri Lanka (XET10950) 
LOCATION:Reise
END:VEVENT
BEGIN:VEVENT
DTSTAMP:20260421T160300
DTSTART;TZID=Europe/Berlin:20261122T000000
DTEND;TZID=Europe/Berlin:20261122T000000
UID:XET10950-20261122T000000@VHSCALW
SUMMARY:Sri Lanka (XET10950) 
LOCATION:Reise
END:VEVENT
BEGIN:VEVENT
DTSTAMP:20260421T160300
DTSTART;TZID=Europe/Berlin:20261123T000000
DTEND;TZID=Europe/Berlin:20261123T000000
UID:XET10950-20261123T000000@VHSCALW
SUMMARY:Sri Lanka (XET10950) 
LOCATION:Reise
END:VEVENT
BEGIN:VEVENT
DTSTAMP:20260421T160300
DTSTART;TZID=Europe/Berlin:20261124T000000
DTEND;TZID=Europe/Berlin:20261124T000000
UID:XET10950-20261124T000000@VHSCALW
SUMMARY:Sri Lanka (XET10950) 
LOCATION:Reise
END:VEVENT
BEGIN:VEVENT
DTSTAMP:20260421T160300
DTSTART;TZID=Europe/Berlin:20261125T000000
DTEND;TZID=Europe/Berlin:20261125T000000
UID:XET10950-20261125T000000@VHSCALW
SUMMARY:Sri Lanka (XET10950) 
LOCATION:Reise
END:VEVENT
BEGIN:VEVENT
DTSTAMP:20260421T160300
DTSTART;TZID=Europe/Berlin:20261126T000000
DTEND;TZID=Europe/Berlin:20261126T000000
UID:XET10950-20261126T000000@VHSCALW
SUMMARY:Sri Lanka (XET10950) 
LOCATION:Reise
END:VEVENT
BEGIN:VEVENT
DTSTAMP:20260421T160300
DTSTART;TZID=Europe/Berlin:20261127T000000
DTEND;TZID=Europe/Berlin:20261127T000000
UID:XET10950-20261127T000000@VHSCALW
SUMMARY:Sri Lanka (XET10950) 
LOCATION:Reise
END:VEVENT
BEGIN:VEVENT
DTSTAMP:20260421T160300
DTSTART;TZID=Europe/Berlin:20261128T000000
DTEND;TZID=Europe/Berlin:20261128T000000
UID:XET10950-20261128T000000@VHSCALW
SUMMARY:Sri Lanka (XET10950) 
LOCATION:Reise
END:VEVENT
BEGIN:VEVENT
DTSTAMP:20260421T160300
DTSTART;TZID=Europe/Berlin:20261129T000000
DTEND;TZID=Europe/Berlin:20261129T000000
UID:XET10950-20261129T000000@VHSCALW
SUMMARY:Sri Lanka (XET10950) 
LOCATION:Reise
END:VEVENT
BEGIN:VEVENT
DTSTAMP:20260421T160300
DTSTART;TZID=Europe/Berlin:20261130T000000
DTEND;TZID=Europe/Berlin:20261130T000000
UID:XET10950-20261130T000000@VHSCALW
SUMMARY:Sri Lanka (XET10950) 
LOCATION:Reise
END:VEVENT
BEGIN:VEVENT
DTSTAMP:20260421T160300
DTSTART;TZID=Europe/Berlin:20261201T000000
DTEND;TZID=Europe/Berlin:20261201T000000
UID:XET10950-20261201T000000@VHSCALW
SUMMARY:Sri Lanka (XET10950) 
LOCATION:Reise
END:VEVENT
BEGIN:VEVENT
DTSTAMP:20260421T160300
DTSTART;TZID=Europe/Berlin:20261202T000000
DTEND;TZID=Europe/Berlin:20261202T000000
UID:XET10950-20261202T000000@VHSCALW
SUMMARY:Sri Lanka (XET10950) 
LOCATION:Reise
END:VEVENT
BEGIN:VEVENT
DTSTAMP:20260421T160300
DTSTART;TZID=Europe/Berlin:20261203T000000
DTEND;TZID=Europe/Berlin:20261203T000000
UID:XET10950-20261203T000000@VHSCALW
SUMMARY:Sri Lanka (XET10950) 
LOCATION:Reise
END:VEVENT
BEGIN:VEVENT
DTSTAMP:20260421T160300
DTSTART;TZID=Europe/Berlin:20261204T000000
DTEND;TZID=Europe/Berlin:20261204T000000
UID:XET10950-20261204T000000@VHSCALW
SUMMARY:Sri Lanka (XET10950) 
LOCATION:Reise
END:VEVENT
BEGIN:VEVENT
DTSTAMP:20260421T160300
DTSTART;TZID=Europe/Berlin:20261205T000000
DTEND;TZID=Europe/Berlin:20261205T000000
UID:XET10950-20261205T000000@VHSCALW
SUMMARY:Sri Lanka (XET10950) 
LOCATION:Reise
END:VEVENT
BEGIN:VEVENT
DTSTAMP:20260421T160300
DTSTART;TZID=Europe/Berlin:20261206T000000
DTEND;TZID=Europe/Berlin:20261206T000000
UID:XET10950-20261206T000000@VHSCALW
SUMMARY:Sri Lanka (XET10950) 
LOCATION:Reise
END:VEVENT
BEGIN:VEVENT
DTSTAMP:20260421T160300
DTSTART;TZID=Europe/Berlin:20261207T000000
DTEND;TZID=Europe/Berlin:20261207T000000
UID:XET10950-20261207T000000@VHSCALW
SUMMARY:Sri Lanka (XET10950) 
LOCATION:Reise
END:VEVENT
BEGIN:VEVENT
DTSTAMP:20260421T160300
DTSTART;TZID=Europe/Berlin:20261208T000000
DTEND;TZID=Europe/Berlin:20261208T000000
UID:XET10950-20261208T000000@VHSCALW
SUMMARY:Sri Lanka (XET10950) 
LOCATION:Reise
END:VEVENT
END:VCALENDAR