BEGIN:VCALENDAR
VERSION:2.0
PRODID:https://www.kufer.de/kuferweb / DE
METHOD:PUBLISH
CALSCALE:GREGORIAN
X-WR-TIMEZONE:Europe/Berlin
BEGIN:VTIMEZONE
TZID:Europe/Berlin
X-LIC-LOCATION:Europe/Berlin
BEGIN:DAYLIGHT
TZOFFSETFROM:+0100
TZOFFSETTO:+0200
TZNAME:CEST
DTSTART:19700329T020000
RRULE:FREQ=YEARLY;INTERVAL=1;BYDAY=-1SU;BYMONTH=3
END:DAYLIGHT
BEGIN:STANDARD
TZOFFSETFROM:+0200
TZOFFSETTO:+0100
TZNAME:CET
DTSTART:19701025T030000
RRULE:FREQ=YEARLY;INTERVAL=1;BYDAY=-1SU;BYMONTH=10
END:STANDARD
END:VTIMEZONE
BEGIN:VEVENT
DTSTAMP:20260421T152306
DTSTART;TZID=Europe/Berlin:20260609T194500
DTEND;TZID=Europe/Berlin:20260609T204500
UID:XDB30201-20260609T194500@VHSCALW
SUMMARY:Fitnesscocktail In der Kleingruppe (XDB30201) 
LOCATION:Dobel, Sporthalle, Gymnastikraum, Neue Herrenalber Str. 13,
END:VEVENT
BEGIN:VEVENT
DTSTAMP:20260421T152306
DTSTART;TZID=Europe/Berlin:20260616T194500
DTEND;TZID=Europe/Berlin:20260616T204500
UID:XDB30201-20260616T194500@VHSCALW
SUMMARY:Fitnesscocktail In der Kleingruppe (XDB30201) 
LOCATION:Dobel, Sporthalle, Gymnastikraum, Neue Herrenalber Str. 13,
END:VEVENT
BEGIN:VEVENT
DTSTAMP:20260421T152306
DTSTART;TZID=Europe/Berlin:20260707T194500
DTEND;TZID=Europe/Berlin:20260707T204500
UID:XDB30201-20260707T194500@VHSCALW
SUMMARY:Fitnesscocktail In der Kleingruppe (XDB30201) 
LOCATION:Dobel, Sporthalle, Gymnastikraum, Neue Herrenalber Str. 13,
END:VEVENT
BEGIN:VEVENT
DTSTAMP:20260421T152306
DTSTART;TZID=Europe/Berlin:20260714T194500
DTEND;TZID=Europe/Berlin:20260714T204500
UID:XDB30201-20260714T194500@VHSCALW
SUMMARY:Fitnesscocktail In der Kleingruppe (XDB30201) 
LOCATION:Dobel, Sporthalle, Gymnastikraum, Neue Herrenalber Str. 13,
END:VEVENT
BEGIN:VEVENT
DTSTAMP:20260421T152306
DTSTART;TZID=Europe/Berlin:20260721T194500
DTEND;TZID=Europe/Berlin:20260721T204500
UID:XDB30201-20260721T194500@VHSCALW
SUMMARY:Fitnesscocktail In der Kleingruppe (XDB30201) 
LOCATION:Dobel, Sporthalle, Gymnastikraum, Neue Herrenalber Str. 13,
END:VEVENT
BEGIN:VEVENT
DTSTAMP:20260421T152306
DTSTART;TZID=Europe/Berlin:20260728T194500
DTEND;TZID=Europe/Berlin:20260728T204500
UID:XDB30201-20260728T194500@VHSCALW
SUMMARY:Fitnesscocktail In der Kleingruppe (XDB30201) 
LOCATION:Dobel, Sporthalle, Gymnastikraum, Neue Herrenalber Str. 13,
END:VEVENT
END:VCALENDAR