BEGIN:VCALENDAR
VERSION:2.0
PRODID:https://www.kufer.de/kuferweb / DE
METHOD:PUBLISH
CALSCALE:GREGORIAN
X-WR-TIMEZONE:Europe/Berlin
BEGIN:VTIMEZONE
TZID:Europe/Berlin
X-LIC-LOCATION:Europe/Berlin
BEGIN:DAYLIGHT
TZOFFSETFROM:+0100
TZOFFSETTO:+0200
TZNAME:CEST
DTSTART:19700329T020000
RRULE:FREQ=YEARLY;INTERVAL=1;BYDAY=-1SU;BYMONTH=3
END:DAYLIGHT
BEGIN:STANDARD
TZOFFSETFROM:+0200
TZOFFSETTO:+0100
TZNAME:CET
DTSTART:19701025T030000
RRULE:FREQ=YEARLY;INTERVAL=1;BYDAY=-1SU;BYMONTH=10
END:STANDARD
END:VTIMEZONE
BEGIN:VEVENT
DTSTAMP:20260421T152342
DTSTART;TZID=Europe/Berlin:20260516T130000
DTEND;TZID=Europe/Berlin:20260516T180000
UID:XDB21300-20260516T130000@VHSCALW
SUMMARY:Tischharfe: Kompaktkurs (XDB21300) 
LOCATION:Dobel, Kurhaus, Neue Herrenalber Str. 11, vhs-Raum, Neue Herrenalber Str. 11, 75335 Dobel
END:VEVENT
BEGIN:VEVENT
DTSTAMP:20260421T152342
DTSTART;TZID=Europe/Berlin:20260613T130000
DTEND;TZID=Europe/Berlin:20260613T180000
UID:XDB21300-20260613T130000@VHSCALW
SUMMARY:Tischharfe: Kompaktkurs (XDB21300) 
LOCATION:Dobel, Kurhaus, Neue Herrenalber Str. 11, vhs-Raum, Neue Herrenalber Str. 11, 75335 Dobel
END:VEVENT
END:VCALENDAR