BEGIN:VCALENDAR
VERSION:2.0
PRODID:https://www.kufer.de/kuferweb / DE
METHOD:PUBLISH
CALSCALE:GREGORIAN
X-WR-TIMEZONE:Europe/Berlin
BEGIN:VTIMEZONE
TZID:Europe/Berlin
X-LIC-LOCATION:Europe/Berlin
BEGIN:DAYLIGHT
TZOFFSETFROM:+0100
TZOFFSETTO:+0200
TZNAME:CEST
DTSTART:19700329T020000
RRULE:FREQ=YEARLY;INTERVAL=1;BYDAY=-1SU;BYMONTH=3
END:DAYLIGHT
BEGIN:STANDARD
TZOFFSETFROM:+0200
TZOFFSETTO:+0100
TZNAME:CET
DTSTART:19701025T030000
RRULE:FREQ=YEARLY;INTERVAL=1;BYDAY=-1SU;BYMONTH=10
END:STANDARD
END:VTIMEZONE
BEGIN:VEVENT
DTSTAMP:20260422T124739
DTSTART;TZID=Europe/Berlin:20260907T140000
DTEND;TZID=Europe/Berlin:20260907T163000
UID:XCW89290-20260907T140000@VHSCALW
SUMMARY:Granny Squares – dein Style in Maschen Häkelkurs für Jugendliche 10-16 Jahre (XCW89290) 
LOCATION:Calw, vhs, Raum U1, Kirchplatz 3, 75365 Calw
END:VEVENT
BEGIN:VEVENT
DTSTAMP:20260422T124739
DTSTART;TZID=Europe/Berlin:20260908T140000
DTEND;TZID=Europe/Berlin:20260908T163000
UID:XCW89290-20260908T140000@VHSCALW
SUMMARY:Granny Squares – dein Style in Maschen Häkelkurs für Jugendliche 10-16 Jahre (XCW89290) 
LOCATION:Calw, vhs, Raum U1, Kirchplatz 3, 75365 Calw
END:VEVENT
BEGIN:VEVENT
DTSTAMP:20260422T124739
DTSTART;TZID=Europe/Berlin:20260909T140000
DTEND;TZID=Europe/Berlin:20260909T163000
UID:XCW89290-20260909T140000@VHSCALW
SUMMARY:Granny Squares – dein Style in Maschen Häkelkurs für Jugendliche 10-16 Jahre (XCW89290) 
LOCATION:Calw, vhs, Raum U1, Kirchplatz 3, 75365 Calw
END:VEVENT
END:VCALENDAR