BEGIN:VCALENDAR
VERSION:2.0
PRODID:https://www.kufer.de/kuferweb / DE
METHOD:PUBLISH
CALSCALE:GREGORIAN
X-WR-TIMEZONE:Europe/Berlin
BEGIN:VTIMEZONE
TZID:Europe/Berlin
X-LIC-LOCATION:Europe/Berlin
BEGIN:DAYLIGHT
TZOFFSETFROM:+0100
TZOFFSETTO:+0200
TZNAME:CEST
DTSTART:19700329T020000
RRULE:FREQ=YEARLY;INTERVAL=1;BYDAY=-1SU;BYMONTH=3
END:DAYLIGHT
BEGIN:STANDARD
TZOFFSETFROM:+0200
TZOFFSETTO:+0100
TZNAME:CET
DTSTART:19701025T030000
RRULE:FREQ=YEARLY;INTERVAL=1;BYDAY=-1SU;BYMONTH=10
END:STANDARD
END:VTIMEZONE
BEGIN:VEVENT
DTSTAMP:20260421T180401
DTSTART;TZID=Europe/Berlin:20260611T140000
DTEND;TZID=Europe/Berlin:20260611T170000
UID:XCW50100-20260611T140000@VHSCALW
SUMMARY:Fit am Computer und Laptop: Kurs für Senioren mit fortgeschrittenen Kenntnissen (XCW50100) 
LOCATION:Calw, vhs, Raum 04, Kirchplatz 3, 75365 Calw
END:VEVENT
BEGIN:VEVENT
DTSTAMP:20260421T180401
DTSTART;TZID=Europe/Berlin:20260618T140000
DTEND;TZID=Europe/Berlin:20260618T170000
UID:XCW50100-20260618T140000@VHSCALW
SUMMARY:Fit am Computer und Laptop: Kurs für Senioren mit fortgeschrittenen Kenntnissen (XCW50100) 
LOCATION:Calw, vhs, Raum 04, Kirchplatz 3, 75365 Calw
END:VEVENT
BEGIN:VEVENT
DTSTAMP:20260421T180401
DTSTART;TZID=Europe/Berlin:20260625T140000
DTEND;TZID=Europe/Berlin:20260625T170000
UID:XCW50100-20260625T140000@VHSCALW
SUMMARY:Fit am Computer und Laptop: Kurs für Senioren mit fortgeschrittenen Kenntnissen (XCW50100) 
LOCATION:Calw, vhs, Raum 04, Kirchplatz 3, 75365 Calw
END:VEVENT
BEGIN:VEVENT
DTSTAMP:20260421T180401
DTSTART;TZID=Europe/Berlin:20260702T140000
DTEND;TZID=Europe/Berlin:20260702T170000
UID:XCW50100-20260702T140000@VHSCALW
SUMMARY:Fit am Computer und Laptop: Kurs für Senioren mit fortgeschrittenen Kenntnissen (XCW50100) 
LOCATION:Calw, vhs, Raum 04, Kirchplatz 3, 75365 Calw
END:VEVENT
BEGIN:VEVENT
DTSTAMP:20260421T180401
DTSTART;TZID=Europe/Berlin:20260709T140000
DTEND;TZID=Europe/Berlin:20260709T170000
UID:XCW50100-20260709T140000@VHSCALW
SUMMARY:Fit am Computer und Laptop: Kurs für Senioren mit fortgeschrittenen Kenntnissen (XCW50100) 
LOCATION:Calw, vhs, Raum 04, Kirchplatz 3, 75365 Calw
END:VEVENT
BEGIN:VEVENT
DTSTAMP:20260421T180401
DTSTART;TZID=Europe/Berlin:20260716T140000
DTEND;TZID=Europe/Berlin:20260716T170000
UID:XCW50100-20260716T140000@VHSCALW
SUMMARY:Fit am Computer und Laptop: Kurs für Senioren mit fortgeschrittenen Kenntnissen (XCW50100) 
LOCATION:Calw, vhs, Raum 04, Kirchplatz 3, 75365 Calw
END:VEVENT
END:VCALENDAR