BEGIN:VCALENDAR
VERSION:2.0
PRODID:https://www.kufer.de/kuferweb / DE
METHOD:PUBLISH
CALSCALE:GREGORIAN
X-WR-TIMEZONE:Europe/Berlin
BEGIN:VTIMEZONE
TZID:Europe/Berlin
X-LIC-LOCATION:Europe/Berlin
BEGIN:DAYLIGHT
TZOFFSETFROM:+0100
TZOFFSETTO:+0200
TZNAME:CEST
DTSTART:19700329T020000
RRULE:FREQ=YEARLY;INTERVAL=1;BYDAY=-1SU;BYMONTH=3
END:DAYLIGHT
BEGIN:STANDARD
TZOFFSETFROM:+0200
TZOFFSETTO:+0100
TZNAME:CET
DTSTART:19701025T030000
RRULE:FREQ=YEARLY;INTERVAL=1;BYDAY=-1SU;BYMONTH=10
END:STANDARD
END:VTIMEZONE
BEGIN:VEVENT
DTSTAMP:20260421T221305
DTSTART;TZID=Europe/Berlin:20260323T084500
DTEND;TZID=Europe/Berlin:20260323T120000
UID:XCW44501-20260323T084500@VHSCALW
SUMMARY:Deutsch Integrationskurs A1 Modul 1 Für Anfänger ohne Vorkenntnisse (XCW44501) 
LOCATION:Calw, vhs, Raum 12, Kirchplatz 3, 75365 Calw
END:VEVENT
BEGIN:VEVENT
DTSTAMP:20260421T221305
DTSTART;TZID=Europe/Berlin:20260324T084500
DTEND;TZID=Europe/Berlin:20260324T120000
UID:XCW44501-20260324T084500@VHSCALW
SUMMARY:Deutsch Integrationskurs A1 Modul 1 Für Anfänger ohne Vorkenntnisse (XCW44501) 
LOCATION:Calw, vhs, Raum 12, Kirchplatz 3, 75365 Calw
END:VEVENT
BEGIN:VEVENT
DTSTAMP:20260421T221305
DTSTART;TZID=Europe/Berlin:20260325T084500
DTEND;TZID=Europe/Berlin:20260325T120000
UID:XCW44501-20260325T084500@VHSCALW
SUMMARY:Deutsch Integrationskurs A1 Modul 1 Für Anfänger ohne Vorkenntnisse (XCW44501) 
LOCATION:Calw, vhs, Raum 12, Kirchplatz 3, 75365 Calw
END:VEVENT
BEGIN:VEVENT
DTSTAMP:20260421T221305
DTSTART;TZID=Europe/Berlin:20260326T084500
DTEND;TZID=Europe/Berlin:20260326T120000
UID:XCW44501-20260326T084500@VHSCALW
SUMMARY:Deutsch Integrationskurs A1 Modul 1 Für Anfänger ohne Vorkenntnisse (XCW44501) 
LOCATION:Calw, vhs, Raum 12, Kirchplatz 3, 75365 Calw
END:VEVENT
BEGIN:VEVENT
DTSTAMP:20260421T221305
DTSTART;TZID=Europe/Berlin:20260327T084500
DTEND;TZID=Europe/Berlin:20260327T120000
UID:XCW44501-20260327T084500@VHSCALW
SUMMARY:Deutsch Integrationskurs A1 Modul 1 Für Anfänger ohne Vorkenntnisse (XCW44501) 
LOCATION:Calw, vhs, Raum 12, Kirchplatz 3, 75365 Calw
END:VEVENT
BEGIN:VEVENT
DTSTAMP:20260421T221305
DTSTART;TZID=Europe/Berlin:20260413T084500
DTEND;TZID=Europe/Berlin:20260413T120000
UID:XCW44501-20260413T084500@VHSCALW
SUMMARY:Deutsch Integrationskurs A1 Modul 1 Für Anfänger ohne Vorkenntnisse (XCW44501) 
LOCATION:Calw, vhs, Raum 12, Kirchplatz 3, 75365 Calw
END:VEVENT
BEGIN:VEVENT
DTSTAMP:20260421T221305
DTSTART;TZID=Europe/Berlin:20260414T084500
DTEND;TZID=Europe/Berlin:20260414T120000
UID:XCW44501-20260414T084500@VHSCALW
SUMMARY:Deutsch Integrationskurs A1 Modul 1 Für Anfänger ohne Vorkenntnisse (XCW44501) 
LOCATION:Calw, vhs, Raum 12, Kirchplatz 3, 75365 Calw
END:VEVENT
BEGIN:VEVENT
DTSTAMP:20260421T221305
DTSTART;TZID=Europe/Berlin:20260415T084500
DTEND;TZID=Europe/Berlin:20260415T120000
UID:XCW44501-20260415T084500@VHSCALW
SUMMARY:Deutsch Integrationskurs A1 Modul 1 Für Anfänger ohne Vorkenntnisse (XCW44501) 
LOCATION:Calw, vhs, Raum 12, Kirchplatz 3, 75365 Calw
END:VEVENT
BEGIN:VEVENT
DTSTAMP:20260421T221305
DTSTART;TZID=Europe/Berlin:20260416T084500
DTEND;TZID=Europe/Berlin:20260416T120000
UID:XCW44501-20260416T084500@VHSCALW
SUMMARY:Deutsch Integrationskurs A1 Modul 1 Für Anfänger ohne Vorkenntnisse (XCW44501) 
LOCATION:Calw, vhs, Raum 12, Kirchplatz 3, 75365 Calw
END:VEVENT
BEGIN:VEVENT
DTSTAMP:20260421T221305
DTSTART;TZID=Europe/Berlin:20260417T084500
DTEND;TZID=Europe/Berlin:20260417T120000
UID:XCW44501-20260417T084500@VHSCALW
SUMMARY:Deutsch Integrationskurs A1 Modul 1 Für Anfänger ohne Vorkenntnisse (XCW44501) 
LOCATION:Calw, vhs, Raum 12, Kirchplatz 3, 75365 Calw
END:VEVENT
BEGIN:VEVENT
DTSTAMP:20260421T221305
DTSTART;TZID=Europe/Berlin:20260420T084500
DTEND;TZID=Europe/Berlin:20260420T120000
UID:XCW44501-20260420T084500@VHSCALW
SUMMARY:Deutsch Integrationskurs A1 Modul 1 Für Anfänger ohne Vorkenntnisse (XCW44501) 
LOCATION:Calw, vhs, Raum 12, Kirchplatz 3, 75365 Calw
END:VEVENT
BEGIN:VEVENT
DTSTAMP:20260421T221305
DTSTART;TZID=Europe/Berlin:20260421T084500
DTEND;TZID=Europe/Berlin:20260421T120000
UID:XCW44501-20260421T084500@VHSCALW
SUMMARY:Deutsch Integrationskurs A1 Modul 1 Für Anfänger ohne Vorkenntnisse (XCW44501) 
LOCATION:Calw, vhs, Raum 12, Kirchplatz 3, 75365 Calw
END:VEVENT
BEGIN:VEVENT
DTSTAMP:20260421T221305
DTSTART;TZID=Europe/Berlin:20260422T084500
DTEND;TZID=Europe/Berlin:20260422T120000
UID:XCW44501-20260422T084500@VHSCALW
SUMMARY:Deutsch Integrationskurs A1 Modul 1 Für Anfänger ohne Vorkenntnisse (XCW44501) 
LOCATION:Calw, vhs, Raum 12, Kirchplatz 3, 75365 Calw
END:VEVENT
BEGIN:VEVENT
DTSTAMP:20260421T221305
DTSTART;TZID=Europe/Berlin:20260423T084500
DTEND;TZID=Europe/Berlin:20260423T120000
UID:XCW44501-20260423T084500@VHSCALW
SUMMARY:Deutsch Integrationskurs A1 Modul 1 Für Anfänger ohne Vorkenntnisse (XCW44501) 
LOCATION:Calw, vhs, Raum 12, Kirchplatz 3, 75365 Calw
END:VEVENT
BEGIN:VEVENT
DTSTAMP:20260421T221305
DTSTART;TZID=Europe/Berlin:20260424T084500
DTEND;TZID=Europe/Berlin:20260424T120000
UID:XCW44501-20260424T084500@VHSCALW
SUMMARY:Deutsch Integrationskurs A1 Modul 1 Für Anfänger ohne Vorkenntnisse (XCW44501) 
LOCATION:Calw, vhs, Raum 12, Kirchplatz 3, 75365 Calw
END:VEVENT
BEGIN:VEVENT
DTSTAMP:20260421T221305
DTSTART;TZID=Europe/Berlin:20260427T084500
DTEND;TZID=Europe/Berlin:20260427T120000
UID:XCW44501-20260427T084500@VHSCALW
SUMMARY:Deutsch Integrationskurs A1 Modul 1 Für Anfänger ohne Vorkenntnisse (XCW44501) 
LOCATION:Calw, vhs, Raum 12, Kirchplatz 3, 75365 Calw
END:VEVENT
BEGIN:VEVENT
DTSTAMP:20260421T221305
DTSTART;TZID=Europe/Berlin:20260428T084500
DTEND;TZID=Europe/Berlin:20260428T120000
UID:XCW44501-20260428T084500@VHSCALW
SUMMARY:Deutsch Integrationskurs A1 Modul 1 Für Anfänger ohne Vorkenntnisse (XCW44501) 
LOCATION:Calw, vhs, Raum 12, Kirchplatz 3, 75365 Calw
END:VEVENT
BEGIN:VEVENT
DTSTAMP:20260421T221305
DTSTART;TZID=Europe/Berlin:20260429T084500
DTEND;TZID=Europe/Berlin:20260429T120000
UID:XCW44501-20260429T084500@VHSCALW
SUMMARY:Deutsch Integrationskurs A1 Modul 1 Für Anfänger ohne Vorkenntnisse (XCW44501) 
LOCATION:Calw, vhs, Raum 12, Kirchplatz 3, 75365 Calw
END:VEVENT
BEGIN:VEVENT
DTSTAMP:20260421T221305
DTSTART;TZID=Europe/Berlin:20260430T084500
DTEND;TZID=Europe/Berlin:20260430T120000
UID:XCW44501-20260430T084500@VHSCALW
SUMMARY:Deutsch Integrationskurs A1 Modul 1 Für Anfänger ohne Vorkenntnisse (XCW44501) 
LOCATION:Calw, vhs, Raum 12, Kirchplatz 3, 75365 Calw
END:VEVENT
BEGIN:VEVENT
DTSTAMP:20260421T221305
DTSTART;TZID=Europe/Berlin:20260504T084500
DTEND;TZID=Europe/Berlin:20260504T120000
UID:XCW44501-20260504T084500@VHSCALW
SUMMARY:Deutsch Integrationskurs A1 Modul 1 Für Anfänger ohne Vorkenntnisse (XCW44501) 
LOCATION:Calw, vhs, Raum 12, Kirchplatz 3, 75365 Calw
END:VEVENT
BEGIN:VEVENT
DTSTAMP:20260421T221305
DTSTART;TZID=Europe/Berlin:20260505T084500
DTEND;TZID=Europe/Berlin:20260505T120000
UID:XCW44501-20260505T084500@VHSCALW
SUMMARY:Deutsch Integrationskurs A1 Modul 1 Für Anfänger ohne Vorkenntnisse (XCW44501) 
LOCATION:Calw, vhs, Raum 12, Kirchplatz 3, 75365 Calw
END:VEVENT
BEGIN:VEVENT
DTSTAMP:20260421T221305
DTSTART;TZID=Europe/Berlin:20260506T084500
DTEND;TZID=Europe/Berlin:20260506T120000
UID:XCW44501-20260506T084500@VHSCALW
SUMMARY:Deutsch Integrationskurs A1 Modul 1 Für Anfänger ohne Vorkenntnisse (XCW44501) 
LOCATION:Calw, vhs, Raum 12, Kirchplatz 3, 75365 Calw
END:VEVENT
BEGIN:VEVENT
DTSTAMP:20260421T221305
DTSTART;TZID=Europe/Berlin:20260507T084500
DTEND;TZID=Europe/Berlin:20260507T120000
UID:XCW44501-20260507T084500@VHSCALW
SUMMARY:Deutsch Integrationskurs A1 Modul 1 Für Anfänger ohne Vorkenntnisse (XCW44501) 
LOCATION:Calw, vhs, Raum 12, Kirchplatz 3, 75365 Calw
END:VEVENT
BEGIN:VEVENT
DTSTAMP:20260421T221305
DTSTART;TZID=Europe/Berlin:20260508T084500
DTEND;TZID=Europe/Berlin:20260508T120000
UID:XCW44501-20260508T084500@VHSCALW
SUMMARY:Deutsch Integrationskurs A1 Modul 1 Für Anfänger ohne Vorkenntnisse (XCW44501) 
LOCATION:Calw, vhs, Raum 12, Kirchplatz 3, 75365 Calw
END:VEVENT
BEGIN:VEVENT
DTSTAMP:20260421T221305
DTSTART;TZID=Europe/Berlin:20260511T084500
DTEND;TZID=Europe/Berlin:20260511T120000
UID:XCW44501-20260511T084500@VHSCALW
SUMMARY:Deutsch Integrationskurs A1 Modul 1 Für Anfänger ohne Vorkenntnisse (XCW44501) 
LOCATION:Calw, vhs, Raum 12, Kirchplatz 3, 75365 Calw
END:VEVENT
END:VCALENDAR