BEGIN:VCALENDAR
VERSION:2.0
PRODID:https://www.kufer.de/kuferweb / DE
METHOD:PUBLISH
CALSCALE:GREGORIAN
X-WR-TIMEZONE:Europe/Berlin
BEGIN:VTIMEZONE
TZID:Europe/Berlin
X-LIC-LOCATION:Europe/Berlin
BEGIN:DAYLIGHT
TZOFFSETFROM:+0100
TZOFFSETTO:+0200
TZNAME:CEST
DTSTART:19700329T020000
RRULE:FREQ=YEARLY;INTERVAL=1;BYDAY=-1SU;BYMONTH=3
END:DAYLIGHT
BEGIN:STANDARD
TZOFFSETFROM:+0200
TZOFFSETTO:+0100
TZNAME:CET
DTSTART:19701025T030000
RRULE:FREQ=YEARLY;INTERVAL=1;BYDAY=-1SU;BYMONTH=10
END:STANDARD
END:VTIMEZONE
BEGIN:VEVENT
DTSTAMP:20260421T181651
DTSTART;TZID=Europe/Berlin:20260223T180000
DTEND;TZID=Europe/Berlin:20260223T193000
UID:XCW40422-20260223T180000@VHSCALW
SUMMARY:Deutsch B1.1 für Alltag und Beruf Fortsetzung Kleingruppe (XCW40422) 
LOCATION:Calw, vhs, Raum 02, Kirchplatz 3, 75365 Calw
END:VEVENT
BEGIN:VEVENT
DTSTAMP:20260421T181651
DTSTART;TZID=Europe/Berlin:20260225T180000
DTEND;TZID=Europe/Berlin:20260225T193000
UID:XCW40422-20260225T180000@VHSCALW
SUMMARY:Deutsch B1.1 für Alltag und Beruf Fortsetzung Kleingruppe (XCW40422) 
LOCATION:Calw, vhs, Raum 02, Kirchplatz 3, 75365 Calw
END:VEVENT
BEGIN:VEVENT
DTSTAMP:20260421T181651
DTSTART;TZID=Europe/Berlin:20260302T180000
DTEND;TZID=Europe/Berlin:20260302T193000
UID:XCW40422-20260302T180000@VHSCALW
SUMMARY:Deutsch B1.1 für Alltag und Beruf Fortsetzung Kleingruppe (XCW40422) 
LOCATION:Calw, vhs, Raum 02, Kirchplatz 3, 75365 Calw
END:VEVENT
BEGIN:VEVENT
DTSTAMP:20260421T181651
DTSTART;TZID=Europe/Berlin:20260304T180000
DTEND;TZID=Europe/Berlin:20260304T193000
UID:XCW40422-20260304T180000@VHSCALW
SUMMARY:Deutsch B1.1 für Alltag und Beruf Fortsetzung Kleingruppe (XCW40422) 
LOCATION:Calw, vhs, Raum 02, Kirchplatz 3, 75365 Calw
END:VEVENT
BEGIN:VEVENT
DTSTAMP:20260421T181651
DTSTART;TZID=Europe/Berlin:20260309T180000
DTEND;TZID=Europe/Berlin:20260309T193000
UID:XCW40422-20260309T180000@VHSCALW
SUMMARY:Deutsch B1.1 für Alltag und Beruf Fortsetzung Kleingruppe (XCW40422) 
LOCATION:Calw, vhs, Raum 02, Kirchplatz 3, 75365 Calw
END:VEVENT
BEGIN:VEVENT
DTSTAMP:20260421T181651
DTSTART;TZID=Europe/Berlin:20260311T180000
DTEND;TZID=Europe/Berlin:20260311T193000
UID:XCW40422-20260311T180000@VHSCALW
SUMMARY:Deutsch B1.1 für Alltag und Beruf Fortsetzung Kleingruppe (XCW40422) 
LOCATION:Calw, vhs, Raum 02, Kirchplatz 3, 75365 Calw
END:VEVENT
BEGIN:VEVENT
DTSTAMP:20260421T181651
DTSTART;TZID=Europe/Berlin:20260316T180000
DTEND;TZID=Europe/Berlin:20260316T193000
UID:XCW40422-20260316T180000@VHSCALW
SUMMARY:Deutsch B1.1 für Alltag und Beruf Fortsetzung Kleingruppe (XCW40422) 
LOCATION:Calw, vhs, Raum 02, Kirchplatz 3, 75365 Calw
END:VEVENT
BEGIN:VEVENT
DTSTAMP:20260421T181651
DTSTART;TZID=Europe/Berlin:20260318T180000
DTEND;TZID=Europe/Berlin:20260318T193000
UID:XCW40422-20260318T180000@VHSCALW
SUMMARY:Deutsch B1.1 für Alltag und Beruf Fortsetzung Kleingruppe (XCW40422) 
LOCATION:Calw, vhs, Raum 02, Kirchplatz 3, 75365 Calw
END:VEVENT
BEGIN:VEVENT
DTSTAMP:20260421T181651
DTSTART;TZID=Europe/Berlin:20260323T180000
DTEND;TZID=Europe/Berlin:20260323T193000
UID:XCW40422-20260323T180000@VHSCALW
SUMMARY:Deutsch B1.1 für Alltag und Beruf Fortsetzung Kleingruppe (XCW40422) 
LOCATION:Calw, vhs, Raum 02, Kirchplatz 3, 75365 Calw
END:VEVENT
BEGIN:VEVENT
DTSTAMP:20260421T181651
DTSTART;TZID=Europe/Berlin:20260325T180000
DTEND;TZID=Europe/Berlin:20260325T193000
UID:XCW40422-20260325T180000@VHSCALW
SUMMARY:Deutsch B1.1 für Alltag und Beruf Fortsetzung Kleingruppe (XCW40422) 
LOCATION:Calw, vhs, Raum 02, Kirchplatz 3, 75365 Calw
END:VEVENT
BEGIN:VEVENT
DTSTAMP:20260421T181651
DTSTART;TZID=Europe/Berlin:20260413T180000
DTEND;TZID=Europe/Berlin:20260413T193000
UID:XCW40422-20260413T180000@VHSCALW
SUMMARY:Deutsch B1.1 für Alltag und Beruf Fortsetzung Kleingruppe (XCW40422) 
LOCATION:Calw, vhs, Raum 02, Kirchplatz 3, 75365 Calw
END:VEVENT
BEGIN:VEVENT
DTSTAMP:20260421T181651
DTSTART;TZID=Europe/Berlin:20260415T180000
DTEND;TZID=Europe/Berlin:20260415T193000
UID:XCW40422-20260415T180000@VHSCALW
SUMMARY:Deutsch B1.1 für Alltag und Beruf Fortsetzung Kleingruppe (XCW40422) 
LOCATION:Calw, vhs, Raum 02, Kirchplatz 3, 75365 Calw
END:VEVENT
BEGIN:VEVENT
DTSTAMP:20260421T181651
DTSTART;TZID=Europe/Berlin:20260420T180000
DTEND;TZID=Europe/Berlin:20260420T193000
UID:XCW40422-20260420T180000@VHSCALW
SUMMARY:Deutsch B1.1 für Alltag und Beruf Fortsetzung Kleingruppe (XCW40422) 
LOCATION:Calw, vhs, Raum 02, Kirchplatz 3, 75365 Calw
END:VEVENT
BEGIN:VEVENT
DTSTAMP:20260421T181651
DTSTART;TZID=Europe/Berlin:20260422T180000
DTEND;TZID=Europe/Berlin:20260422T193000
UID:XCW40422-20260422T180000@VHSCALW
SUMMARY:Deutsch B1.1 für Alltag und Beruf Fortsetzung Kleingruppe (XCW40422) 
LOCATION:Calw, vhs, Raum 02, Kirchplatz 3, 75365 Calw
END:VEVENT
BEGIN:VEVENT
DTSTAMP:20260421T181651
DTSTART;TZID=Europe/Berlin:20260427T180000
DTEND;TZID=Europe/Berlin:20260427T193000
UID:XCW40422-20260427T180000@VHSCALW
SUMMARY:Deutsch B1.1 für Alltag und Beruf Fortsetzung Kleingruppe (XCW40422) 
LOCATION:Calw, vhs, Raum 02, Kirchplatz 3, 75365 Calw
END:VEVENT
END:VCALENDAR