BEGIN:VCALENDAR
VERSION:2.0
PRODID:https://www.kufer.de/kuferweb / DE
METHOD:PUBLISH
CALSCALE:GREGORIAN
X-WR-TIMEZONE:Europe/Berlin
BEGIN:VTIMEZONE
TZID:Europe/Berlin
X-LIC-LOCATION:Europe/Berlin
BEGIN:DAYLIGHT
TZOFFSETFROM:+0100
TZOFFSETTO:+0200
TZNAME:CEST
DTSTART:19700329T020000
RRULE:FREQ=YEARLY;INTERVAL=1;BYDAY=-1SU;BYMONTH=3
END:DAYLIGHT
BEGIN:STANDARD
TZOFFSETFROM:+0200
TZOFFSETTO:+0100
TZNAME:CET
DTSTART:19701025T030000
RRULE:FREQ=YEARLY;INTERVAL=1;BYDAY=-1SU;BYMONTH=10
END:STANDARD
END:VTIMEZONE
BEGIN:VEVENT
DTSTAMP:20260421T181636
DTSTART;TZID=Europe/Berlin:20260504T194500
DTEND;TZID=Europe/Berlin:20260504T211500
UID:XCW40415-20260504T194500@VHSCALW
SUMMARY:Deutsch Abendkurs A2.2 Mit sehr guten Vorkenntnissen (XCW40415) 
LOCATION:Calw, vhs, Raum 02, Kirchplatz 3, 75365 Calw
END:VEVENT
BEGIN:VEVENT
DTSTAMP:20260421T181636
DTSTART;TZID=Europe/Berlin:20260506T194500
DTEND;TZID=Europe/Berlin:20260506T211500
UID:XCW40415-20260506T194500@VHSCALW
SUMMARY:Deutsch Abendkurs A2.2 Mit sehr guten Vorkenntnissen (XCW40415) 
LOCATION:Calw, vhs, Raum 02, Kirchplatz 3, 75365 Calw
END:VEVENT
BEGIN:VEVENT
DTSTAMP:20260421T181636
DTSTART;TZID=Europe/Berlin:20260511T194500
DTEND;TZID=Europe/Berlin:20260511T211500
UID:XCW40415-20260511T194500@VHSCALW
SUMMARY:Deutsch Abendkurs A2.2 Mit sehr guten Vorkenntnissen (XCW40415) 
LOCATION:Calw, vhs, Raum 02, Kirchplatz 3, 75365 Calw
END:VEVENT
BEGIN:VEVENT
DTSTAMP:20260421T181636
DTSTART;TZID=Europe/Berlin:20260513T194500
DTEND;TZID=Europe/Berlin:20260513T211500
UID:XCW40415-20260513T194500@VHSCALW
SUMMARY:Deutsch Abendkurs A2.2 Mit sehr guten Vorkenntnissen (XCW40415) 
LOCATION:Calw, vhs, Raum 02, Kirchplatz 3, 75365 Calw
END:VEVENT
BEGIN:VEVENT
DTSTAMP:20260421T181636
DTSTART;TZID=Europe/Berlin:20260518T194500
DTEND;TZID=Europe/Berlin:20260518T211500
UID:XCW40415-20260518T194500@VHSCALW
SUMMARY:Deutsch Abendkurs A2.2 Mit sehr guten Vorkenntnissen (XCW40415) 
LOCATION:Calw, vhs, Raum 02, Kirchplatz 3, 75365 Calw
END:VEVENT
BEGIN:VEVENT
DTSTAMP:20260421T181636
DTSTART;TZID=Europe/Berlin:20260520T194500
DTEND;TZID=Europe/Berlin:20260520T211500
UID:XCW40415-20260520T194500@VHSCALW
SUMMARY:Deutsch Abendkurs A2.2 Mit sehr guten Vorkenntnissen (XCW40415) 
LOCATION:Calw, vhs, Raum 02, Kirchplatz 3, 75365 Calw
END:VEVENT
BEGIN:VEVENT
DTSTAMP:20260421T181636
DTSTART;TZID=Europe/Berlin:20260608T194500
DTEND;TZID=Europe/Berlin:20260608T211500
UID:XCW40415-20260608T194500@VHSCALW
SUMMARY:Deutsch Abendkurs A2.2 Mit sehr guten Vorkenntnissen (XCW40415) 
LOCATION:Calw, vhs, Raum 02, Kirchplatz 3, 75365 Calw
END:VEVENT
BEGIN:VEVENT
DTSTAMP:20260421T181636
DTSTART;TZID=Europe/Berlin:20260610T194500
DTEND;TZID=Europe/Berlin:20260610T211500
UID:XCW40415-20260610T194500@VHSCALW
SUMMARY:Deutsch Abendkurs A2.2 Mit sehr guten Vorkenntnissen (XCW40415) 
LOCATION:Calw, vhs, Raum 02, Kirchplatz 3, 75365 Calw
END:VEVENT
BEGIN:VEVENT
DTSTAMP:20260421T181636
DTSTART;TZID=Europe/Berlin:20260615T194500
DTEND;TZID=Europe/Berlin:20260615T211500
UID:XCW40415-20260615T194500@VHSCALW
SUMMARY:Deutsch Abendkurs A2.2 Mit sehr guten Vorkenntnissen (XCW40415) 
LOCATION:Calw, vhs, Raum 02, Kirchplatz 3, 75365 Calw
END:VEVENT
BEGIN:VEVENT
DTSTAMP:20260421T181636
DTSTART;TZID=Europe/Berlin:20260617T194500
DTEND;TZID=Europe/Berlin:20260617T211500
UID:XCW40415-20260617T194500@VHSCALW
SUMMARY:Deutsch Abendkurs A2.2 Mit sehr guten Vorkenntnissen (XCW40415) 
LOCATION:Calw, vhs, Raum 02, Kirchplatz 3, 75365 Calw
END:VEVENT
BEGIN:VEVENT
DTSTAMP:20260421T181636
DTSTART;TZID=Europe/Berlin:20260622T194500
DTEND;TZID=Europe/Berlin:20260622T211500
UID:XCW40415-20260622T194500@VHSCALW
SUMMARY:Deutsch Abendkurs A2.2 Mit sehr guten Vorkenntnissen (XCW40415) 
LOCATION:Calw, vhs, Raum 02, Kirchplatz 3, 75365 Calw
END:VEVENT
BEGIN:VEVENT
DTSTAMP:20260421T181636
DTSTART;TZID=Europe/Berlin:20260624T194500
DTEND;TZID=Europe/Berlin:20260624T211500
UID:XCW40415-20260624T194500@VHSCALW
SUMMARY:Deutsch Abendkurs A2.2 Mit sehr guten Vorkenntnissen (XCW40415) 
LOCATION:Calw, vhs, Raum 02, Kirchplatz 3, 75365 Calw
END:VEVENT
BEGIN:VEVENT
DTSTAMP:20260421T181636
DTSTART;TZID=Europe/Berlin:20260629T194500
DTEND;TZID=Europe/Berlin:20260629T211500
UID:XCW40415-20260629T194500@VHSCALW
SUMMARY:Deutsch Abendkurs A2.2 Mit sehr guten Vorkenntnissen (XCW40415) 
LOCATION:Calw, vhs, Raum 02, Kirchplatz 3, 75365 Calw
END:VEVENT
BEGIN:VEVENT
DTSTAMP:20260421T181636
DTSTART;TZID=Europe/Berlin:20260701T194500
DTEND;TZID=Europe/Berlin:20260701T211500
UID:XCW40415-20260701T194500@VHSCALW
SUMMARY:Deutsch Abendkurs A2.2 Mit sehr guten Vorkenntnissen (XCW40415) 
LOCATION:Calw, vhs, Raum 02, Kirchplatz 3, 75365 Calw
END:VEVENT
BEGIN:VEVENT
DTSTAMP:20260421T181636
DTSTART;TZID=Europe/Berlin:20260706T194500
DTEND;TZID=Europe/Berlin:20260706T211500
UID:XCW40415-20260706T194500@VHSCALW
SUMMARY:Deutsch Abendkurs A2.2 Mit sehr guten Vorkenntnissen (XCW40415) 
LOCATION:Calw, vhs, Raum 02, Kirchplatz 3, 75365 Calw
END:VEVENT
END:VCALENDAR