BEGIN:VCALENDAR
VERSION:2.0
PRODID:https://www.kufer.de/kuferweb / DE
METHOD:PUBLISH
CALSCALE:GREGORIAN
X-WR-TIMEZONE:Europe/Berlin
BEGIN:VTIMEZONE
TZID:Europe/Berlin
X-LIC-LOCATION:Europe/Berlin
BEGIN:DAYLIGHT
TZOFFSETFROM:+0100
TZOFFSETTO:+0200
TZNAME:CEST
DTSTART:19700329T020000
RRULE:FREQ=YEARLY;INTERVAL=1;BYDAY=-1SU;BYMONTH=3
END:DAYLIGHT
BEGIN:STANDARD
TZOFFSETFROM:+0200
TZOFFSETTO:+0100
TZNAME:CET
DTSTART:19701025T030000
RRULE:FREQ=YEARLY;INTERVAL=1;BYDAY=-1SU;BYMONTH=10
END:STANDARD
END:VTIMEZONE
BEGIN:VEVENT
DTSTAMP:20260422T125420
DTSTART;TZID=Europe/Berlin:20260609T183000
DTEND;TZID=Europe/Berlin:20260609T200000
UID:XCW40405-20260609T183000@VHSCALW
SUMMARY:Deutsch Abendkurs A1.1/A1.2 - für Anfänger mit Vorkenntnissen (XCW40405) 
LOCATION:Calw, vhs, Raum 12, Kirchplatz 3, 75365 Calw
END:VEVENT
BEGIN:VEVENT
DTSTAMP:20260422T125420
DTSTART;TZID=Europe/Berlin:20260610T183000
DTEND;TZID=Europe/Berlin:20260610T200000
UID:XCW40405-20260610T183000@VHSCALW
SUMMARY:Deutsch Abendkurs A1.1/A1.2 - für Anfänger mit Vorkenntnissen (XCW40405) 
LOCATION:Calw, vhs, Raum 12, Kirchplatz 3, 75365 Calw
END:VEVENT
BEGIN:VEVENT
DTSTAMP:20260422T125420
DTSTART;TZID=Europe/Berlin:20260611T183000
DTEND;TZID=Europe/Berlin:20260611T200000
UID:XCW40405-20260611T183000@VHSCALW
SUMMARY:Deutsch Abendkurs A1.1/A1.2 - für Anfänger mit Vorkenntnissen (XCW40405) 
LOCATION:Calw, vhs, Raum 12, Kirchplatz 3, 75365 Calw
END:VEVENT
BEGIN:VEVENT
DTSTAMP:20260422T125420
DTSTART;TZID=Europe/Berlin:20260616T183000
DTEND;TZID=Europe/Berlin:20260616T200000
UID:XCW40405-20260616T183000@VHSCALW
SUMMARY:Deutsch Abendkurs A1.1/A1.2 - für Anfänger mit Vorkenntnissen (XCW40405) 
LOCATION:Calw, vhs, Raum 12, Kirchplatz 3, 75365 Calw
END:VEVENT
BEGIN:VEVENT
DTSTAMP:20260422T125420
DTSTART;TZID=Europe/Berlin:20260617T183000
DTEND;TZID=Europe/Berlin:20260617T200000
UID:XCW40405-20260617T183000@VHSCALW
SUMMARY:Deutsch Abendkurs A1.1/A1.2 - für Anfänger mit Vorkenntnissen (XCW40405) 
LOCATION:Calw, vhs, Raum 12, Kirchplatz 3, 75365 Calw
END:VEVENT
BEGIN:VEVENT
DTSTAMP:20260422T125420
DTSTART;TZID=Europe/Berlin:20260618T183000
DTEND;TZID=Europe/Berlin:20260618T200000
UID:XCW40405-20260618T183000@VHSCALW
SUMMARY:Deutsch Abendkurs A1.1/A1.2 - für Anfänger mit Vorkenntnissen (XCW40405) 
LOCATION:Calw, vhs, Raum 12, Kirchplatz 3, 75365 Calw
END:VEVENT
BEGIN:VEVENT
DTSTAMP:20260422T125420
DTSTART;TZID=Europe/Berlin:20260623T183000
DTEND;TZID=Europe/Berlin:20260623T200000
UID:XCW40405-20260623T183000@VHSCALW
SUMMARY:Deutsch Abendkurs A1.1/A1.2 - für Anfänger mit Vorkenntnissen (XCW40405) 
LOCATION:Calw, vhs, Raum 12, Kirchplatz 3, 75365 Calw
END:VEVENT
BEGIN:VEVENT
DTSTAMP:20260422T125420
DTSTART;TZID=Europe/Berlin:20260624T183000
DTEND;TZID=Europe/Berlin:20260624T200000
UID:XCW40405-20260624T183000@VHSCALW
SUMMARY:Deutsch Abendkurs A1.1/A1.2 - für Anfänger mit Vorkenntnissen (XCW40405) 
LOCATION:Calw, vhs, Raum 12, Kirchplatz 3, 75365 Calw
END:VEVENT
BEGIN:VEVENT
DTSTAMP:20260422T125420
DTSTART;TZID=Europe/Berlin:20260625T183000
DTEND;TZID=Europe/Berlin:20260625T200000
UID:XCW40405-20260625T183000@VHSCALW
SUMMARY:Deutsch Abendkurs A1.1/A1.2 - für Anfänger mit Vorkenntnissen (XCW40405) 
LOCATION:Calw, vhs, Raum 12, Kirchplatz 3, 75365 Calw
END:VEVENT
BEGIN:VEVENT
DTSTAMP:20260422T125420
DTSTART;TZID=Europe/Berlin:20260630T183000
DTEND;TZID=Europe/Berlin:20260630T200000
UID:XCW40405-20260630T183000@VHSCALW
SUMMARY:Deutsch Abendkurs A1.1/A1.2 - für Anfänger mit Vorkenntnissen (XCW40405) 
LOCATION:Calw, vhs, Raum 12, Kirchplatz 3, 75365 Calw
END:VEVENT
BEGIN:VEVENT
DTSTAMP:20260422T125420
DTSTART;TZID=Europe/Berlin:20260701T183000
DTEND;TZID=Europe/Berlin:20260701T200000
UID:XCW40405-20260701T183000@VHSCALW
SUMMARY:Deutsch Abendkurs A1.1/A1.2 - für Anfänger mit Vorkenntnissen (XCW40405) 
LOCATION:Calw, vhs, Raum 12, Kirchplatz 3, 75365 Calw
END:VEVENT
BEGIN:VEVENT
DTSTAMP:20260422T125420
DTSTART;TZID=Europe/Berlin:20260702T183000
DTEND;TZID=Europe/Berlin:20260702T200000
UID:XCW40405-20260702T183000@VHSCALW
SUMMARY:Deutsch Abendkurs A1.1/A1.2 - für Anfänger mit Vorkenntnissen (XCW40405) 
LOCATION:Calw, vhs, Raum 12, Kirchplatz 3, 75365 Calw
END:VEVENT
BEGIN:VEVENT
DTSTAMP:20260422T125420
DTSTART;TZID=Europe/Berlin:20260707T183000
DTEND;TZID=Europe/Berlin:20260707T200000
UID:XCW40405-20260707T183000@VHSCALW
SUMMARY:Deutsch Abendkurs A1.1/A1.2 - für Anfänger mit Vorkenntnissen (XCW40405) 
LOCATION:Calw, vhs, Raum 12, Kirchplatz 3, 75365 Calw
END:VEVENT
BEGIN:VEVENT
DTSTAMP:20260422T125420
DTSTART;TZID=Europe/Berlin:20260708T183000
DTEND;TZID=Europe/Berlin:20260708T200000
UID:XCW40405-20260708T183000@VHSCALW
SUMMARY:Deutsch Abendkurs A1.1/A1.2 - für Anfänger mit Vorkenntnissen (XCW40405) 
LOCATION:Calw, vhs, Raum 12, Kirchplatz 3, 75365 Calw
END:VEVENT
BEGIN:VEVENT
DTSTAMP:20260422T125420
DTSTART;TZID=Europe/Berlin:20260709T183000
DTEND;TZID=Europe/Berlin:20260709T200000
UID:XCW40405-20260709T183000@VHSCALW
SUMMARY:Deutsch Abendkurs A1.1/A1.2 - für Anfänger mit Vorkenntnissen (XCW40405) 
LOCATION:Calw, vhs, Raum 12, Kirchplatz 3, 75365 Calw
END:VEVENT
END:VCALENDAR