BEGIN:VCALENDAR
VERSION:2.0
PRODID:https://www.kufer.de/kuferweb / DE
METHOD:PUBLISH
CALSCALE:GREGORIAN
X-WR-TIMEZONE:Europe/Berlin
BEGIN:VTIMEZONE
TZID:Europe/Berlin
X-LIC-LOCATION:Europe/Berlin
BEGIN:DAYLIGHT
TZOFFSETFROM:+0100
TZOFFSETTO:+0200
TZNAME:CEST
DTSTART:19700329T020000
RRULE:FREQ=YEARLY;INTERVAL=1;BYDAY=-1SU;BYMONTH=3
END:DAYLIGHT
BEGIN:STANDARD
TZOFFSETFROM:+0200
TZOFFSETTO:+0100
TZNAME:CET
DTSTART:19701025T030000
RRULE:FREQ=YEARLY;INTERVAL=1;BYDAY=-1SU;BYMONTH=10
END:STANDARD
END:VTIMEZONE
BEGIN:VEVENT
DTSTAMP:20260422T110901
DTSTART;TZID=Europe/Berlin:20260414T183000
DTEND;TZID=Europe/Berlin:20260414T200000
UID:XCW40402-20260414T183000@VHSCALW
SUMMARY:Deutsch Abendkurs A1.1 - für Anfänger mit leichten Vorkenntnissen (XCW40402) 
LOCATION:Calw, vhs, Raum 12, Kirchplatz 3, 75365 Calw
END:VEVENT
BEGIN:VEVENT
DTSTAMP:20260422T110901
DTSTART;TZID=Europe/Berlin:20260415T183000
DTEND;TZID=Europe/Berlin:20260415T200000
UID:XCW40402-20260415T183000@VHSCALW
SUMMARY:Deutsch Abendkurs A1.1 - für Anfänger mit leichten Vorkenntnissen (XCW40402) 
LOCATION:Calw, vhs, Raum 12, Kirchplatz 3, 75365 Calw
END:VEVENT
BEGIN:VEVENT
DTSTAMP:20260422T110901
DTSTART;TZID=Europe/Berlin:20260416T183000
DTEND;TZID=Europe/Berlin:20260416T200000
UID:XCW40402-20260416T183000@VHSCALW
SUMMARY:Deutsch Abendkurs A1.1 - für Anfänger mit leichten Vorkenntnissen (XCW40402) 
LOCATION:Calw, vhs, Raum 12, Kirchplatz 3, 75365 Calw
END:VEVENT
BEGIN:VEVENT
DTSTAMP:20260422T110901
DTSTART;TZID=Europe/Berlin:20260421T183000
DTEND;TZID=Europe/Berlin:20260421T200000
UID:XCW40402-20260421T183000@VHSCALW
SUMMARY:Deutsch Abendkurs A1.1 - für Anfänger mit leichten Vorkenntnissen (XCW40402) 
LOCATION:Calw, vhs, Raum 12, Kirchplatz 3, 75365 Calw
END:VEVENT
BEGIN:VEVENT
DTSTAMP:20260422T110901
DTSTART;TZID=Europe/Berlin:20260422T183000
DTEND;TZID=Europe/Berlin:20260422T200000
UID:XCW40402-20260422T183000@VHSCALW
SUMMARY:Deutsch Abendkurs A1.1 - für Anfänger mit leichten Vorkenntnissen (XCW40402) 
LOCATION:Calw, vhs, Raum 12, Kirchplatz 3, 75365 Calw
END:VEVENT
BEGIN:VEVENT
DTSTAMP:20260422T110901
DTSTART;TZID=Europe/Berlin:20260423T183000
DTEND;TZID=Europe/Berlin:20260423T200000
UID:XCW40402-20260423T183000@VHSCALW
SUMMARY:Deutsch Abendkurs A1.1 - für Anfänger mit leichten Vorkenntnissen (XCW40402) 
LOCATION:Calw, vhs, Raum 12, Kirchplatz 3, 75365 Calw
END:VEVENT
BEGIN:VEVENT
DTSTAMP:20260422T110901
DTSTART;TZID=Europe/Berlin:20260428T183000
DTEND;TZID=Europe/Berlin:20260428T200000
UID:XCW40402-20260428T183000@VHSCALW
SUMMARY:Deutsch Abendkurs A1.1 - für Anfänger mit leichten Vorkenntnissen (XCW40402) 
LOCATION:Calw, vhs, Raum 12, Kirchplatz 3, 75365 Calw
END:VEVENT
BEGIN:VEVENT
DTSTAMP:20260422T110901
DTSTART;TZID=Europe/Berlin:20260429T183000
DTEND;TZID=Europe/Berlin:20260429T200000
UID:XCW40402-20260429T183000@VHSCALW
SUMMARY:Deutsch Abendkurs A1.1 - für Anfänger mit leichten Vorkenntnissen (XCW40402) 
LOCATION:Calw, vhs, Raum 12, Kirchplatz 3, 75365 Calw
END:VEVENT
BEGIN:VEVENT
DTSTAMP:20260422T110901
DTSTART;TZID=Europe/Berlin:20260430T183000
DTEND;TZID=Europe/Berlin:20260430T200000
UID:XCW40402-20260430T183000@VHSCALW
SUMMARY:Deutsch Abendkurs A1.1 - für Anfänger mit leichten Vorkenntnissen (XCW40402) 
LOCATION:Calw, vhs, Raum 12, Kirchplatz 3, 75365 Calw
END:VEVENT
BEGIN:VEVENT
DTSTAMP:20260422T110901
DTSTART;TZID=Europe/Berlin:20260505T183000
DTEND;TZID=Europe/Berlin:20260505T200000
UID:XCW40402-20260505T183000@VHSCALW
SUMMARY:Deutsch Abendkurs A1.1 - für Anfänger mit leichten Vorkenntnissen (XCW40402) 
LOCATION:Calw, vhs, Raum 12, Kirchplatz 3, 75365 Calw
END:VEVENT
BEGIN:VEVENT
DTSTAMP:20260422T110901
DTSTART;TZID=Europe/Berlin:20260506T183000
DTEND;TZID=Europe/Berlin:20260506T200000
UID:XCW40402-20260506T183000@VHSCALW
SUMMARY:Deutsch Abendkurs A1.1 - für Anfänger mit leichten Vorkenntnissen (XCW40402) 
LOCATION:Calw, vhs, Raum 12, Kirchplatz 3, 75365 Calw
END:VEVENT
BEGIN:VEVENT
DTSTAMP:20260422T110901
DTSTART;TZID=Europe/Berlin:20260507T183000
DTEND;TZID=Europe/Berlin:20260507T200000
UID:XCW40402-20260507T183000@VHSCALW
SUMMARY:Deutsch Abendkurs A1.1 - für Anfänger mit leichten Vorkenntnissen (XCW40402) 
LOCATION:Calw, vhs, Raum 12, Kirchplatz 3, 75365 Calw
END:VEVENT
BEGIN:VEVENT
DTSTAMP:20260422T110901
DTSTART;TZID=Europe/Berlin:20260512T183000
DTEND;TZID=Europe/Berlin:20260512T200000
UID:XCW40402-20260512T183000@VHSCALW
SUMMARY:Deutsch Abendkurs A1.1 - für Anfänger mit leichten Vorkenntnissen (XCW40402) 
LOCATION:Calw, vhs, Raum 12, Kirchplatz 3, 75365 Calw
END:VEVENT
BEGIN:VEVENT
DTSTAMP:20260422T110901
DTSTART;TZID=Europe/Berlin:20260513T183000
DTEND;TZID=Europe/Berlin:20260513T200000
UID:XCW40402-20260513T183000@VHSCALW
SUMMARY:Deutsch Abendkurs A1.1 - für Anfänger mit leichten Vorkenntnissen (XCW40402) 
LOCATION:Calw, vhs, Raum 12, Kirchplatz 3, 75365 Calw
END:VEVENT
BEGIN:VEVENT
DTSTAMP:20260422T110901
DTSTART;TZID=Europe/Berlin:20260519T183000
DTEND;TZID=Europe/Berlin:20260519T200000
UID:XCW40402-20260519T183000@VHSCALW
SUMMARY:Deutsch Abendkurs A1.1 - für Anfänger mit leichten Vorkenntnissen (XCW40402) 
LOCATION:Calw, vhs, Raum 12, Kirchplatz 3, 75365 Calw
END:VEVENT
END:VCALENDAR