BEGIN:VCALENDAR
VERSION:2.0
PRODID:https://www.kufer.de/kuferweb / DE
METHOD:PUBLISH
CALSCALE:GREGORIAN
X-WR-TIMEZONE:Europe/Berlin
BEGIN:VTIMEZONE
TZID:Europe/Berlin
X-LIC-LOCATION:Europe/Berlin
BEGIN:DAYLIGHT
TZOFFSETFROM:+0100
TZOFFSETTO:+0200
TZNAME:CEST
DTSTART:19700329T020000
RRULE:FREQ=YEARLY;INTERVAL=1;BYDAY=-1SU;BYMONTH=3
END:DAYLIGHT
BEGIN:STANDARD
TZOFFSETFROM:+0200
TZOFFSETTO:+0100
TZNAME:CET
DTSTART:19701025T030000
RRULE:FREQ=YEARLY;INTERVAL=1;BYDAY=-1SU;BYMONTH=10
END:STANDARD
END:VTIMEZONE
BEGIN:VEVENT
DTSTAMP:20260422T110857
DTSTART;TZID=Europe/Berlin:20260415T183000
DTEND;TZID=Europe/Berlin:20260415T193000
UID:XCW30240-20260415T183000@VHSCALW
SUMMARY:Rückenfitness für Frauen jeden Alters (XCW30240) 
LOCATION:Wimberg, Grund- und Hauptschule, Pestalozzistr. 7, Turnhalle, Pestalozzistr. 7, 75365 Calw
END:VEVENT
BEGIN:VEVENT
DTSTAMP:20260422T110857
DTSTART;TZID=Europe/Berlin:20260422T183000
DTEND;TZID=Europe/Berlin:20260422T193000
UID:XCW30240-20260422T183000@VHSCALW
SUMMARY:Rückenfitness für Frauen jeden Alters (XCW30240) 
LOCATION:Wimberg, Grund- und Hauptschule, Pestalozzistr. 7, Turnhalle, Pestalozzistr. 7, 75365 Calw
END:VEVENT
BEGIN:VEVENT
DTSTAMP:20260422T110857
DTSTART;TZID=Europe/Berlin:20260429T183000
DTEND;TZID=Europe/Berlin:20260429T193000
UID:XCW30240-20260429T183000@VHSCALW
SUMMARY:Rückenfitness für Frauen jeden Alters (XCW30240) 
LOCATION:Wimberg, Grund- und Hauptschule, Pestalozzistr. 7, Turnhalle, Pestalozzistr. 7, 75365 Calw
END:VEVENT
BEGIN:VEVENT
DTSTAMP:20260422T110857
DTSTART;TZID=Europe/Berlin:20260506T183000
DTEND;TZID=Europe/Berlin:20260506T193000
UID:XCW30240-20260506T183000@VHSCALW
SUMMARY:Rückenfitness für Frauen jeden Alters (XCW30240) 
LOCATION:Wimberg, Grund- und Hauptschule, Pestalozzistr. 7, Turnhalle, Pestalozzistr. 7, 75365 Calw
END:VEVENT
BEGIN:VEVENT
DTSTAMP:20260422T110857
DTSTART;TZID=Europe/Berlin:20260513T183000
DTEND;TZID=Europe/Berlin:20260513T193000
UID:XCW30240-20260513T183000@VHSCALW
SUMMARY:Rückenfitness für Frauen jeden Alters (XCW30240) 
LOCATION:Wimberg, Grund- und Hauptschule, Pestalozzistr. 7, Turnhalle, Pestalozzistr. 7, 75365 Calw
END:VEVENT
BEGIN:VEVENT
DTSTAMP:20260422T110857
DTSTART;TZID=Europe/Berlin:20260520T183000
DTEND;TZID=Europe/Berlin:20260520T193000
UID:XCW30240-20260520T183000@VHSCALW
SUMMARY:Rückenfitness für Frauen jeden Alters (XCW30240) 
LOCATION:Wimberg, Grund- und Hauptschule, Pestalozzistr. 7, Turnhalle, Pestalozzistr. 7, 75365 Calw
END:VEVENT
BEGIN:VEVENT
DTSTAMP:20260422T110857
DTSTART;TZID=Europe/Berlin:20260610T183000
DTEND;TZID=Europe/Berlin:20260610T193000
UID:XCW30240-20260610T183000@VHSCALW
SUMMARY:Rückenfitness für Frauen jeden Alters (XCW30240) 
LOCATION:Wimberg, Grund- und Hauptschule, Pestalozzistr. 7, Turnhalle, Pestalozzistr. 7, 75365 Calw
END:VEVENT
BEGIN:VEVENT
DTSTAMP:20260422T110857
DTSTART;TZID=Europe/Berlin:20260617T183000
DTEND;TZID=Europe/Berlin:20260617T193000
UID:XCW30240-20260617T183000@VHSCALW
SUMMARY:Rückenfitness für Frauen jeden Alters (XCW30240) 
LOCATION:Wimberg, Grund- und Hauptschule, Pestalozzistr. 7, Turnhalle, Pestalozzistr. 7, 75365 Calw
END:VEVENT
BEGIN:VEVENT
DTSTAMP:20260422T110857
DTSTART;TZID=Europe/Berlin:20260624T183000
DTEND;TZID=Europe/Berlin:20260624T193000
UID:XCW30240-20260624T183000@VHSCALW
SUMMARY:Rückenfitness für Frauen jeden Alters (XCW30240) 
LOCATION:Wimberg, Grund- und Hauptschule, Pestalozzistr. 7, Turnhalle, Pestalozzistr. 7, 75365 Calw
END:VEVENT
BEGIN:VEVENT
DTSTAMP:20260422T110857
DTSTART;TZID=Europe/Berlin:20260701T183000
DTEND;TZID=Europe/Berlin:20260701T193000
UID:XCW30240-20260701T183000@VHSCALW
SUMMARY:Rückenfitness für Frauen jeden Alters (XCW30240) 
LOCATION:Wimberg, Grund- und Hauptschule, Pestalozzistr. 7, Turnhalle, Pestalozzistr. 7, 75365 Calw
END:VEVENT
BEGIN:VEVENT
DTSTAMP:20260422T110857
DTSTART;TZID=Europe/Berlin:20260708T183000
DTEND;TZID=Europe/Berlin:20260708T193000
UID:XCW30240-20260708T183000@VHSCALW
SUMMARY:Rückenfitness für Frauen jeden Alters (XCW30240) 
LOCATION:Wimberg, Grund- und Hauptschule, Pestalozzistr. 7, Turnhalle, Pestalozzistr. 7, 75365 Calw
END:VEVENT
BEGIN:VEVENT
DTSTAMP:20260422T110857
DTSTART;TZID=Europe/Berlin:20260715T183000
DTEND;TZID=Europe/Berlin:20260715T193000
UID:XCW30240-20260715T183000@VHSCALW
SUMMARY:Rückenfitness für Frauen jeden Alters (XCW30240) 
LOCATION:Wimberg, Grund- und Hauptschule, Pestalozzistr. 7, Turnhalle, Pestalozzistr. 7, 75365 Calw
END:VEVENT
BEGIN:VEVENT
DTSTAMP:20260422T110857
DTSTART;TZID=Europe/Berlin:20260722T183000
DTEND;TZID=Europe/Berlin:20260722T193000
UID:XCW30240-20260722T183000@VHSCALW
SUMMARY:Rückenfitness für Frauen jeden Alters (XCW30240) 
LOCATION:Wimberg, Grund- und Hauptschule, Pestalozzistr. 7, Turnhalle, Pestalozzistr. 7, 75365 Calw
END:VEVENT
BEGIN:VEVENT
DTSTAMP:20260422T110857
DTSTART;TZID=Europe/Berlin:20260729T183000
DTEND;TZID=Europe/Berlin:20260729T193000
UID:XCW30240-20260729T183000@VHSCALW
SUMMARY:Rückenfitness für Frauen jeden Alters (XCW30240) 
LOCATION:Wimberg, Grund- und Hauptschule, Pestalozzistr. 7, Turnhalle, Pestalozzistr. 7, 75365 Calw
END:VEVENT
END:VCALENDAR