BEGIN:VCALENDAR
VERSION:2.0
PRODID:https://www.kufer.de/kuferweb / DE
METHOD:PUBLISH
CALSCALE:GREGORIAN
X-WR-TIMEZONE:Europe/Berlin
BEGIN:VTIMEZONE
TZID:Europe/Berlin
X-LIC-LOCATION:Europe/Berlin
BEGIN:DAYLIGHT
TZOFFSETFROM:+0100
TZOFFSETTO:+0200
TZNAME:CEST
DTSTART:19700329T020000
RRULE:FREQ=YEARLY;INTERVAL=1;BYDAY=-1SU;BYMONTH=3
END:DAYLIGHT
BEGIN:STANDARD
TZOFFSETFROM:+0200
TZOFFSETTO:+0100
TZNAME:CET
DTSTART:19701025T030000
RRULE:FREQ=YEARLY;INTERVAL=1;BYDAY=-1SU;BYMONTH=10
END:STANDARD
END:VTIMEZONE
BEGIN:VEVENT
DTSTAMP:20260421T143124
DTSTART;TZID=Europe/Berlin:20260506T180000
DTEND;TZID=Europe/Berlin:20260506T190000
UID:XCW30146-20260506T180000@VHSCALW
SUMMARY:Tai Chi Ch'uan und Qi Gong - Grundkurs (XCW30146) 
LOCATION:Stammheim, Grundschule, Hauptstr. 67, Aula, Hauptstr. 67, 75365 Calw
END:VEVENT
BEGIN:VEVENT
DTSTAMP:20260421T143124
DTSTART;TZID=Europe/Berlin:20260513T180000
DTEND;TZID=Europe/Berlin:20260513T190000
UID:XCW30146-20260513T180000@VHSCALW
SUMMARY:Tai Chi Ch'uan und Qi Gong - Grundkurs (XCW30146) 
LOCATION:Stammheim, Grundschule, Hauptstr. 67, Aula, Hauptstr. 67, 75365 Calw
END:VEVENT
BEGIN:VEVENT
DTSTAMP:20260421T143124
DTSTART;TZID=Europe/Berlin:20260520T180000
DTEND;TZID=Europe/Berlin:20260520T190000
UID:XCW30146-20260520T180000@VHSCALW
SUMMARY:Tai Chi Ch'uan und Qi Gong - Grundkurs (XCW30146) 
LOCATION:Stammheim, Grundschule, Hauptstr. 67, Aula, Hauptstr. 67, 75365 Calw
END:VEVENT
BEGIN:VEVENT
DTSTAMP:20260421T143124
DTSTART;TZID=Europe/Berlin:20260610T180000
DTEND;TZID=Europe/Berlin:20260610T190000
UID:XCW30146-20260610T180000@VHSCALW
SUMMARY:Tai Chi Ch'uan und Qi Gong - Grundkurs (XCW30146) 
LOCATION:Stammheim, Grundschule, Hauptstr. 67, Aula, Hauptstr. 67, 75365 Calw
END:VEVENT
BEGIN:VEVENT
DTSTAMP:20260421T143124
DTSTART;TZID=Europe/Berlin:20260617T180000
DTEND;TZID=Europe/Berlin:20260617T190000
UID:XCW30146-20260617T180000@VHSCALW
SUMMARY:Tai Chi Ch'uan und Qi Gong - Grundkurs (XCW30146) 
LOCATION:Stammheim, Grundschule, Hauptstr. 67, Aula, Hauptstr. 67, 75365 Calw
END:VEVENT
BEGIN:VEVENT
DTSTAMP:20260421T143124
DTSTART;TZID=Europe/Berlin:20260624T180000
DTEND;TZID=Europe/Berlin:20260624T190000
UID:XCW30146-20260624T180000@VHSCALW
SUMMARY:Tai Chi Ch'uan und Qi Gong - Grundkurs (XCW30146) 
LOCATION:Stammheim, Grundschule, Hauptstr. 67, Aula, Hauptstr. 67, 75365 Calw
END:VEVENT
BEGIN:VEVENT
DTSTAMP:20260421T143124
DTSTART;TZID=Europe/Berlin:20260701T180000
DTEND;TZID=Europe/Berlin:20260701T190000
UID:XCW30146-20260701T180000@VHSCALW
SUMMARY:Tai Chi Ch'uan und Qi Gong - Grundkurs (XCW30146) 
LOCATION:Stammheim, Grundschule, Hauptstr. 67, Aula, Hauptstr. 67, 75365 Calw
END:VEVENT
BEGIN:VEVENT
DTSTAMP:20260421T143124
DTSTART;TZID=Europe/Berlin:20260708T180000
DTEND;TZID=Europe/Berlin:20260708T190000
UID:XCW30146-20260708T180000@VHSCALW
SUMMARY:Tai Chi Ch'uan und Qi Gong - Grundkurs (XCW30146) 
LOCATION:Stammheim, Grundschule, Hauptstr. 67, Aula, Hauptstr. 67, 75365 Calw
END:VEVENT
BEGIN:VEVENT
DTSTAMP:20260421T143124
DTSTART;TZID=Europe/Berlin:20260715T180000
DTEND;TZID=Europe/Berlin:20260715T190000
UID:XCW30146-20260715T180000@VHSCALW
SUMMARY:Tai Chi Ch'uan und Qi Gong - Grundkurs (XCW30146) 
LOCATION:Stammheim, Grundschule, Hauptstr. 67, Aula, Hauptstr. 67, 75365 Calw
END:VEVENT
END:VCALENDAR