BEGIN:VCALENDAR
VERSION:2.0
PRODID:https://www.kufer.de/kuferweb / DE
METHOD:PUBLISH
CALSCALE:GREGORIAN
X-WR-TIMEZONE:Europe/Berlin
BEGIN:VTIMEZONE
TZID:Europe/Berlin
X-LIC-LOCATION:Europe/Berlin
BEGIN:DAYLIGHT
TZOFFSETFROM:+0100
TZOFFSETTO:+0200
TZNAME:CEST
DTSTART:19700329T020000
RRULE:FREQ=YEARLY;INTERVAL=1;BYDAY=-1SU;BYMONTH=3
END:DAYLIGHT
BEGIN:STANDARD
TZOFFSETFROM:+0200
TZOFFSETTO:+0100
TZNAME:CET
DTSTART:19701025T030000
RRULE:FREQ=YEARLY;INTERVAL=1;BYDAY=-1SU;BYMONTH=10
END:STANDARD
END:VTIMEZONE
BEGIN:VEVENT
DTSTAMP:20260422T125336
DTSTART;TZID=Europe/Berlin:20260512T093000
DTEND;TZID=Europe/Berlin:20260512T104500
UID:XCW30121-20260512T093000@VHSCALW
SUMMARY:Hatha Yoga In der Kleingruppe (XCW30121) 
LOCATION:Calw, Ballettschule, Altburger Str. 16, Großer Ballettsaal, Altburger Str. 16, 75365 Calw
END:VEVENT
BEGIN:VEVENT
DTSTAMP:20260422T125336
DTSTART;TZID=Europe/Berlin:20260519T093000
DTEND;TZID=Europe/Berlin:20260519T104500
UID:XCW30121-20260519T093000@VHSCALW
SUMMARY:Hatha Yoga In der Kleingruppe (XCW30121) 
LOCATION:Calw, Ballettschule, Altburger Str. 16, Großer Ballettsaal, Altburger Str. 16, 75365 Calw
END:VEVENT
BEGIN:VEVENT
DTSTAMP:20260422T125336
DTSTART;TZID=Europe/Berlin:20260609T093000
DTEND;TZID=Europe/Berlin:20260609T104500
UID:XCW30121-20260609T093000@VHSCALW
SUMMARY:Hatha Yoga In der Kleingruppe (XCW30121) 
LOCATION:Calw, Ballettschule, Altburger Str. 16, Großer Ballettsaal, Altburger Str. 16, 75365 Calw
END:VEVENT
BEGIN:VEVENT
DTSTAMP:20260422T125336
DTSTART;TZID=Europe/Berlin:20260616T093000
DTEND;TZID=Europe/Berlin:20260616T104500
UID:XCW30121-20260616T093000@VHSCALW
SUMMARY:Hatha Yoga In der Kleingruppe (XCW30121) 
LOCATION:Calw, Ballettschule, Altburger Str. 16, Großer Ballettsaal, Altburger Str. 16, 75365 Calw
END:VEVENT
BEGIN:VEVENT
DTSTAMP:20260422T125336
DTSTART;TZID=Europe/Berlin:20260623T093000
DTEND;TZID=Europe/Berlin:20260623T104500
UID:XCW30121-20260623T093000@VHSCALW
SUMMARY:Hatha Yoga In der Kleingruppe (XCW30121) 
LOCATION:Calw, Ballettschule, Altburger Str. 16, Großer Ballettsaal, Altburger Str. 16, 75365 Calw
END:VEVENT
BEGIN:VEVENT
DTSTAMP:20260422T125336
DTSTART;TZID=Europe/Berlin:20260630T093000
DTEND;TZID=Europe/Berlin:20260630T104500
UID:XCW30121-20260630T093000@VHSCALW
SUMMARY:Hatha Yoga In der Kleingruppe (XCW30121) 
LOCATION:Calw, Ballettschule, Altburger Str. 16, Großer Ballettsaal, Altburger Str. 16, 75365 Calw
END:VEVENT
BEGIN:VEVENT
DTSTAMP:20260422T125336
DTSTART;TZID=Europe/Berlin:20260707T093000
DTEND;TZID=Europe/Berlin:20260707T104500
UID:XCW30121-20260707T093000@VHSCALW
SUMMARY:Hatha Yoga In der Kleingruppe (XCW30121) 
LOCATION:Calw, Ballettschule, Altburger Str. 16, Großer Ballettsaal, Altburger Str. 16, 75365 Calw
END:VEVENT
BEGIN:VEVENT
DTSTAMP:20260422T125336
DTSTART;TZID=Europe/Berlin:20260714T093000
DTEND;TZID=Europe/Berlin:20260714T104500
UID:XCW30121-20260714T093000@VHSCALW
SUMMARY:Hatha Yoga In der Kleingruppe (XCW30121) 
LOCATION:Calw, Ballettschule, Altburger Str. 16, Großer Ballettsaal, Altburger Str. 16, 75365 Calw
END:VEVENT
BEGIN:VEVENT
DTSTAMP:20260422T125336
DTSTART;TZID=Europe/Berlin:20260721T093000
DTEND;TZID=Europe/Berlin:20260721T104500
UID:XCW30121-20260721T093000@VHSCALW
SUMMARY:Hatha Yoga In der Kleingruppe (XCW30121) 
LOCATION:Calw, Ballettschule, Altburger Str. 16, Großer Ballettsaal, Altburger Str. 16, 75365 Calw
END:VEVENT
BEGIN:VEVENT
DTSTAMP:20260422T125336
DTSTART;TZID=Europe/Berlin:20260728T093000
DTEND;TZID=Europe/Berlin:20260728T104500
UID:XCW30121-20260728T093000@VHSCALW
SUMMARY:Hatha Yoga In der Kleingruppe (XCW30121) 
LOCATION:Calw, Ballettschule, Altburger Str. 16, Großer Ballettsaal, Altburger Str. 16, 75365 Calw
END:VEVENT
END:VCALENDAR