BEGIN:VCALENDAR
VERSION:2.0
PRODID:https://www.kufer.de/kuferweb / DE
METHOD:PUBLISH
CALSCALE:GREGORIAN
X-WR-TIMEZONE:Europe/Berlin
BEGIN:VTIMEZONE
TZID:Europe/Berlin
X-LIC-LOCATION:Europe/Berlin
BEGIN:DAYLIGHT
TZOFFSETFROM:+0100
TZOFFSETTO:+0200
TZNAME:CEST
DTSTART:19700329T020000
RRULE:FREQ=YEARLY;INTERVAL=1;BYDAY=-1SU;BYMONTH=3
END:DAYLIGHT
BEGIN:STANDARD
TZOFFSETFROM:+0200
TZOFFSETTO:+0100
TZNAME:CET
DTSTART:19701025T030000
RRULE:FREQ=YEARLY;INTERVAL=1;BYDAY=-1SU;BYMONTH=10
END:STANDARD
END:VTIMEZONE
BEGIN:VEVENT
DTSTAMP:20260422T150330
DTSTART;TZID=Europe/Berlin:20260303T093000
DTEND;TZID=Europe/Berlin:20260303T104500
UID:XCW30120-20260303T093000@VHSCALW
SUMMARY:Hatha Yoga In der Kleingruppe (XCW30120) 
LOCATION:Calw, Ballettschule, Altburger Str. 16, Großer Ballettsaal, Altburger Str. 16, 75365 Calw
END:VEVENT
BEGIN:VEVENT
DTSTAMP:20260422T150330
DTSTART;TZID=Europe/Berlin:20260310T093000
DTEND;TZID=Europe/Berlin:20260310T104500
UID:XCW30120-20260310T093000@VHSCALW
SUMMARY:Hatha Yoga In der Kleingruppe (XCW30120) 
LOCATION:Calw, Ballettschule, Altburger Str. 16, Großer Ballettsaal, Altburger Str. 16, 75365 Calw
END:VEVENT
BEGIN:VEVENT
DTSTAMP:20260422T150330
DTSTART;TZID=Europe/Berlin:20260317T093000
DTEND;TZID=Europe/Berlin:20260317T104500
UID:XCW30120-20260317T093000@VHSCALW
SUMMARY:Hatha Yoga In der Kleingruppe (XCW30120) 
LOCATION:Calw, Ballettschule, Altburger Str. 16, Großer Ballettsaal, Altburger Str. 16, 75365 Calw
END:VEVENT
BEGIN:VEVENT
DTSTAMP:20260422T150330
DTSTART;TZID=Europe/Berlin:20260324T093000
DTEND;TZID=Europe/Berlin:20260324T104500
UID:XCW30120-20260324T093000@VHSCALW
SUMMARY:Hatha Yoga In der Kleingruppe (XCW30120) 
LOCATION:Calw, Ballettschule, Altburger Str. 16, Großer Ballettsaal, Altburger Str. 16, 75365 Calw
END:VEVENT
BEGIN:VEVENT
DTSTAMP:20260422T150330
DTSTART;TZID=Europe/Berlin:20260414T093000
DTEND;TZID=Europe/Berlin:20260414T104500
UID:XCW30120-20260414T093000@VHSCALW
SUMMARY:Hatha Yoga In der Kleingruppe (XCW30120) 
LOCATION:Calw, Ballettschule, Altburger Str. 16, Großer Ballettsaal, Altburger Str. 16, 75365 Calw
END:VEVENT
BEGIN:VEVENT
DTSTAMP:20260422T150330
DTSTART;TZID=Europe/Berlin:20260421T093000
DTEND;TZID=Europe/Berlin:20260421T104500
UID:XCW30120-20260421T093000@VHSCALW
SUMMARY:Hatha Yoga In der Kleingruppe (XCW30120) 
LOCATION:Calw, Ballettschule, Altburger Str. 16, Großer Ballettsaal, Altburger Str. 16, 75365 Calw
END:VEVENT
BEGIN:VEVENT
DTSTAMP:20260422T150330
DTSTART;TZID=Europe/Berlin:20260428T093000
DTEND;TZID=Europe/Berlin:20260428T104500
UID:XCW30120-20260428T093000@VHSCALW
SUMMARY:Hatha Yoga In der Kleingruppe (XCW30120) 
LOCATION:Calw, Ballettschule, Altburger Str. 16, Großer Ballettsaal, Altburger Str. 16, 75365 Calw
END:VEVENT
END:VCALENDAR