BEGIN:VCALENDAR
VERSION:2.0
PRODID:https://www.kufer.de/kuferweb / DE
METHOD:PUBLISH
CALSCALE:GREGORIAN
X-WR-TIMEZONE:Europe/Berlin
BEGIN:VTIMEZONE
TZID:Europe/Berlin
X-LIC-LOCATION:Europe/Berlin
BEGIN:DAYLIGHT
TZOFFSETFROM:+0100
TZOFFSETTO:+0200
TZNAME:CEST
DTSTART:19700329T020000
RRULE:FREQ=YEARLY;INTERVAL=1;BYDAY=-1SU;BYMONTH=3
END:DAYLIGHT
BEGIN:STANDARD
TZOFFSETFROM:+0200
TZOFFSETTO:+0100
TZNAME:CET
DTSTART:19701025T030000
RRULE:FREQ=YEARLY;INTERVAL=1;BYDAY=-1SU;BYMONTH=10
END:STANDARD
END:VTIMEZONE
BEGIN:VEVENT
DTSTAMP:20260421T174225
DTSTART;TZID=Europe/Berlin:20260306T150000
DTEND;TZID=Europe/Berlin:20260306T170000
UID:XCW20790-20260306T150000@VHSCALW
SUMMARY:Malkreis für Anfänger und Fortgeschrittene (XCW20790) 
LOCATION:Stammheim, Gymnasium, Schindelbergweg 7, Zeichenraum, Schindelbergweg 7, 75365 Calw
END:VEVENT
BEGIN:VEVENT
DTSTAMP:20260421T174225
DTSTART;TZID=Europe/Berlin:20260313T150000
DTEND;TZID=Europe/Berlin:20260313T170000
UID:XCW20790-20260313T150000@VHSCALW
SUMMARY:Malkreis für Anfänger und Fortgeschrittene (XCW20790) 
LOCATION:Stammheim, Gymnasium, Schindelbergweg 7, Zeichenraum, Schindelbergweg 7, 75365 Calw
END:VEVENT
BEGIN:VEVENT
DTSTAMP:20260421T174225
DTSTART;TZID=Europe/Berlin:20260320T150000
DTEND;TZID=Europe/Berlin:20260320T170000
UID:XCW20790-20260320T150000@VHSCALW
SUMMARY:Malkreis für Anfänger und Fortgeschrittene (XCW20790) 
LOCATION:Stammheim, Gymnasium, Schindelbergweg 7, Zeichenraum, Schindelbergweg 7, 75365 Calw
END:VEVENT
BEGIN:VEVENT
DTSTAMP:20260421T174225
DTSTART;TZID=Europe/Berlin:20260327T150000
DTEND;TZID=Europe/Berlin:20260327T170000
UID:XCW20790-20260327T150000@VHSCALW
SUMMARY:Malkreis für Anfänger und Fortgeschrittene (XCW20790) 
LOCATION:Stammheim, Gymnasium, Schindelbergweg 7, Zeichenraum, Schindelbergweg 7, 75365 Calw
END:VEVENT
BEGIN:VEVENT
DTSTAMP:20260421T174225
DTSTART;TZID=Europe/Berlin:20260417T150000
DTEND;TZID=Europe/Berlin:20260417T170000
UID:XCW20790-20260417T150000@VHSCALW
SUMMARY:Malkreis für Anfänger und Fortgeschrittene (XCW20790) 
LOCATION:Stammheim, Gymnasium, Schindelbergweg 7, Zeichenraum, Schindelbergweg 7, 75365 Calw
END:VEVENT
BEGIN:VEVENT
DTSTAMP:20260421T174225
DTSTART;TZID=Europe/Berlin:20260424T150000
DTEND;TZID=Europe/Berlin:20260424T170000
UID:XCW20790-20260424T150000@VHSCALW
SUMMARY:Malkreis für Anfänger und Fortgeschrittene (XCW20790) 
LOCATION:Stammheim, Gymnasium, Schindelbergweg 7, Zeichenraum, Schindelbergweg 7, 75365 Calw
END:VEVENT
BEGIN:VEVENT
DTSTAMP:20260421T174225
DTSTART;TZID=Europe/Berlin:20260508T150000
DTEND;TZID=Europe/Berlin:20260508T170000
UID:XCW20790-20260508T150000@VHSCALW
SUMMARY:Malkreis für Anfänger und Fortgeschrittene (XCW20790) 
LOCATION:Stammheim, Gymnasium, Schindelbergweg 7, Zeichenraum, Schindelbergweg 7, 75365 Calw
END:VEVENT
BEGIN:VEVENT
DTSTAMP:20260421T174225
DTSTART;TZID=Europe/Berlin:20260515T150000
DTEND;TZID=Europe/Berlin:20260515T170000
UID:XCW20790-20260515T150000@VHSCALW
SUMMARY:Malkreis für Anfänger und Fortgeschrittene (XCW20790) 
LOCATION:Stammheim, Gymnasium, Schindelbergweg 7, Zeichenraum, Schindelbergweg 7, 75365 Calw
END:VEVENT
BEGIN:VEVENT
DTSTAMP:20260421T174225
DTSTART;TZID=Europe/Berlin:20260522T150000
DTEND;TZID=Europe/Berlin:20260522T170000
UID:XCW20790-20260522T150000@VHSCALW
SUMMARY:Malkreis für Anfänger und Fortgeschrittene (XCW20790) 
LOCATION:Stammheim, Gymnasium, Schindelbergweg 7, Zeichenraum, Schindelbergweg 7, 75365 Calw
END:VEVENT
BEGIN:VEVENT
DTSTAMP:20260421T174225
DTSTART;TZID=Europe/Berlin:20260612T150000
DTEND;TZID=Europe/Berlin:20260612T170000
UID:XCW20790-20260612T150000@VHSCALW
SUMMARY:Malkreis für Anfänger und Fortgeschrittene (XCW20790) 
LOCATION:Stammheim, Gymnasium, Schindelbergweg 7, Zeichenraum, Schindelbergweg 7, 75365 Calw
END:VEVENT
BEGIN:VEVENT
DTSTAMP:20260421T174225
DTSTART;TZID=Europe/Berlin:20260619T150000
DTEND;TZID=Europe/Berlin:20260619T170000
UID:XCW20790-20260619T150000@VHSCALW
SUMMARY:Malkreis für Anfänger und Fortgeschrittene (XCW20790) 
LOCATION:Stammheim, Gymnasium, Schindelbergweg 7, Zeichenraum, Schindelbergweg 7, 75365 Calw
END:VEVENT
BEGIN:VEVENT
DTSTAMP:20260421T174225
DTSTART;TZID=Europe/Berlin:20260626T150000
DTEND;TZID=Europe/Berlin:20260626T170000
UID:XCW20790-20260626T150000@VHSCALW
SUMMARY:Malkreis für Anfänger und Fortgeschrittene (XCW20790) 
LOCATION:Stammheim, Gymnasium, Schindelbergweg 7, Zeichenraum, Schindelbergweg 7, 75365 Calw
END:VEVENT
END:VCALENDAR