BEGIN:VCALENDAR
VERSION:2.0
PRODID:https://www.kufer.de/kuferweb / DE
METHOD:PUBLISH
CALSCALE:GREGORIAN
X-WR-TIMEZONE:Europe/Berlin
BEGIN:VTIMEZONE
TZID:Europe/Berlin
X-LIC-LOCATION:Europe/Berlin
BEGIN:DAYLIGHT
TZOFFSETFROM:+0100
TZOFFSETTO:+0200
TZNAME:CEST
DTSTART:19700329T020000
RRULE:FREQ=YEARLY;INTERVAL=1;BYDAY=-1SU;BYMONTH=3
END:DAYLIGHT
BEGIN:STANDARD
TZOFFSETFROM:+0200
TZOFFSETTO:+0100
TZNAME:CET
DTSTART:19701025T030000
RRULE:FREQ=YEARLY;INTERVAL=1;BYDAY=-1SU;BYMONTH=10
END:STANDARD
END:VTIMEZONE
BEGIN:VEVENT
DTSTAMP:20260421T142032
DTSTART;TZID=Europe/Berlin:20260420T090000
DTEND;TZID=Europe/Berlin:20260420T180000
UID:XCW10250-20260420T090000@VHSCALW
SUMMARY:Ausstellung: Redaktionelle Gesellschaft (XCW10250) 
LOCATION:Calw, vhs, Foyer, Kirchplatz 3, 75365 Calw
END:VEVENT
BEGIN:VEVENT
DTSTAMP:20260421T142032
DTSTART;TZID=Europe/Berlin:20260421T090000
DTEND;TZID=Europe/Berlin:20260421T180000
UID:XCW10250-20260421T090000@VHSCALW
SUMMARY:Ausstellung: Redaktionelle Gesellschaft (XCW10250) 
LOCATION:Calw, vhs, Foyer, Kirchplatz 3, 75365 Calw
END:VEVENT
BEGIN:VEVENT
DTSTAMP:20260421T142032
DTSTART;TZID=Europe/Berlin:20260422T090000
DTEND;TZID=Europe/Berlin:20260422T180000
UID:XCW10250-20260422T090000@VHSCALW
SUMMARY:Ausstellung: Redaktionelle Gesellschaft (XCW10250) 
LOCATION:Calw, vhs, Foyer, Kirchplatz 3, 75365 Calw
END:VEVENT
BEGIN:VEVENT
DTSTAMP:20260421T142032
DTSTART;TZID=Europe/Berlin:20260423T090000
DTEND;TZID=Europe/Berlin:20260423T180000
UID:XCW10250-20260423T090000@VHSCALW
SUMMARY:Ausstellung: Redaktionelle Gesellschaft (XCW10250) 
LOCATION:Calw, vhs, Foyer, Kirchplatz 3, 75365 Calw
END:VEVENT
BEGIN:VEVENT
DTSTAMP:20260421T142032
DTSTART;TZID=Europe/Berlin:20260424T090000
DTEND;TZID=Europe/Berlin:20260424T180000
UID:XCW10250-20260424T090000@VHSCALW
SUMMARY:Ausstellung: Redaktionelle Gesellschaft (XCW10250) 
LOCATION:Calw, vhs, Foyer, Kirchplatz 3, 75365 Calw
END:VEVENT
BEGIN:VEVENT
DTSTAMP:20260421T142032
DTSTART;TZID=Europe/Berlin:20260427T090000
DTEND;TZID=Europe/Berlin:20260427T180000
UID:XCW10250-20260427T090000@VHSCALW
SUMMARY:Ausstellung: Redaktionelle Gesellschaft (XCW10250) 
LOCATION:Calw, vhs, Foyer, Kirchplatz 3, 75365 Calw
END:VEVENT
BEGIN:VEVENT
DTSTAMP:20260421T142032
DTSTART;TZID=Europe/Berlin:20260428T090000
DTEND;TZID=Europe/Berlin:20260428T180000
UID:XCW10250-20260428T090000@VHSCALW
SUMMARY:Ausstellung: Redaktionelle Gesellschaft (XCW10250) 
LOCATION:Calw, vhs, Foyer, Kirchplatz 3, 75365 Calw
END:VEVENT
BEGIN:VEVENT
DTSTAMP:20260421T142032
DTSTART;TZID=Europe/Berlin:20260429T090000
DTEND;TZID=Europe/Berlin:20260429T180000
UID:XCW10250-20260429T090000@VHSCALW
SUMMARY:Ausstellung: Redaktionelle Gesellschaft (XCW10250) 
LOCATION:Calw, vhs, Foyer, Kirchplatz 3, 75365 Calw
END:VEVENT
BEGIN:VEVENT
DTSTAMP:20260421T142032
DTSTART;TZID=Europe/Berlin:20260430T090000
DTEND;TZID=Europe/Berlin:20260430T180000
UID:XCW10250-20260430T090000@VHSCALW
SUMMARY:Ausstellung: Redaktionelle Gesellschaft (XCW10250) 
LOCATION:Calw, vhs, Foyer, Kirchplatz 3, 75365 Calw
END:VEVENT
END:VCALENDAR