BEGIN:VCALENDAR
VERSION:2.0
PRODID:https://www.kufer.de/kuferweb / DE
METHOD:PUBLISH
CALSCALE:GREGORIAN
X-WR-TIMEZONE:Europe/Berlin
BEGIN:VTIMEZONE
TZID:Europe/Berlin
X-LIC-LOCATION:Europe/Berlin
BEGIN:DAYLIGHT
TZOFFSETFROM:+0100
TZOFFSETTO:+0200
TZNAME:CEST
DTSTART:19700329T020000
RRULE:FREQ=YEARLY;INTERVAL=1;BYDAY=-1SU;BYMONTH=3
END:DAYLIGHT
BEGIN:STANDARD
TZOFFSETFROM:+0200
TZOFFSETTO:+0100
TZNAME:CET
DTSTART:19701025T030000
RRULE:FREQ=YEARLY;INTERVAL=1;BYDAY=-1SU;BYMONTH=10
END:STANDARD
END:VTIMEZONE
BEGIN:VEVENT
DTSTAMP:20260422T110950
DTSTART;TZID=Europe/Berlin:20260910T130000
DTEND;TZID=Europe/Berlin:20260910T160000
UID:XBW88293-20260910T130000@VHSCALW
SUMMARY:Textiles Gestalten für Kinder von 6-12 J: Wir basteln flauschige Pompon Tiere (XBW88293) 
LOCATION:Bad Wildbad, Hermann-Saam-Halle, Familientreff Karusell, Bismarckstraße 62, 75323 Bad Wildbad
END:VEVENT
END:VCALENDAR