BEGIN:VCALENDAR
VERSION:2.0
PRODID:https://www.kufer.de/kuferweb / DE
METHOD:PUBLISH
CALSCALE:GREGORIAN
X-WR-TIMEZONE:Europe/Berlin
BEGIN:VTIMEZONE
TZID:Europe/Berlin
X-LIC-LOCATION:Europe/Berlin
BEGIN:DAYLIGHT
TZOFFSETFROM:+0100
TZOFFSETTO:+0200
TZNAME:CEST
DTSTART:19700329T020000
RRULE:FREQ=YEARLY;INTERVAL=1;BYDAY=-1SU;BYMONTH=3
END:DAYLIGHT
BEGIN:STANDARD
TZOFFSETFROM:+0200
TZOFFSETTO:+0100
TZNAME:CET
DTSTART:19701025T030000
RRULE:FREQ=YEARLY;INTERVAL=1;BYDAY=-1SU;BYMONTH=10
END:STANDARD
END:VTIMEZONE
BEGIN:VEVENT
DTSTAMP:20260421T144125
DTSTART;TZID=Europe/Berlin:20260504T183000
DTEND;TZID=Europe/Berlin:20260504T191500
UID:XBW30400-20260504T183000@VHSCALW
SUMMARY:Gesichtsgymnastik Für eine jugendlich straffe Gesichtshaut (XBW30400) 
LOCATION:Bad Wildbad, Forum König-Karls-Bad, König-Karl-Str.1, vhs-Raum, König-Karl-Str. 1, 75323 Bad Wildbad
END:VEVENT
BEGIN:VEVENT
DTSTAMP:20260421T144125
DTSTART;TZID=Europe/Berlin:20260511T183000
DTEND;TZID=Europe/Berlin:20260511T191500
UID:XBW30400-20260511T183000@VHSCALW
SUMMARY:Gesichtsgymnastik Für eine jugendlich straffe Gesichtshaut (XBW30400) 
LOCATION:Bad Wildbad, Forum König-Karls-Bad, König-Karl-Str.1, vhs-Raum, König-Karl-Str. 1, 75323 Bad Wildbad
END:VEVENT
BEGIN:VEVENT
DTSTAMP:20260421T144125
DTSTART;TZID=Europe/Berlin:20260518T183000
DTEND;TZID=Europe/Berlin:20260518T191500
UID:XBW30400-20260518T183000@VHSCALW
SUMMARY:Gesichtsgymnastik Für eine jugendlich straffe Gesichtshaut (XBW30400) 
LOCATION:Bad Wildbad, Forum König-Karls-Bad, König-Karl-Str.1, vhs-Raum, König-Karl-Str. 1, 75323 Bad Wildbad
END:VEVENT
BEGIN:VEVENT
DTSTAMP:20260421T144125
DTSTART;TZID=Europe/Berlin:20260608T183000
DTEND;TZID=Europe/Berlin:20260608T191500
UID:XBW30400-20260608T183000@VHSCALW
SUMMARY:Gesichtsgymnastik Für eine jugendlich straffe Gesichtshaut (XBW30400) 
LOCATION:Bad Wildbad, Forum König-Karls-Bad, König-Karl-Str.1, vhs-Raum, König-Karl-Str. 1, 75323 Bad Wildbad
END:VEVENT
BEGIN:VEVENT
DTSTAMP:20260421T144125
DTSTART;TZID=Europe/Berlin:20260615T183000
DTEND;TZID=Europe/Berlin:20260615T191500
UID:XBW30400-20260615T183000@VHSCALW
SUMMARY:Gesichtsgymnastik Für eine jugendlich straffe Gesichtshaut (XBW30400) 
LOCATION:Bad Wildbad, Forum König-Karls-Bad, König-Karl-Str.1, vhs-Raum, König-Karl-Str. 1, 75323 Bad Wildbad
END:VEVENT
END:VCALENDAR