BEGIN:VCALENDAR
VERSION:2.0
PRODID:https://www.kufer.de/kuferweb / DE
METHOD:PUBLISH
CALSCALE:GREGORIAN
X-WR-TIMEZONE:Europe/Berlin
BEGIN:VTIMEZONE
TZID:Europe/Berlin
X-LIC-LOCATION:Europe/Berlin
BEGIN:DAYLIGHT
TZOFFSETFROM:+0100
TZOFFSETTO:+0200
TZNAME:CEST
DTSTART:19700329T020000
RRULE:FREQ=YEARLY;INTERVAL=1;BYDAY=-1SU;BYMONTH=3
END:DAYLIGHT
BEGIN:STANDARD
TZOFFSETFROM:+0200
TZOFFSETTO:+0100
TZNAME:CET
DTSTART:19701025T030000
RRULE:FREQ=YEARLY;INTERVAL=1;BYDAY=-1SU;BYMONTH=10
END:STANDARD
END:VTIMEZONE
BEGIN:VEVENT
DTSTAMP:20260420T190401
DTSTART;TZID=Europe/Berlin:20260310T180000
DTEND;TZID=Europe/Berlin:20260310T190000
UID:XBW30260-20260310T180000@VHSCALW
SUMMARY:Line Dance Für Anfänger*innen mit Vorkenntnissen (XBW30260) 
LOCATION:Bad Wildbad, Forum König-Karls-Bad, König-Karl-Str.1, vhs-Raum, König-Karl-Str. 1, 75323 Bad Wildbad
END:VEVENT
BEGIN:VEVENT
DTSTAMP:20260420T190401
DTSTART;TZID=Europe/Berlin:20260317T180000
DTEND;TZID=Europe/Berlin:20260317T190000
UID:XBW30260-20260317T180000@VHSCALW
SUMMARY:Line Dance Für Anfänger*innen mit Vorkenntnissen (XBW30260) 
LOCATION:Bad Wildbad, Forum König-Karls-Bad, König-Karl-Str.1, vhs-Raum, König-Karl-Str. 1, 75323 Bad Wildbad
END:VEVENT
BEGIN:VEVENT
DTSTAMP:20260420T190401
DTSTART;TZID=Europe/Berlin:20260324T180000
DTEND;TZID=Europe/Berlin:20260324T190000
UID:XBW30260-20260324T180000@VHSCALW
SUMMARY:Line Dance Für Anfänger*innen mit Vorkenntnissen (XBW30260) 
LOCATION:Bad Wildbad, Forum König-Karls-Bad, König-Karl-Str.1, vhs-Raum, König-Karl-Str. 1, 75323 Bad Wildbad
END:VEVENT
BEGIN:VEVENT
DTSTAMP:20260420T190401
DTSTART;TZID=Europe/Berlin:20260414T180000
DTEND;TZID=Europe/Berlin:20260414T190000
UID:XBW30260-20260414T180000@VHSCALW
SUMMARY:Line Dance Für Anfänger*innen mit Vorkenntnissen (XBW30260) 
LOCATION:Bad Wildbad, Forum König-Karls-Bad, König-Karl-Str.1, vhs-Raum, König-Karl-Str. 1, 75323 Bad Wildbad
END:VEVENT
BEGIN:VEVENT
DTSTAMP:20260420T190401
DTSTART;TZID=Europe/Berlin:20260421T180000
DTEND;TZID=Europe/Berlin:20260421T190000
UID:XBW30260-20260421T180000@VHSCALW
SUMMARY:Line Dance Für Anfänger*innen mit Vorkenntnissen (XBW30260) 
LOCATION:Bad Wildbad, Forum König-Karls-Bad, König-Karl-Str.1, vhs-Raum, König-Karl-Str. 1, 75323 Bad Wildbad
END:VEVENT
BEGIN:VEVENT
DTSTAMP:20260420T190401
DTSTART;TZID=Europe/Berlin:20260428T180000
DTEND;TZID=Europe/Berlin:20260428T190000
UID:XBW30260-20260428T180000@VHSCALW
SUMMARY:Line Dance Für Anfänger*innen mit Vorkenntnissen (XBW30260) 
LOCATION:Bad Wildbad, Forum König-Karls-Bad, König-Karl-Str.1, vhs-Raum, König-Karl-Str. 1, 75323 Bad Wildbad
END:VEVENT
BEGIN:VEVENT
DTSTAMP:20260420T190401
DTSTART;TZID=Europe/Berlin:20260505T180000
DTEND;TZID=Europe/Berlin:20260505T190000
UID:XBW30260-20260505T180000@VHSCALW
SUMMARY:Line Dance Für Anfänger*innen mit Vorkenntnissen (XBW30260) 
LOCATION:Bad Wildbad, Forum König-Karls-Bad, König-Karl-Str.1, vhs-Raum, König-Karl-Str. 1, 75323 Bad Wildbad
END:VEVENT
BEGIN:VEVENT
DTSTAMP:20260420T190401
DTSTART;TZID=Europe/Berlin:20260519T180000
DTEND;TZID=Europe/Berlin:20260519T190000
UID:XBW30260-20260519T180000@VHSCALW
SUMMARY:Line Dance Für Anfänger*innen mit Vorkenntnissen (XBW30260) 
LOCATION:Bad Wildbad, Forum König-Karls-Bad, König-Karl-Str.1, vhs-Raum, König-Karl-Str. 1, 75323 Bad Wildbad
END:VEVENT
END:VCALENDAR