BEGIN:VCALENDAR
VERSION:2.0
PRODID:https://www.kufer.de/kuferweb / DE
METHOD:PUBLISH
CALSCALE:GREGORIAN
X-WR-TIMEZONE:Europe/Berlin
BEGIN:VTIMEZONE
TZID:Europe/Berlin
X-LIC-LOCATION:Europe/Berlin
BEGIN:DAYLIGHT
TZOFFSETFROM:+0100
TZOFFSETTO:+0200
TZNAME:CEST
DTSTART:19700329T020000
RRULE:FREQ=YEARLY;INTERVAL=1;BYDAY=-1SU;BYMONTH=3
END:DAYLIGHT
BEGIN:STANDARD
TZOFFSETFROM:+0200
TZOFFSETTO:+0100
TZNAME:CET
DTSTART:19701025T030000
RRULE:FREQ=YEARLY;INTERVAL=1;BYDAY=-1SU;BYMONTH=10
END:STANDARD
END:VTIMEZONE
BEGIN:VEVENT
DTSTAMP:20260421T152529
DTSTART;TZID=Europe/Berlin:20260302T085000
DTEND;TZID=Europe/Berlin:20260302T095000
UID:XBL30201-20260302T085000@VHSCALW
SUMMARY:Gymnastik soft (XBL30201) 
LOCATION:Monakam, Dorfzentrum, Waldstr. 25, Turnhalle
END:VEVENT
BEGIN:VEVENT
DTSTAMP:20260421T152529
DTSTART;TZID=Europe/Berlin:20260309T085000
DTEND;TZID=Europe/Berlin:20260309T095000
UID:XBL30201-20260309T085000@VHSCALW
SUMMARY:Gymnastik soft (XBL30201) 
LOCATION:Monakam, Dorfzentrum, Waldstr. 25, Turnhalle
END:VEVENT
BEGIN:VEVENT
DTSTAMP:20260421T152529
DTSTART;TZID=Europe/Berlin:20260316T085000
DTEND;TZID=Europe/Berlin:20260316T095000
UID:XBL30201-20260316T085000@VHSCALW
SUMMARY:Gymnastik soft (XBL30201) 
LOCATION:Monakam, Dorfzentrum, Waldstr. 25, Turnhalle
END:VEVENT
BEGIN:VEVENT
DTSTAMP:20260421T152529
DTSTART;TZID=Europe/Berlin:20260323T085000
DTEND;TZID=Europe/Berlin:20260323T095000
UID:XBL30201-20260323T085000@VHSCALW
SUMMARY:Gymnastik soft (XBL30201) 
LOCATION:Monakam, Dorfzentrum, Waldstr. 25, Turnhalle
END:VEVENT
BEGIN:VEVENT
DTSTAMP:20260421T152529
DTSTART;TZID=Europe/Berlin:20260413T085000
DTEND;TZID=Europe/Berlin:20260413T095000
UID:XBL30201-20260413T085000@VHSCALW
SUMMARY:Gymnastik soft (XBL30201) 
LOCATION:Monakam, Dorfzentrum, Waldstr. 25, Turnhalle
END:VEVENT
BEGIN:VEVENT
DTSTAMP:20260421T152529
DTSTART;TZID=Europe/Berlin:20260420T085000
DTEND;TZID=Europe/Berlin:20260420T095000
UID:XBL30201-20260420T085000@VHSCALW
SUMMARY:Gymnastik soft (XBL30201) 
LOCATION:Monakam, Dorfzentrum, Waldstr. 25, Turnhalle
END:VEVENT
BEGIN:VEVENT
DTSTAMP:20260421T152529
DTSTART;TZID=Europe/Berlin:20260427T085000
DTEND;TZID=Europe/Berlin:20260427T095000
UID:XBL30201-20260427T085000@VHSCALW
SUMMARY:Gymnastik soft (XBL30201) 
LOCATION:Monakam, Dorfzentrum, Waldstr. 25, Turnhalle
END:VEVENT
BEGIN:VEVENT
DTSTAMP:20260421T152529
DTSTART;TZID=Europe/Berlin:20260504T085000
DTEND;TZID=Europe/Berlin:20260504T095000
UID:XBL30201-20260504T085000@VHSCALW
SUMMARY:Gymnastik soft (XBL30201) 
LOCATION:Monakam, Dorfzentrum, Waldstr. 25, Turnhalle
END:VEVENT
BEGIN:VEVENT
DTSTAMP:20260421T152529
DTSTART;TZID=Europe/Berlin:20260511T085000
DTEND;TZID=Europe/Berlin:20260511T095000
UID:XBL30201-20260511T085000@VHSCALW
SUMMARY:Gymnastik soft (XBL30201) 
LOCATION:Monakam, Dorfzentrum, Waldstr. 25, Turnhalle
END:VEVENT
BEGIN:VEVENT
DTSTAMP:20260421T152529
DTSTART;TZID=Europe/Berlin:20260518T085000
DTEND;TZID=Europe/Berlin:20260518T095000
UID:XBL30201-20260518T085000@VHSCALW
SUMMARY:Gymnastik soft (XBL30201) 
LOCATION:Monakam, Dorfzentrum, Waldstr. 25, Turnhalle
END:VEVENT
BEGIN:VEVENT
DTSTAMP:20260421T152529
DTSTART;TZID=Europe/Berlin:20260622T085000
DTEND;TZID=Europe/Berlin:20260622T095000
UID:XBL30201-20260622T085000@VHSCALW
SUMMARY:Gymnastik soft (XBL30201) 
LOCATION:Monakam, Dorfzentrum, Waldstr. 25, Turnhalle
END:VEVENT
BEGIN:VEVENT
DTSTAMP:20260421T152529
DTSTART;TZID=Europe/Berlin:20260629T085000
DTEND;TZID=Europe/Berlin:20260629T095000
UID:XBL30201-20260629T085000@VHSCALW
SUMMARY:Gymnastik soft (XBL30201) 
LOCATION:Monakam, Dorfzentrum, Waldstr. 25, Turnhalle
END:VEVENT
BEGIN:VEVENT
DTSTAMP:20260421T152529
DTSTART;TZID=Europe/Berlin:20260706T085000
DTEND;TZID=Europe/Berlin:20260706T095000
UID:XBL30201-20260706T085000@VHSCALW
SUMMARY:Gymnastik soft (XBL30201) 
LOCATION:Monakam, Dorfzentrum, Waldstr. 25, Turnhalle
END:VEVENT
BEGIN:VEVENT
DTSTAMP:20260421T152529
DTSTART;TZID=Europe/Berlin:20260713T085000
DTEND;TZID=Europe/Berlin:20260713T095000
UID:XBL30201-20260713T085000@VHSCALW
SUMMARY:Gymnastik soft (XBL30201) 
LOCATION:Monakam, Dorfzentrum, Waldstr. 25, Turnhalle
END:VEVENT
BEGIN:VEVENT
DTSTAMP:20260421T152529
DTSTART;TZID=Europe/Berlin:20260720T085000
DTEND;TZID=Europe/Berlin:20260720T095000
UID:XBL30201-20260720T085000@VHSCALW
SUMMARY:Gymnastik soft (XBL30201) 
LOCATION:Monakam, Dorfzentrum, Waldstr. 25, Turnhalle
END:VEVENT
END:VCALENDAR