BEGIN:VCALENDAR
VERSION:2.0
PRODID:https://www.kufer.de/kuferweb / DE
METHOD:PUBLISH
CALSCALE:GREGORIAN
X-WR-TIMEZONE:Europe/Berlin
BEGIN:VTIMEZONE
TZID:Europe/Berlin
X-LIC-LOCATION:Europe/Berlin
BEGIN:DAYLIGHT
TZOFFSETFROM:+0100
TZOFFSETTO:+0200
TZNAME:CEST
DTSTART:19700329T020000
RRULE:FREQ=YEARLY;INTERVAL=1;BYDAY=-1SU;BYMONTH=3
END:DAYLIGHT
BEGIN:STANDARD
TZOFFSETFROM:+0200
TZOFFSETTO:+0100
TZNAME:CET
DTSTART:19701025T030000
RRULE:FREQ=YEARLY;INTERVAL=1;BYDAY=-1SU;BYMONTH=10
END:STANDARD
END:VTIMEZONE
BEGIN:VEVENT
DTSTAMP:20260422T111001
DTSTART;TZID=Europe/Berlin:20260416T181000
DTEND;TZID=Europe/Berlin:20260416T191000
UID:XAH40850-20260416T181000@VHSCALW
SUMMARY:Conversation française B17Kleingruppe (XAH40850) 
LOCATION:Althengstett, Schulzentrum, Realschule, Schulstr. 9, Raum 108, Schulstr. 9-15, 75382 Althengstett
END:VEVENT
BEGIN:VEVENT
DTSTAMP:20260422T111001
DTSTART;TZID=Europe/Berlin:20260423T181000
DTEND;TZID=Europe/Berlin:20260423T191000
UID:XAH40850-20260423T181000@VHSCALW
SUMMARY:Conversation française B17Kleingruppe (XAH40850) 
LOCATION:Althengstett, Schulzentrum, Realschule, Schulstr. 9, Raum 108, Schulstr. 9-15, 75382 Althengstett
END:VEVENT
BEGIN:VEVENT
DTSTAMP:20260422T111001
DTSTART;TZID=Europe/Berlin:20260430T181000
DTEND;TZID=Europe/Berlin:20260430T191000
UID:XAH40850-20260430T181000@VHSCALW
SUMMARY:Conversation française B17Kleingruppe (XAH40850) 
LOCATION:Althengstett, Schulzentrum, Realschule, Schulstr. 9, Raum 108, Schulstr. 9-15, 75382 Althengstett
END:VEVENT
BEGIN:VEVENT
DTSTAMP:20260422T111001
DTSTART;TZID=Europe/Berlin:20260507T181000
DTEND;TZID=Europe/Berlin:20260507T191000
UID:XAH40850-20260507T181000@VHSCALW
SUMMARY:Conversation française B17Kleingruppe (XAH40850) 
LOCATION:Althengstett, Schulzentrum, Realschule, Schulstr. 9, Raum 108, Schulstr. 9-15, 75382 Althengstett
END:VEVENT
BEGIN:VEVENT
DTSTAMP:20260422T111001
DTSTART;TZID=Europe/Berlin:20260521T181000
DTEND;TZID=Europe/Berlin:20260521T191000
UID:XAH40850-20260521T181000@VHSCALW
SUMMARY:Conversation française B17Kleingruppe (XAH40850) 
LOCATION:Althengstett, Schulzentrum, Realschule, Schulstr. 9, Raum 108, Schulstr. 9-15, 75382 Althengstett
END:VEVENT
BEGIN:VEVENT
DTSTAMP:20260422T111001
DTSTART;TZID=Europe/Berlin:20260611T181000
DTEND;TZID=Europe/Berlin:20260611T191000
UID:XAH40850-20260611T181000@VHSCALW
SUMMARY:Conversation française B17Kleingruppe (XAH40850) 
LOCATION:Althengstett, Schulzentrum, Realschule, Schulstr. 9, Raum 108, Schulstr. 9-15, 75382 Althengstett
END:VEVENT
BEGIN:VEVENT
DTSTAMP:20260422T111001
DTSTART;TZID=Europe/Berlin:20260618T181000
DTEND;TZID=Europe/Berlin:20260618T191000
UID:XAH40850-20260618T181000@VHSCALW
SUMMARY:Conversation française B17Kleingruppe (XAH40850) 
LOCATION:Althengstett, Schulzentrum, Realschule, Schulstr. 9, Raum 108, Schulstr. 9-15, 75382 Althengstett
END:VEVENT
BEGIN:VEVENT
DTSTAMP:20260422T111001
DTSTART;TZID=Europe/Berlin:20260625T181000
DTEND;TZID=Europe/Berlin:20260625T191000
UID:XAH40850-20260625T181000@VHSCALW
SUMMARY:Conversation française B17Kleingruppe (XAH40850) 
LOCATION:Althengstett, Schulzentrum, Realschule, Schulstr. 9, Raum 108, Schulstr. 9-15, 75382 Althengstett
END:VEVENT
BEGIN:VEVENT
DTSTAMP:20260422T111001
DTSTART;TZID=Europe/Berlin:20260702T181000
DTEND;TZID=Europe/Berlin:20260702T191000
UID:XAH40850-20260702T181000@VHSCALW
SUMMARY:Conversation française B17Kleingruppe (XAH40850) 
LOCATION:Althengstett, Schulzentrum, Realschule, Schulstr. 9, Raum 108, Schulstr. 9-15, 75382 Althengstett
END:VEVENT
BEGIN:VEVENT
DTSTAMP:20260422T111001
DTSTART;TZID=Europe/Berlin:20260709T181000
DTEND;TZID=Europe/Berlin:20260709T191000
UID:XAH40850-20260709T181000@VHSCALW
SUMMARY:Conversation française B17Kleingruppe (XAH40850) 
LOCATION:Althengstett, Schulzentrum, Realschule, Schulstr. 9, Raum 108, Schulstr. 9-15, 75382 Althengstett
END:VEVENT
BEGIN:VEVENT
DTSTAMP:20260422T111001
DTSTART;TZID=Europe/Berlin:20260716T181000
DTEND;TZID=Europe/Berlin:20260716T191000
UID:XAH40850-20260716T181000@VHSCALW
SUMMARY:Conversation française B17Kleingruppe (XAH40850) 
LOCATION:Althengstett, Schulzentrum, Realschule, Schulstr. 9, Raum 108, Schulstr. 9-15, 75382 Althengstett
END:VEVENT
BEGIN:VEVENT
DTSTAMP:20260422T111001
DTSTART;TZID=Europe/Berlin:20260723T181000
DTEND;TZID=Europe/Berlin:20260723T191000
UID:XAH40850-20260723T181000@VHSCALW
SUMMARY:Conversation française B17Kleingruppe (XAH40850) 
LOCATION:Althengstett, Schulzentrum, Realschule, Schulstr. 9, Raum 108, Schulstr. 9-15, 75382 Althengstett
END:VEVENT
END:VCALENDAR