BEGIN:VCALENDAR
VERSION:2.0
PRODID:https://www.kufer.de/kuferweb / DE
METHOD:PUBLISH
CALSCALE:GREGORIAN
X-WR-TIMEZONE:Europe/Berlin
BEGIN:VTIMEZONE
TZID:Europe/Berlin
X-LIC-LOCATION:Europe/Berlin
BEGIN:DAYLIGHT
TZOFFSETFROM:+0100
TZOFFSETTO:+0200
TZNAME:CEST
DTSTART:19700329T020000
RRULE:FREQ=YEARLY;INTERVAL=1;BYDAY=-1SU;BYMONTH=3
END:DAYLIGHT
BEGIN:STANDARD
TZOFFSETFROM:+0200
TZOFFSETTO:+0100
TZNAME:CET
DTSTART:19701025T030000
RRULE:FREQ=YEARLY;INTERVAL=1;BYDAY=-1SU;BYMONTH=10
END:STANDARD
END:VTIMEZONE
BEGIN:VEVENT
DTSTAMP:20260420T194502
DTSTART;TZID=Europe/Berlin:20260414T154500
DTEND;TZID=Europe/Berlin:20260414T163000
UID:XAH30283-20260414T154500@VHSCALW
SUMMARY:Wassergymnastik (XAH30283) 
LOCATION:Althengstett, Hallenschwimmbad, Jahnstr. 7-9, Jahnstr. 7-9, 75382 Althengstett
END:VEVENT
BEGIN:VEVENT
DTSTAMP:20260420T194502
DTSTART;TZID=Europe/Berlin:20260421T154500
DTEND;TZID=Europe/Berlin:20260421T163000
UID:XAH30283-20260421T154500@VHSCALW
SUMMARY:Wassergymnastik (XAH30283) 
LOCATION:Althengstett, Hallenschwimmbad, Jahnstr. 7-9, Jahnstr. 7-9, 75382 Althengstett
END:VEVENT
BEGIN:VEVENT
DTSTAMP:20260420T194502
DTSTART;TZID=Europe/Berlin:20260428T154500
DTEND;TZID=Europe/Berlin:20260428T163000
UID:XAH30283-20260428T154500@VHSCALW
SUMMARY:Wassergymnastik (XAH30283) 
LOCATION:Althengstett, Hallenschwimmbad, Jahnstr. 7-9, Jahnstr. 7-9, 75382 Althengstett
END:VEVENT
BEGIN:VEVENT
DTSTAMP:20260420T194502
DTSTART;TZID=Europe/Berlin:20260505T154500
DTEND;TZID=Europe/Berlin:20260505T163000
UID:XAH30283-20260505T154500@VHSCALW
SUMMARY:Wassergymnastik (XAH30283) 
LOCATION:Althengstett, Hallenschwimmbad, Jahnstr. 7-9, Jahnstr. 7-9, 75382 Althengstett
END:VEVENT
BEGIN:VEVENT
DTSTAMP:20260420T194502
DTSTART;TZID=Europe/Berlin:20260512T154500
DTEND;TZID=Europe/Berlin:20260512T163000
UID:XAH30283-20260512T154500@VHSCALW
SUMMARY:Wassergymnastik (XAH30283) 
LOCATION:Althengstett, Hallenschwimmbad, Jahnstr. 7-9, Jahnstr. 7-9, 75382 Althengstett
END:VEVENT
BEGIN:VEVENT
DTSTAMP:20260420T194502
DTSTART;TZID=Europe/Berlin:20260519T154500
DTEND;TZID=Europe/Berlin:20260519T163000
UID:XAH30283-20260519T154500@VHSCALW
SUMMARY:Wassergymnastik (XAH30283) 
LOCATION:Althengstett, Hallenschwimmbad, Jahnstr. 7-9, Jahnstr. 7-9, 75382 Althengstett
END:VEVENT
BEGIN:VEVENT
DTSTAMP:20260420T194502
DTSTART;TZID=Europe/Berlin:20260609T154500
DTEND;TZID=Europe/Berlin:20260609T163000
UID:XAH30283-20260609T154500@VHSCALW
SUMMARY:Wassergymnastik (XAH30283) 
LOCATION:Althengstett, Hallenschwimmbad, Jahnstr. 7-9, Jahnstr. 7-9, 75382 Althengstett
END:VEVENT
BEGIN:VEVENT
DTSTAMP:20260420T194502
DTSTART;TZID=Europe/Berlin:20260616T154500
DTEND;TZID=Europe/Berlin:20260616T163000
UID:XAH30283-20260616T154500@VHSCALW
SUMMARY:Wassergymnastik (XAH30283) 
LOCATION:Althengstett, Hallenschwimmbad, Jahnstr. 7-9, Jahnstr. 7-9, 75382 Althengstett
END:VEVENT
BEGIN:VEVENT
DTSTAMP:20260420T194502
DTSTART;TZID=Europe/Berlin:20260623T154500
DTEND;TZID=Europe/Berlin:20260623T163000
UID:XAH30283-20260623T154500@VHSCALW
SUMMARY:Wassergymnastik (XAH30283) 
LOCATION:Althengstett, Hallenschwimmbad, Jahnstr. 7-9, Jahnstr. 7-9, 75382 Althengstett
END:VEVENT
BEGIN:VEVENT
DTSTAMP:20260420T194502
DTSTART;TZID=Europe/Berlin:20260630T154500
DTEND;TZID=Europe/Berlin:20260630T163000
UID:XAH30283-20260630T154500@VHSCALW
SUMMARY:Wassergymnastik (XAH30283) 
LOCATION:Althengstett, Hallenschwimmbad, Jahnstr. 7-9, Jahnstr. 7-9, 75382 Althengstett
END:VEVENT
BEGIN:VEVENT
DTSTAMP:20260420T194502
DTSTART;TZID=Europe/Berlin:20260707T154500
DTEND;TZID=Europe/Berlin:20260707T163000
UID:XAH30283-20260707T154500@VHSCALW
SUMMARY:Wassergymnastik (XAH30283) 
LOCATION:Althengstett, Hallenschwimmbad, Jahnstr. 7-9, Jahnstr. 7-9, 75382 Althengstett
END:VEVENT
BEGIN:VEVENT
DTSTAMP:20260420T194502
DTSTART;TZID=Europe/Berlin:20260714T154500
DTEND;TZID=Europe/Berlin:20260714T163000
UID:XAH30283-20260714T154500@VHSCALW
SUMMARY:Wassergymnastik (XAH30283) 
LOCATION:Althengstett, Hallenschwimmbad, Jahnstr. 7-9, Jahnstr. 7-9, 75382 Althengstett
END:VEVENT
BEGIN:VEVENT
DTSTAMP:20260420T194502
DTSTART;TZID=Europe/Berlin:20260721T154500
DTEND;TZID=Europe/Berlin:20260721T163000
UID:XAH30283-20260721T154500@VHSCALW
SUMMARY:Wassergymnastik (XAH30283) 
LOCATION:Althengstett, Hallenschwimmbad, Jahnstr. 7-9, Jahnstr. 7-9, 75382 Althengstett
END:VEVENT
END:VCALENDAR