BEGIN:VCALENDAR
VERSION:2.0
PRODID:https://www.kufer.de/kuferweb / DE
METHOD:PUBLISH
CALSCALE:GREGORIAN
X-WR-TIMEZONE:Europe/Berlin
BEGIN:VTIMEZONE
TZID:Europe/Berlin
X-LIC-LOCATION:Europe/Berlin
BEGIN:DAYLIGHT
TZOFFSETFROM:+0100
TZOFFSETTO:+0200
TZNAME:CEST
DTSTART:19700329T020000
RRULE:FREQ=YEARLY;INTERVAL=1;BYDAY=-1SU;BYMONTH=3
END:DAYLIGHT
BEGIN:STANDARD
TZOFFSETFROM:+0200
TZOFFSETTO:+0100
TZNAME:CET
DTSTART:19701025T030000
RRULE:FREQ=YEARLY;INTERVAL=1;BYDAY=-1SU;BYMONTH=10
END:STANDARD
END:VTIMEZONE
BEGIN:VEVENT
DTSTAMP:20260420T214344
DTSTART;TZID=Europe/Berlin:20260610T184500
DTEND;TZID=Europe/Berlin:20260610T193000
UID:XAH30106-20260610T184500@VHSCALW
SUMMARY:Stretch & Relax Dehnen und Entspannen (XAH30106) 
LOCATION:Althengstett, Fronäckerhaus, Fronäckerstr. 4, großer Raum, Fronäckerstr. 4, 75382 Althengstett
END:VEVENT
BEGIN:VEVENT
DTSTAMP:20260420T214344
DTSTART;TZID=Europe/Berlin:20260617T184500
DTEND;TZID=Europe/Berlin:20260617T193000
UID:XAH30106-20260617T184500@VHSCALW
SUMMARY:Stretch & Relax Dehnen und Entspannen (XAH30106) 
LOCATION:Althengstett, Fronäckerhaus, Fronäckerstr. 4, großer Raum, Fronäckerstr. 4, 75382 Althengstett
END:VEVENT
BEGIN:VEVENT
DTSTAMP:20260420T214344
DTSTART;TZID=Europe/Berlin:20260624T184500
DTEND;TZID=Europe/Berlin:20260624T193000
UID:XAH30106-20260624T184500@VHSCALW
SUMMARY:Stretch & Relax Dehnen und Entspannen (XAH30106) 
LOCATION:Althengstett, Fronäckerhaus, Fronäckerstr. 4, großer Raum, Fronäckerstr. 4, 75382 Althengstett
END:VEVENT
BEGIN:VEVENT
DTSTAMP:20260420T214344
DTSTART;TZID=Europe/Berlin:20260701T184500
DTEND;TZID=Europe/Berlin:20260701T193000
UID:XAH30106-20260701T184500@VHSCALW
SUMMARY:Stretch & Relax Dehnen und Entspannen (XAH30106) 
LOCATION:Althengstett, Fronäckerhaus, Fronäckerstr. 4, großer Raum, Fronäckerstr. 4, 75382 Althengstett
END:VEVENT
BEGIN:VEVENT
DTSTAMP:20260420T214344
DTSTART;TZID=Europe/Berlin:20260708T184500
DTEND;TZID=Europe/Berlin:20260708T193000
UID:XAH30106-20260708T184500@VHSCALW
SUMMARY:Stretch & Relax Dehnen und Entspannen (XAH30106) 
LOCATION:Althengstett, Fronäckerhaus, Fronäckerstr. 4, großer Raum, Fronäckerstr. 4, 75382 Althengstett
END:VEVENT
END:VCALENDAR