BEGIN:VCALENDAR
VERSION:2.0
PRODID:https://www.kufer.de/kuferweb / DE
METHOD:PUBLISH
CALSCALE:GREGORIAN
X-WR-TIMEZONE:Europe/Berlin
BEGIN:VTIMEZONE
TZID:Europe/Berlin
X-LIC-LOCATION:Europe/Berlin
BEGIN:DAYLIGHT
TZOFFSETFROM:+0100
TZOFFSETTO:+0200
TZNAME:CEST
DTSTART:19700329T020000
RRULE:FREQ=YEARLY;INTERVAL=1;BYDAY=-1SU;BYMONTH=3
END:DAYLIGHT
BEGIN:STANDARD
TZOFFSETFROM:+0200
TZOFFSETTO:+0100
TZNAME:CET
DTSTART:19701025T030000
RRULE:FREQ=YEARLY;INTERVAL=1;BYDAY=-1SU;BYMONTH=10
END:STANDARD
END:VTIMEZONE
BEGIN:VEVENT
DTSTAMP:20260421T153744
DTSTART;TZID=Europe/Berlin:20260308T113000
DTEND;TZID=Europe/Berlin:20260308T130000
UID:XAH10150-20260308T113000@VHSCALW
SUMMARY:Heldinnen der Résistance: Paris 1940-1945 (XAH10150) 
LOCATION:Neuhengstett, Ortsverwaltung, Sitzungssaal 1. Stock, Möttlinger Str. 4, 75382 Althengstett
END:VEVENT
END:VCALENDAR